BEGIN:VCALENDAR
PRODID:-//Ben Fortuna//iCal4j 0.9.20//ES
VERSION:2.0
CALSCALE:GREGORIAN
BEGIN:VEVENT
DTSTAMP:20260420T163948Z
DTSTART:20110202T150700
DTEND:20110202T150700
SUMMARY:Conferencias de Erik Dietzenbacher
TZID:Europe/Madrid
UID:ae8bbeb4-2d42-11e0-bad7-3fe5a96f4a88
URL:http://www.upo.es/portal/impe/web/contenido/ae8bbeb4-2d42-11e0-bad7-3fe5a96f4a88
LOCATION:Sala de Grados de la Biblioteca. UPO
END:VEVENT
END:VCALENDAR
