BEGIN:VCALENDAR
PRODID:-//Ben Fortuna//iCal4j 0.9.20//ES
VERSION:2.0
CALSCALE:GREGORIAN
BEGIN:VEVENT
DTSTAMP:20260425T001736Z
DTSTART:20110121T091700
DTEND:20110121T091700
SUMMARY:El impacto de la urbanización costera
TZID:Europe/Madrid
UID:4db4fc25-23a4-11e0-9642-3fe5a96f4a88
URL:http://www.upo.es/portal/impe/web/contenido/4db4fc25-23a4-11e0-9642-3fe5a96f4a88
LOCATION:Edificio 29\, Aula B06
END:VEVENT
END:VCALENDAR
