BEGIN:VCALENDAR
PRODID:-//Ben Fortuna//iCal4j 0.9.20//ES
VERSION:2.0
CALSCALE:GREGORIAN
BEGIN:VEVENT
DTSTAMP:20260424T182356Z
DTSTART:20110125T153600
DTEND:20110125T153600
SUMMARY:Bienvenida a los estudiantes del Programa de Estudios Hispánicos
TZID:Europe/Madrid
UID:06929649-27c7-11e0-bad7-3fe5a96f4a88
URL:http://www.upo.es/portal/impe/web/contenido/06929649-27c7-11e0-bad7-3fe5a96f4a88
LOCATION:Paraninfo. UPO
END:VEVENT
END:VCALENDAR
