BEGIN:VCALENDAR
PRODID:-//Ben Fortuna//iCal4j 0.9.20//ES
VERSION:2.0
CALSCALE:GREGORIAN
BEGIN:VEVENT
DTSTAMP:20260424T195526Z
DTSTART:20110126T133100
DTEND:20110126T133100
SUMMARY:State Corporatism and Democratic Industrial Relations in Spain
TZID:Europe/Madrid
UID:16987816-255a-11e0-9642-3fe5a96f4a88
URL:http://www.upo.es/portal/impe/web/contenido/16987816-255a-11e0-9642-3fe5a96f4a88
LOCATION:Sala de Juntas 1\, Edificio 3. UPO
END:VEVENT
BEGIN:VEVENT
DTSTAMP:20260424T195526Z
DTSTART:20110126T092300
DTEND:20110128T092300
SUMMARY:Cong. Patrimonio Cultural y Natural
TZID:Europe/Madrid
UID:a3582969-08ed-11e0-b0d4-3fe5a96f4a88
URL:http://www.upo.es/portal/impe/web/contenido/a3582969-08ed-11e0-b0d4-3fe5a96f4a88
LOCATION:Universidad de Jaén
END:VEVENT
END:VCALENDAR
