BEGIN:VCALENDAR
PRODID:-//Ben Fortuna//iCal4j 0.9.20//ES
VERSION:2.0
CALSCALE:GREGORIAN
BEGIN:VEVENT
DTSTAMP:20260420T103225Z
DTSTART:20110203T090400
DTEND:20110203T090400
SUMMARY:Mesa Redonda: "Tendencias actuales en la identificación de individuos"
TZID:Europe/Madrid
UID:7030ca16-2ea2-11e0-bad7-3fe5a96f4a88
URL:http://www.upo.es/portal/impe/web/contenido/7030ca16-2ea2-11e0-bad7-3fe5a96f4a88
LOCATION:Sala de Grados. Edificio 6. UPO
END:VEVENT
END:VCALENDAR
