BEGIN:VCALENDAR
PRODID:-//Ben Fortuna//iCal4j 0.9.20//ES
VERSION:2.0
CALSCALE:GREGORIAN
BEGIN:VEVENT
DTSTAMP:20260424T161239Z
DTSTART:20260427T120000
DTEND:20260427T130000
SUMMARY:IV Ciclo de Conferencias Rosario Valpuesta: Investigaciones feministas desde la práctica reflexiva
TZID:Europe/Madrid
UID:153227
URL:http://www.upo.es/portal/impe/web/contenido/153227
LOCATION:Universidad Pablo de Olavide\, Carretera de Utrera\, Sevilla\, España
END:VEVENT
END:VCALENDAR
