BEGIN:VCALENDAR
PRODID:-//Ben Fortuna//iCal4j 0.9.20//ES
VERSION:2.0
CALSCALE:GREGORIAN
BEGIN:VEVENT
DTSTAMP:20260424T103200Z
DTSTART:20131104T093000
DTEND:20131117T140000
SUMMARY:Semana de la Ciencia
TZID:Europe/Madrid
UID:c805578c-325c-11e3-8870-3fe5a96f4a88
URL:http://www.upo.es/portal/impe/web/contenido/c805578c-325c-11e3-8870-3fe5a96f4a88
LOCATION:Campus de la UPO
END:VEVENT
BEGIN:VEVENT
DTSTAMP:20260424T103200Z
DTSTART:20131113T203000
DTEND:20131113T220000
SUMMARY:&#8220\;Sed: Habitando la memoria&#8221\; en la UJA
TZID:Europe/Madrid
UID:32af042c-4bae-11e3-af08-3fe5a96f4a88
URL:http://www.upo.es/portal/impe/web/contenido/32af042c-4bae-11e3-af08-3fe5a96f4a88
LOCATION:Universidad de Jaén\, Aula Magna
END:VEVENT
BEGIN:VEVENT
DTSTAMP:20260424T103200Z
DTSTART:20131112T163000
DTEND:20131114T203000
SUMMARY:Curso de Bolsa y Mercados Financieros
TZID:Europe/Madrid
UID:0d4689da-46dd-11e3-af08-3fe5a96f4a88
URL:http://www.upo.es/portal/impe/web/contenido/0d4689da-46dd-11e3-af08-3fe5a96f4a88
LOCATION:Edificio 7\, sala de grados
END:VEVENT
BEGIN:VEVENT
DTSTAMP:20260424T103200Z
DTSTART:20131113T120000
DTEND:20131113T133000
SUMMARY:Sistema electoral y calidad de la democracia
TZID:Europe/Madrid
UID:31120ffe-4b79-11e3-af08-3fe5a96f4a88
URL:http://www.upo.es/portal/impe/web/contenido/31120ffe-4b79-11e3-af08-3fe5a96f4a88
LOCATION:Edificio 3\, aula 2
END:VEVENT
BEGIN:VEVENT
DTSTAMP:20260424T103200Z
DTSTART:20131113T133000
DTEND:20131113T143000
SUMMARY:Presentación del libro 'Calidad y Democracia'
TZID:Europe/Madrid
UID:1ab903d8-4b7b-11e3-af08-3fe5a96f4a88
URL:http://www.upo.es/portal/impe/web/contenido/1ab903d8-4b7b-11e3-af08-3fe5a96f4a88
LOCATION:Edificio 44. primera planta
END:VEVENT
BEGIN:VEVENT
DTSTAMP:20260424T103200Z
DTSTART:20131113T110000
DTEND:20131113T130000
SUMMARY:Día de la Lengua Italiana en el Festival de Cine Europeo de Sevilla
TZID:Europe/Madrid
UID:7d4f82ec-4b95-11e3-af08-3fe5a96f4a88
URL:http://www.upo.es/portal/impe/web/contenido/7d4f82ec-4b95-11e3-af08-3fe5a96f4a88
LOCATION:Cine Alameda
END:VEVENT
BEGIN:VEVENT
DTSTAMP:20260424T103200Z
DTSTART:20131113T180000
DTEND:20131113T193000
SUMMARY:'È Salvo il cinema italiano?'
TZID:Europe/Madrid
UID:7c6ed514-4b97-11e3-af08-3fe5a96f4a88
URL:http://www.upo.es/portal/impe/web/contenido/7c6ed514-4b97-11e3-af08-3fe5a96f4a88
LOCATION:Rectorado 'Rosario Valpuesta'\, sala de prensa
END:VEVENT
END:VCALENDAR
