BEGIN:VCALENDAR
PRODID:-//Ben Fortuna//iCal4j 0.9.20//ES
VERSION:2.0
CALSCALE:GREGORIAN
BEGIN:VEVENT
DTSTAMP:20260424T214813Z
DTSTART:20131104T093000
DTEND:20131117T140000
SUMMARY:Semana de la Ciencia
TZID:Europe/Madrid
UID:c805578c-325c-11e3-8870-3fe5a96f4a88
URL:http://www.upo.es/portal/impe/web/contenido/c805578c-325c-11e3-8870-3fe5a96f4a88
LOCATION:Campus de la UPO
END:VEVENT
BEGIN:VEVENT
DTSTAMP:20260424T214813Z
DTSTART:20131114T114800
DTEND:20131116T114800
SUMMARY:AL SUR DEL TEATRO
TZID:Europe/Madrid
UID:4cd92955-421a-11e3-8870-3fe5a96f4a88
URL:http://www.upo.es/portal/impe/web/contenido/4cd92955-421a-11e3-8870-3fe5a96f4a88
LOCATION:UPO / R.U. Flora Tristán
END:VEVENT
BEGIN:VEVENT
DTSTAMP:20260424T214813Z
DTSTART:20131115T163000
DTEND:20131115T203000
SUMMARY:Jornadas 'Reforma Penal y Perspectivas de Futuro'
TZID:Europe/Madrid
UID:0aba2ea5-3ca9-11e3-8870-3fe5a96f4a88
URL:http://www.upo.es/portal/impe/web/contenido/0aba2ea5-3ca9-11e3-8870-3fe5a96f4a88
LOCATION:Paraninfo
END:VEVENT
BEGIN:VEVENT
DTSTAMP:20260424T214813Z
DTSTART:20131115T103000
DTEND:20131115T120000
SUMMARY:Jornada 'Cloud Business'
TZID:Europe/Madrid
UID:ca3a1980-47b3-11e3-af08-3fe5a96f4a88
URL:http://www.upo.es/portal/impe/web/contenido/ca3a1980-47b3-11e3-af08-3fe5a96f4a88
LOCATION:Edificio Alexander Von Humboldt\, aula B11
END:VEVENT
BEGIN:VEVENT
DTSTAMP:20260424T214813Z
DTSTART:20131115T121500
DTEND:20131115T140000
SUMMARY:Taller 'Andalucía Emprende en la Nube'
TZID:Europe/Madrid
UID:ff15a2b2-47b4-11e3-af08-3fe5a96f4a88
URL:http://www.upo.es/portal/impe/web/contenido/ff15a2b2-47b4-11e3-af08-3fe5a96f4a88
LOCATION:Edif. Alexander von Humboldt\, aula B11
END:VEVENT
END:VCALENDAR
