BEGIN:VCALENDAR
PRODID:-//Ben Fortuna//iCal4j 0.9.20//ES
VERSION:2.0
CALSCALE:GREGORIAN
BEGIN:VEVENT
DTSTAMP:20260425T024942Z
DTSTART:20130915T120000
DTEND:20130915T133000
SUMMARY:Coro de la UPO
TZID:Europe/Madrid
UID:c43d0448-1565-11e3-8715-3fe5a96f4a88
URL:http://www.upo.es/portal/impe/web/contenido/c43d0448-1565-11e3-8715-3fe5a96f4a88
LOCATION:Parroquia del Cerro del Águila (C/ Nuestra Señora de los Dolores\, 46)
END:VEVENT
END:VCALENDAR
