BEGIN:VCALENDAR
PRODID:-//Ben Fortuna//iCal4j 0.9.20//ES
VERSION:2.0
CALSCALE:GREGORIAN
BEGIN:VEVENT
DTSTAMP:20260424T072401Z
DTSTART:20131014T093000
DTEND:20131016T140000
SUMMARY:Taller 'El cuento como herramienta pedagógica y social'
TZID:Europe/Madrid
UID:c47636e4-25d5-11e3-9cbd-3fe5a96f4a88
URL:http://www.upo.es/portal/impe/web/contenido/c47636e4-25d5-11e3-9cbd-3fe5a96f4a88
LOCATION:Sala de Teatro (edif. 42)
END:VEVENT
BEGIN:VEVENT
DTSTAMP:20260424T072401Z
DTSTART:20131015T140000
DTEND:20131015T200000
SUMMARY:Curso Acelerado de Gestión de Proyectos
TZID:Europe/Madrid
UID:12c2864e-34b5-11e3-8870-3fe5a96f4a88
URL:http://www.upo.es/portal/impe/web/contenido/12c2864e-34b5-11e3-8870-3fe5a96f4a88
LOCATION:Rectorado 'Rosario Valpuesta'
END:VEVENT
END:VCALENDAR
