BEGIN:VCALENDAR
PRODID:-//Ben Fortuna//iCal4j 0.9.20//ES
VERSION:2.0
CALSCALE:GREGORIAN
BEGIN:VEVENT
DTSTAMP:20260424T020617Z
DTSTART:20131014T093000
DTEND:20131016T140000
SUMMARY:Taller 'El cuento como herramienta pedagógica y social'
TZID:Europe/Madrid
UID:c47636e4-25d5-11e3-9cbd-3fe5a96f4a88
URL:http://www.upo.es/portal/impe/web/contenido/c47636e4-25d5-11e3-9cbd-3fe5a96f4a88
LOCATION:Sala de Teatro (edif. 42)
END:VEVENT
BEGIN:VEVENT
DTSTAMP:20260424T020617Z
DTSTART:20131016T123000
DTEND:20131016T140000
SUMMARY:'Aprender a componer'
TZID:Europe/Madrid
UID:43e94cb0-2f57-11e3-9cbd-3fe5a96f4a88
URL:http://www.upo.es/portal/impe/web/contenido/43e94cb0-2f57-11e3-9cbd-3fe5a96f4a88
LOCATION:Paraninfo
END:VEVENT
BEGIN:VEVENT
DTSTAMP:20260424T020617Z
DTSTART:20131016T140000
DTEND:20131016T153000
SUMMARY:'Contada'
TZID:Europe/Madrid
UID:7794d0ac-3594-11e3-8870-3fe5a96f4a88
URL:http://www.upo.es/portal/impe/web/contenido/7794d0ac-3594-11e3-8870-3fe5a96f4a88
LOCATION:Espacio Cultural 'Antigua Guardería'
END:VEVENT
END:VCALENDAR
