BEGIN:VCALENDAR
PRODID:-//Ben Fortuna//iCal4j 0.9.20//ES
VERSION:2.0
CALSCALE:GREGORIAN
BEGIN:VEVENT
DTSTAMP:20260424T020608Z
DTSTART:20131018T110000
DTEND:20131018T120000
SUMMARY:'El perfil del poder. Radiografía de los parlamentarios andaluces'
TZID:Europe/Madrid
UID:2c78240a-359f-11e3-8870-3fe5a96f4a88
URL:http://www.upo.es/portal/impe/web/contenido/2c78240a-359f-11e3-8870-3fe5a96f4a88
LOCATION:Rectorado\, sala de prensa
END:VEVENT
BEGIN:VEVENT
DTSTAMP:20260424T020608Z
DTSTART:20131018T120000
DTEND:20131018T130000
SUMMARY:Presentación del curso 'Derecho de Familia y Sucesiones'
TZID:Europe/Madrid
UID:c1221b6c-3653-11e3-8870-3fe5a96f4a88
URL:http://www.upo.es/portal/impe/web/contenido/c1221b6c-3653-11e3-8870-3fe5a96f4a88
LOCATION:Edificio 7\, sala de grados
END:VEVENT
END:VCALENDAR
