BEGIN:VCALENDAR
PRODID:-//Ben Fortuna//iCal4j 0.9.20//ES
VERSION:2.0
CALSCALE:GREGORIAN
BEGIN:VEVENT
DTSTAMP:20260424T122322Z
DTSTART:20131118T100000
DTEND:20131120T200000
SUMMARY:XXI Campaña Universitaria de Donación de Sangre
TZID:Europe/Madrid
UID:3f6b2ebf-31b4-11e3-995a-3fe5a96f4a88
URL:http://www.upo.es/portal/impe/web/contenido/3f6b2ebf-31b4-11e3-995a-3fe5a96f4a88
LOCATION:Rectorado\, planta baja
END:VEVENT
BEGIN:VEVENT
DTSTAMP:20260424T122322Z
DTSTART:20131119T183000
DTEND:20131119T155600
SUMMARY:'Cantaores de Alcalá de Guadaíra'
TZID:Europe/Madrid
UID:373be87e-4e06-11e3-af08-3fe5a96f4a88
URL:http://www.upo.es/portal/impe/web/contenido/373be87e-4e06-11e3-af08-3fe5a96f4a88
LOCATION:Espacio Cultural Antigua Guardería
END:VEVENT
END:VCALENDAR
