BEGIN:VCALENDAR
PRODID:-//Ben Fortuna//iCal4j 0.9.20//ES
VERSION:2.0
CALSCALE:GREGORIAN
BEGIN:VEVENT
DTSTAMP:20260424T233135Z
DTSTART:20131122T161100
DTEND:20131122T161100
SUMMARY:Ciclo 'El mundo editorial III: Traducir en crisis'
TZID:Europe/Madrid
UID:5fd29db8-4e08-11e3-af08-3fe5a96f4a88
URL:http://www.upo.es/portal/impe/web/contenido/5fd29db8-4e08-11e3-af08-3fe5a96f4a88
LOCATION:Edificio 7\, sala de grados
END:VEVENT
BEGIN:VEVENT
DTSTAMP:20260424T233135Z
DTSTART:20131122T163000
DTEND:20131122T183000
SUMMARY:Seminario "La gestión empresarial de los despachos de abogados"
TZID:Europe/Madrid
UID:e705e108-51d6-11e3-af08-3fe5a96f4a88
URL:http://www.upo.es/portal/impe/web/contenido/e705e108-51d6-11e3-af08-3fe5a96f4a88
LOCATION:Edificio 6. Seminario 1
END:VEVENT
BEGIN:VEVENT
DTSTAMP:20260424T233135Z
DTSTART:20131122T190000
DTEND:20131122T210000
SUMMARY:Seminario "La atención al cliente en los despachos de abogados"
TZID:Europe/Madrid
UID:c7bfa150-51d7-11e3-af08-3fe5a96f4a88
URL:http://www.upo.es/portal/impe/web/contenido/c7bfa150-51d7-11e3-af08-3fe5a96f4a88
LOCATION:Edificio 6. Seminario 1
END:VEVENT
BEGIN:VEVENT
DTSTAMP:20260424T233135Z
DTSTART:20131122T123000
DTEND:20131122T140000
SUMMARY:Premios de Bachillerato 2012-2013 & Premio de Ensayo Pablo de Olavide
TZID:Europe/Madrid
UID:6e36f55e-51db-11e3-af08-3fe5a96f4a88
URL:http://www.upo.es/portal/impe/web/contenido/6e36f55e-51db-11e3-af08-3fe5a96f4a88
LOCATION:Paraninfo
END:VEVENT
END:VCALENDAR
