BEGIN:VCALENDAR
PRODID:-//Ben Fortuna//iCal4j 0.9.20//ES
VERSION:2.0
CALSCALE:GREGORIAN
BEGIN:VEVENT
DTSTAMP:20260426T020418Z
DTSTART:20130724T000100
DTEND:20130724T180000
SUMMARY:Preinscripción Fase I: Segunda Adjudicación
TZID:Europe/Madrid
UID:327944e3-e7ae-11e2-9bc8-3fe5a96f4a88
URL:http://www.upo.es/portal/impe/web/contenido/327944e3-e7ae-11e2-9bc8-3fe5a96f4a88
LOCATION:Distrito Único Andaluz
END:VEVENT
END:VCALENDAR
