BEGIN:VCALENDAR
PRODID:-//Ben Fortuna//iCal4j 0.9.20//ES
VERSION:2.0
CALSCALE:GREGORIAN
BEGIN:VEVENT
DTSTAMP:20260425T143519Z
DTSTART:20130923T100000
DTEND:20130927T210000
SUMMARY:'El Pacífico\, 1513-2013'
TZID:Europe/Madrid
UID:e51a26d5-1ad1-11e3-aa2d-3fe5a96f4a88
URL:http://www.upo.es/portal/impe/web/contenido/e51a26d5-1ad1-11e3-aa2d-3fe5a96f4a88
LOCATION:Universidad de Sevilla
END:VEVENT
END:VCALENDAR
