BEGIN:VCALENDAR
PRODID:-//Ben Fortuna//iCal4j 0.9.20//ES
VERSION:2.0
CALSCALE:GREGORIAN
BEGIN:VEVENT
DTSTAMP:20260424T032116Z
DTSTART:20131023T170000
DTEND:20131026T130000
SUMMARY:El siglo XIV en primera persona. El rey don Pedro I (1350-1369)
TZID:Europe/Madrid
UID:825657c3-3bb6-11e3-8870-3fe5a96f4a88
URL:http://www.upo.es/portal/impe/web/contenido/825657c3-3bb6-11e3-8870-3fe5a96f4a88
LOCATION:US (Facultad de Geografía e Historia) y Olavide en Carmona
END:VEVENT
BEGIN:VEVENT
DTSTAMP:20260424T032116Z
DTSTART:20131024T170000
DTEND:20131024T190000
SUMMARY:Ciclo 'Cine y exclusión social': 'Solas'
TZID:Europe/Madrid
UID:c08dd5a7-31b1-11e3-995a-3fe5a96f4a88
URL:http://www.upo.es/portal/impe/web/contenido/c08dd5a7-31b1-11e3-995a-3fe5a96f4a88
LOCATION:Centro Cívico La Ranilla. Calle Mariano Benlliure\, s/n 
END:VEVENT
BEGIN:VEVENT
DTSTAMP:20260424T032116Z
DTSTART:20131024T093000
DTEND:20131025T140000
SUMMARY:Workshop 'Competencia fiscal y sistema tributario'
TZID:Europe/Madrid
UID:574da2e5-2b3a-11e3-9cbd-3fe5a96f4a88
URL:http://www.upo.es/portal/impe/web/contenido/574da2e5-2b3a-11e3-9cbd-3fe5a96f4a88
LOCATION:UPO
END:VEVENT
END:VCALENDAR
