BEGIN:VCALENDAR
PRODID:-//Ben Fortuna//iCal4j 0.9.20//ES
VERSION:2.0
CALSCALE:GREGORIAN
BEGIN:VEVENT
DTSTAMP:20260425T215809Z
DTSTART:20130726T110000
DTEND:20130726T120000
SUMMARY:Clausura Cursos de Verano
TZID:Europe/Madrid
UID:c800dda1-f2ad-11e2-9bc8-3fe5a96f4a88
URL:http://www.upo.es/portal/impe/web/contenido/c800dda1-f2ad-11e2-9bc8-3fe5a96f4a88
LOCATION:Sede de la Universidad Pablo de Olavide en Carmona. Palacio de los Briones\, C/ Ramón y Cajal\, 15
END:VEVENT
END:VCALENDAR
