BEGIN:VCALENDAR
PRODID:-//Ben Fortuna//iCal4j 0.9.20//ES
VERSION:2.0
CALSCALE:GREGORIAN
BEGIN:VEVENT
DTSTAMP:20260425T025014Z
DTSTART:20130923T100000
DTEND:20130927T210000
SUMMARY:'El Pacífico\, 1513-2013'
TZID:Europe/Madrid
UID:e51a26d5-1ad1-11e3-aa2d-3fe5a96f4a88
URL:http://www.upo.es/portal/impe/web/contenido/e51a26d5-1ad1-11e3-aa2d-3fe5a96f4a88
LOCATION:Universidad de Sevilla
END:VEVENT
BEGIN:VEVENT
DTSTAMP:20260425T025014Z
DTSTART:20130925T150000
DTEND:20130927T141500
SUMMARY:7th Accounting History Int. Conference
TZID:Europe/Madrid
UID:16fb25de-f8f5-11e2-9bc8-3fe5a96f4a88
URL:http://www.upo.es/portal/impe/web/contenido/16fb25de-f8f5-11e2-9bc8-3fe5a96f4a88
LOCATION:Edificio 45\, sala B11 
END:VEVENT
BEGIN:VEVENT
DTSTAMP:20260425T025014Z
DTSTART:20130927T123000
DTEND:20130927T143000
SUMMARY:Apertura del Curso Académico
TZID:Europe/Madrid
UID:1b19b0cf-1606-11e3-8715-3fe5a96f4a88
URL:http://www.upo.es/portal/impe/web/contenido/1b19b0cf-1606-11e3-8715-3fe5a96f4a88
LOCATION:Paraninfo
END:VEVENT
END:VCALENDAR
