BEGIN:VCALENDAR
PRODID:-//Ben Fortuna//iCal4j 0.9.20//ES
VERSION:2.0
CALSCALE:GREGORIAN
BEGIN:VEVENT
DTSTAMP:20260425T014943Z
DTSTART:20131001T100000
DTEND:20131003T150000
SUMMARY:Torneo de Bienvenida
TZID:Europe/Madrid
UID:4d550ee0-16f7-11e3-aa2d-3fe5a96f4a88
URL:http://www.upo.es/portal/impe/web/contenido/4d550ee0-16f7-11e3-aa2d-3fe5a96f4a88
LOCATION:Instalaciones Deportivas UPO
END:VEVENT
BEGIN:VEVENT
DTSTAMP:20260425T014943Z
DTSTART:20131003T103000
DTEND:20131003T143000
SUMMARY:Encuentro UPO-CTA
TZID:Europe/Madrid
UID:41184aa1-1f81-11e3-9cbd-3fe5a96f4a88
URL:http://www.upo.es/portal/impe/web/contenido/41184aa1-1f81-11e3-9cbd-3fe5a96f4a88
LOCATION:CABD\, salón de actos
END:VEVENT
BEGIN:VEVENT
DTSTAMP:20260425T014943Z
DTSTART:20131003T163000
DTEND:20131005T190000
SUMMARY:IV Congreso de Economía Feminista
TZID:Europe/Madrid
UID:658cd1db-2a98-11e3-9cbd-3fe5a96f4a88
URL:http://www.upo.es/portal/impe/web/contenido/658cd1db-2a98-11e3-9cbd-3fe5a96f4a88
LOCATION:Olavide en Carmona\, Palacio de los Briones
END:VEVENT
END:VCALENDAR
