BEGIN:VCALENDAR
PRODID:-//Ben Fortuna//iCal4j 0.9.20//ES
VERSION:2.0
CALSCALE:GREGORIAN
BEGIN:VEVENT
DTSTAMP:20260424T032305Z
DTSTART:20130930T093000
DTEND:20130930T143000
SUMMARY:FORO EUROPEO PERMANENTE
TZID:Europe/Madrid
UID:d53a0769-1f88-11e3-9cbd-3fe5a96f4a88
URL:http://www.upo.es/portal/impe/web/contenido/d53a0769-1f88-11e3-9cbd-3fe5a96f4a88
LOCATION:Edificio 45\, aula B11
END:VEVENT
END:VCALENDAR
