BEGIN:VCALENDAR
PRODID:-//Ben Fortuna//iCal4j 0.9.20//ES
VERSION:2.0
CALSCALE:GREGORIAN
BEGIN:VEVENT
DTSTAMP:20260424T032117Z
DTSTART:20131030T183000
DTEND:20131030T203000
SUMMARY:Conferencia sobre violencia de género
TZID:Europe/Madrid
UID:54450b1f-40a1-11e3-8870-3fe5a96f4a88
URL:http://www.upo.es/portal/impe/web/contenido/54450b1f-40a1-11e3-8870-3fe5a96f4a88
LOCATION:Centro Andaluz de Biología del Desarrollo (CABD)
END:VEVENT
BEGIN:VEVENT
DTSTAMP:20260424T032117Z
DTSTART:20131030T100000
DTEND:20131031T200000
SUMMARY:Género e Intertextualidad
TZID:Europe/Madrid
UID:16b521f4-cc22-11e2-9216-3fe5a96f4a88
URL:http://www.upo.es/portal/impe/web/contenido/16b521f4-cc22-11e2-9216-3fe5a96f4a88
LOCATION:Sala de Grados del Edificio 7. UPO
END:VEVENT
END:VCALENDAR
