BEGIN:VCALENDAR
PRODID:-//Ben Fortuna//iCal4j 0.9.20//ES
VERSION:2.0
CALSCALE:GREGORIAN
BEGIN:VEVENT
DTSTAMP:20260424T020609Z
DTSTART:20131205T093000
DTEND:20131205T143000
SUMMARY:Acciones Marie Sklodowska-Curie (MSCA)
TZID:Europe/Madrid
UID:57e3a6de-51be-11e3-af08-3fe5a96f4a88
URL:http://www.upo.es/portal/impe/web/contenido/57e3a6de-51be-11e3-af08-3fe5a96f4a88
LOCATION:Biblioteca\, sala de grados
END:VEVENT
BEGIN:VEVENT
DTSTAMP:20260424T020609Z
DTSTART:20131205T102500
DTEND:20131205T102500
SUMMARY:Reanimación Cardiopulmonar Básica
TZID:Europe/Madrid
UID:4f3fc668-580f-11e3-8bc2-3fe5a96f4a88
URL:http://www.upo.es/portal/impe/web/contenido/4f3fc668-580f-11e3-8bc2-3fe5a96f4a88
LOCATION:Pabellón de Deportes nº 38
END:VEVENT
BEGIN:VEVENT
DTSTAMP:20260424T020609Z
DTSTART:20131205T103000
DTEND:20131205T180000
SUMMARY:Celebración del Día Internacional del Voluntariado
TZID:Europe/Madrid
UID:7d2179c2-5cc7-11e3-8bc2-3fe5a96f4a88
URL:http://www.upo.es/portal/impe/web/contenido/7d2179c2-5cc7-11e3-8bc2-3fe5a96f4a88
LOCATION:UPO
END:VEVENT
BEGIN:VEVENT
DTSTAMP:20260424T020609Z
DTSTART:20131205T103000
DTEND:20131205T191500
SUMMARY:'Lo judío en los medios de comunicación en España'
TZID:Europe/Madrid
UID:a7735565-5ce0-11e3-8bc2-3fe5a96f4a88
URL:http://www.upo.es/portal/impe/web/contenido/a7735565-5ce0-11e3-8bc2-3fe5a96f4a88
LOCATION:Edificio 7\, sala de grados
END:VEVENT
END:VCALENDAR
