BEGIN:VCALENDAR
PRODID:-//Ben Fortuna//iCal4j 0.9.20//ES
VERSION:2.0
CALSCALE:GREGORIAN
BEGIN:VEVENT
DTSTAMP:20260423T162739Z
DTSTART:20131202T180000
DTEND:20131202T193000
SUMMARY:El nuevo orden geopolítico y económico mundial
TZID:Europe/Madrid
UID:36b85b3d-55e5-11e3-9429-3fe5a96f4a88
URL:http://www.upo.es/portal/impe/web/contenido/36b85b3d-55e5-11e3-9429-3fe5a96f4a88
LOCATION:Biblioteca\, sala de grados
END:VEVENT
BEGIN:VEVENT
DTSTAMP:20260423T162739Z
DTSTART:20131202T090000
DTEND:20131202T140000
SUMMARY:The Spanish Agro-Food System: historical evolution\, main drivers and alternative scenarios
TZID:Europe/Madrid
UID:75bd3c84-582f-11e3-8bc2-3fe5a96f4a88
URL:http://www.upo.es/portal/impe/web/contenido/75bd3c84-582f-11e3-8bc2-3fe5a96f4a88
LOCATION:Edificio Alexander Von Humboldt
END:VEVENT
BEGIN:VEVENT
DTSTAMP:20260423T162739Z
DTSTART:20131203T100000
DTEND:20131204T130000
SUMMARY:Recogida de alimentos - Banco de Alimentos de Sevilla
TZID:Europe/Madrid
UID:2560af58-582e-11e3-8bc2-3fe5a96f4a88
URL:http://www.upo.es/portal/impe/web/contenido/2560af58-582e-11e3-8bc2-3fe5a96f4a88
LOCATION:Plaza de América y edificio Celestino Mutis
END:VEVENT
BEGIN:VEVENT
DTSTAMP:20260423T162739Z
DTSTART:20131204T120000
DTEND:20131204T180000
SUMMARY:Elecciones a órganos colegiados
TZID:Europe/Madrid
UID:fe0682e7-4df6-11e3-af08-3fe5a96f4a88
URL:http://www.upo.es/portal/impe/web/contenido/fe0682e7-4df6-11e3-af08-3fe5a96f4a88
LOCATION:Rectorado\, planta baja
END:VEVENT
BEGIN:VEVENT
DTSTAMP:20260423T162739Z
DTSTART:20131204T163000
DTEND:20131204T180000
SUMMARY:&#8220\;La educación en tiempos de crisis: algo está cambiando&#8221\;
TZID:Europe/Madrid
UID:1b00d6dd-5c22-11e3-8bc2-3fe5a96f4a88
URL:http://www.upo.es/portal/impe/web/contenido/1b00d6dd-5c22-11e3-8bc2-3fe5a96f4a88
LOCATION:Edificio Alexander von Humboldt\, aula B.04
END:VEVENT
BEGIN:VEVENT
DTSTAMP:20260423T162739Z
DTSTART:20131212T100000
DTEND:20131212T200000
SUMMARY:Entérate SEVILLA 2013
TZID:Europe/Madrid
UID:cf311302-5cc1-11e3-8bc2-3fe5a96f4a88
URL:http://www.upo.es/portal/impe/web/contenido/cf311302-5cc1-11e3-8bc2-3fe5a96f4a88
LOCATION:Hotel NH Central Convenciones (Avda. Diego Martínez Barrio\, 8)
END:VEVENT
BEGIN:VEVENT
DTSTAMP:20260423T162739Z
DTSTART:20131204T150000
DTEND:20131204T173000
SUMMARY:Taller de habilidades para la excelencia: la entrevista de selección
TZID:Europe/Madrid
UID:0c360f61-5ccc-11e3-8bc2-3fe5a96f4a88
URL:http://www.upo.es/portal/impe/web/contenido/0c360f61-5ccc-11e3-8bc2-3fe5a96f4a88
LOCATION:Edificio 7\, sala de grados
END:VEVENT
BEGIN:VEVENT
DTSTAMP:20260423T162739Z
DTSTART:20131205T093000
DTEND:20131205T143000
SUMMARY:Acciones Marie Sklodowska-Curie (MSCA)
TZID:Europe/Madrid
UID:57e3a6de-51be-11e3-af08-3fe5a96f4a88
URL:http://www.upo.es/portal/impe/web/contenido/57e3a6de-51be-11e3-af08-3fe5a96f4a88
LOCATION:Biblioteca\, sala de grados
END:VEVENT
BEGIN:VEVENT
DTSTAMP:20260423T162739Z
DTSTART:20131205T102500
DTEND:20131205T102500
SUMMARY:Reanimación Cardiopulmonar Básica
TZID:Europe/Madrid
UID:4f3fc668-580f-11e3-8bc2-3fe5a96f4a88
URL:http://www.upo.es/portal/impe/web/contenido/4f3fc668-580f-11e3-8bc2-3fe5a96f4a88
LOCATION:Pabellón de Deportes nº 38
END:VEVENT
BEGIN:VEVENT
DTSTAMP:20260423T162739Z
DTSTART:20131205T103000
DTEND:20131205T180000
SUMMARY:Celebración del Día Internacional del Voluntariado
TZID:Europe/Madrid
UID:7d2179c2-5cc7-11e3-8bc2-3fe5a96f4a88
URL:http://www.upo.es/portal/impe/web/contenido/7d2179c2-5cc7-11e3-8bc2-3fe5a96f4a88
LOCATION:UPO
END:VEVENT
BEGIN:VEVENT
DTSTAMP:20260423T162739Z
DTSTART:20131205T103000
DTEND:20131205T191500
SUMMARY:'Lo judío en los medios de comunicación en España'
TZID:Europe/Madrid
UID:a7735565-5ce0-11e3-8bc2-3fe5a96f4a88
URL:http://www.upo.es/portal/impe/web/contenido/a7735565-5ce0-11e3-8bc2-3fe5a96f4a88
LOCATION:Edificio 7\, sala de grados
END:VEVENT
BEGIN:VEVENT
DTSTAMP:20260423T162739Z
DTSTART:20131211T170000
DTEND:20131212T140000
SUMMARY:Traducción de novela gráfica
TZID:Europe/Madrid
UID:91d184f6-51d8-11e3-af08-3fe5a96f4a88
URL:http://www.upo.es/portal/impe/web/contenido/91d184f6-51d8-11e3-af08-3fe5a96f4a88
LOCATION:Edificio Alexander von Humboldt\, aula B02
END:VEVENT
BEGIN:VEVENT
DTSTAMP:20260423T162739Z
DTSTART:20131212T101500
DTEND:20131212T134500
SUMMARY:Jornadas sobre las relaciones mediación y proceso
TZID:Europe/Madrid
UID:5e5852b1-624c-11e3-87d5-3fe5a96f4a88
URL:http://www.upo.es/portal/impe/web/contenido/5e5852b1-624c-11e3-87d5-3fe5a96f4a88
LOCATION:Edificio 6\, sala de grados
END:VEVENT
BEGIN:VEVENT
DTSTAMP:20260423T162739Z
DTSTART:20131212T090000
DTEND:20131213T184500
SUMMARY:'Políticas lingüísticas en democracias multilingües'
TZID:Europe/Madrid
UID:51620b83-55dd-11e3-9429-3fe5a96f4a88
URL:http://www.upo.es/portal/impe/web/contenido/51620b83-55dd-11e3-9429-3fe5a96f4a88
LOCATION:Campus de la UPO (ver programa)
END:VEVENT
BEGIN:VEVENT
DTSTAMP:20260423T162739Z
DTSTART:20131212T170000
DTEND:20131213T140000
SUMMARY:VIII Reunión Científica de Especialistas en Seguridad Social
TZID:Europe/Madrid
UID:ec58d71b-6244-11e3-87d5-3fe5a96f4a88
URL:http://www.upo.es/portal/impe/web/contenido/ec58d71b-6244-11e3-87d5-3fe5a96f4a88
LOCATION:Sede Universitaria 'Olavide en Carmona'
END:VEVENT
BEGIN:VEVENT
DTSTAMP:20260423T162739Z
DTSTART:20131212T093000
DTEND:20131213T210000
SUMMARY:Restricción de contenidos y censura en Internet
TZID:Europe/Madrid
UID:bb21c4ec-6268-11e3-87d5-3fe5a96f4a88
URL:http://www.upo.es/portal/impe/web/contenido/bb21c4ec-6268-11e3-87d5-3fe5a96f4a88
LOCATION:Edificio 44\, primera planta
END:VEVENT
BEGIN:VEVENT
DTSTAMP:20260423T162739Z
DTSTART:20131212T093000
DTEND:20131213T200000
SUMMARY:Repúblicas y republicanismo en la Edad Moderna (siglos XVI-XVIII)
TZID:Europe/Madrid
UID:8f503aa3-6242-11e3-87d5-3fe5a96f4a88
URL:http://www.upo.es/portal/impe/web/contenido/8f503aa3-6242-11e3-87d5-3fe5a96f4a88
LOCATION:Edificio 7\, sala de grados / Escuela de Estudios Hispano-Americanos
END:VEVENT
BEGIN:VEVENT
DTSTAMP:20260423T162739Z
DTSTART:20131212T173000
DTEND:20131212T190000
SUMMARY:Cómo llevar a cabo una implantación de la LOPD
TZID:Europe/Madrid
UID:54023b98-6268-11e3-87d5-3fe5a96f4a88
URL:http://www.upo.es/portal/impe/web/contenido/54023b98-6268-11e3-87d5-3fe5a96f4a88
LOCATION:Edificio 6\, Sala de Grados
END:VEVENT
BEGIN:VEVENT
DTSTAMP:20260423T162739Z
DTSTART:20131213T130000
DTEND:20131213T143000
SUMMARY:Seminario sobre Género y Estudios Culturales: conferencia de Jean-Louis Guereña
TZID:Europe/Madrid
UID:67a13687-6249-11e3-87d5-3fe5a96f4a88
URL:http://www.upo.es/portal/impe/web/contenido/67a13687-6249-11e3-87d5-3fe5a96f4a88
LOCATION:Edificio 6\, sala de grados
END:VEVENT
BEGIN:VEVENT
DTSTAMP:20260423T162739Z
DTSTART:20131214T080000
DTEND:20131214T190000
SUMMARY:Reforestación participativa en la ribera del Benalíjar
TZID:Europe/Madrid
UID:2be0837f-5cca-11e3-8bc2-3fe5a96f4a88
URL:http://www.upo.es/portal/impe/web/contenido/2be0837f-5cca-11e3-8bc2-3fe5a96f4a88
LOCATION:Alanís de la Sierra
END:VEVENT
BEGIN:VEVENT
DTSTAMP:20260423T162739Z
DTSTART:20131217T200000
DTEND:20131217T213000
SUMMARY:Coro de la UPO: Concierto de Navidad
TZID:Europe/Madrid
UID:9078d0bd-5d8f-11e3-8bc2-3fe5a96f4a88
URL:http://www.upo.es/portal/impe/web/contenido/9078d0bd-5d8f-11e3-8bc2-3fe5a96f4a88
LOCATION:Auditorio de Capitanía General (Avda. Portugal\, s/n. Sevilla)
END:VEVENT
BEGIN:VEVENT
DTSTAMP:20260423T162739Z
DTSTART:20131217T190000
DTEND:20131217T204500
SUMMARY:Ciclo Cine y Flamenco: primera sesión
TZID:Europe/Madrid
UID:48f8da4a-633d-11e3-87d5-3fe5a96f4a88
URL:http://www.upo.es/portal/impe/web/contenido/48f8da4a-633d-11e3-87d5-3fe5a96f4a88
LOCATION:Espacio cultural 'Antigua Guardería'
END:VEVENT
BEGIN:VEVENT
DTSTAMP:20260423T162739Z
DTSTART:20131218T113000
DTEND:20131218T130000
SUMMARY:"La generalización del Derecho de contratos"
TZID:Europe/Madrid
UID:d434fd8c-5cc2-11e3-8bc2-3fe5a96f4a88
URL:http://www.upo.es/portal/impe/web/contenido/d434fd8c-5cc2-11e3-8bc2-3fe5a96f4a88
LOCATION:Edificio 7\, sala de grados 
END:VEVENT
BEGIN:VEVENT
DTSTAMP:20260423T162739Z
DTSTART:20131218T170000
DTEND:20131218T180000
SUMMARY:Entrega de regalos a personas mayores hospitalizadas en el H.U. Virgen del Rocío
TZID:Europe/Madrid
UID:95192aa8-662e-11e3-87d5-3fe5a96f4a88
URL:http://www.upo.es/portal/impe/web/contenido/95192aa8-662e-11e3-87d5-3fe5a96f4a88
LOCATION:H.U. Virgen del Rocío
END:VEVENT
BEGIN:VEVENT
DTSTAMP:20260423T162739Z
DTSTART:20131218T123000
DTEND:20131218T140000
SUMMARY:'Transcriptional Precision in the Drosophila Embryo and Evolutionary Origins of Cranial Placodes in the Ciona Tadpole'
TZID:Europe/Madrid
UID:1c083577-6655-11e3-87d5-3fe5a96f4a88
URL:http://www.upo.es/portal/impe/web/contenido/1c083577-6655-11e3-87d5-3fe5a96f4a88
LOCATION:CABD\, salón de actos
END:VEVENT
BEGIN:VEVENT
DTSTAMP:20260423T162739Z
DTSTART:20131218T163000
DTEND:20131218T150800
SUMMARY:Democracia en tiempo de crisis
TZID:Europe/Madrid
UID:e2aec0a7-665a-11e3-87d5-3fe5a96f4a88
URL:http://www.upo.es/portal/impe/web/contenido/e2aec0a7-665a-11e3-87d5-3fe5a96f4a88
LOCATION:Edificio 'Alexander von Humboldt'\, aula B.04
END:VEVENT
BEGIN:VEVENT
DTSTAMP:20260423T162739Z
DTSTART:20131219T163000
DTEND:20131219T180000
SUMMARY:Funcionamiento de las Mesas de Contratación en un entorno digital
TZID:Europe/Madrid
UID:40890a13-670f-11e3-87d5-3fe5a96f4a88
URL:http://www.upo.es/portal/impe/web/contenido/40890a13-670f-11e3-87d5-3fe5a96f4a88
LOCATION:Edificio 6\, sala de grados
END:VEVENT
BEGIN:VEVENT
DTSTAMP:20260423T162739Z
DTSTART:20131223T110000
DTEND:20131223T120000
SUMMARY:Convenio UPO-Diputación de Sevilla
TZID:Europe/Madrid
UID:34b39ab4-6976-11e3-bb2f-3fe5a96f4a88
URL:http://www.upo.es/portal/impe/web/contenido/34b39ab4-6976-11e3-bb2f-3fe5a96f4a88
LOCATION:Sede de la Diputación Provincial. Avda. Menéndez y Pelayo\, 32
END:VEVENT
BEGIN:VEVENT
DTSTAMP:20260423T162739Z
DTSTART:20131216T120000
DTEND:20131216T133000
SUMMARY:"El legado del padre: masculinidad y autobiografía en Cataluña desde 1975"
TZID:Europe/Madrid
UID:21fbd6c4-6631-11e3-87d5-3fe5a96f4a88
URL:http://www.upo.es/portal/impe/web/contenido/21fbd6c4-6631-11e3-87d5-3fe5a96f4a88
LOCATION:Edificio 7\, sala de juntas
END:VEVENT
END:VCALENDAR
