BEGIN:VCALENDAR
PRODID:-//Ben Fortuna//iCal4j 0.9.20//ES
VERSION:2.0
CALSCALE:GREGORIAN
BEGIN:VEVENT
DTSTAMP:20260424T221033Z
DTSTART:20130903T000100
DTEND:20130903T180000
SUMMARY:Preinscripción Fase I: Tercera Adjudicación
TZID:Europe/Madrid
UID:daec966b-e7ae-11e2-9bc8-3fe5a96f4a88
URL:http://www.upo.es/portal/impe/web/contenido/daec966b-e7ae-11e2-9bc8-3fe5a96f4a88
LOCATION:Distrito Único Andaluz
END:VEVENT
BEGIN:VEVENT
DTSTAMP:20260424T221033Z
DTSTART:20130909T000100
DTEND:20130909T180000
SUMMARY:Preinscripción Fase I: Cuarta Adjudicación
TZID:Europe/Madrid
UID:5208af15-e7af-11e2-9bc8-3fe5a96f4a88
URL:http://www.upo.es/portal/impe/web/contenido/5208af15-e7af-11e2-9bc8-3fe5a96f4a88
LOCATION:Distrito Único Andaluz
END:VEVENT
BEGIN:VEVENT
DTSTAMP:20260424T221033Z
DTSTART:20130909T100000
DTEND:20130909T120000
SUMMARY:Bienvenida ERASMUS
TZID:Europe/Madrid
UID:e649e342-1630-11e3-8715-3fe5a96f4a88
URL:http://www.upo.es/portal/impe/web/contenido/e649e342-1630-11e3-8715-3fe5a96f4a88
LOCATION:Edificio 7\, sala de grados
END:VEVENT
BEGIN:VEVENT
DTSTAMP:20260424T221033Z
DTSTART:20130909T084500
DTEND:20130911T150000
SUMMARY:IBER 2013
TZID:Europe/Madrid
UID:a41c8e19-16f5-11e3-aa2d-3fe5a96f4a88
URL:http://www.upo.es/portal/impe/web/contenido/a41c8e19-16f5-11e3-aa2d-3fe5a96f4a88
LOCATION:Paraninfo
END:VEVENT
BEGIN:VEVENT
DTSTAMP:20260424T221033Z
DTSTART:20130910T173000
DTEND:20130910T190000
SUMMARY:Bienvenida a los estudiantes extranjeros del CUI
TZID:Europe/Madrid
UID:70a4bdee-1631-11e3-8715-3fe5a96f4a88
URL:http://www.upo.es/portal/impe/web/contenido/70a4bdee-1631-11e3-8715-3fe5a96f4a88
LOCATION:Paraninfo UPO
END:VEVENT
BEGIN:VEVENT
DTSTAMP:20260424T221033Z
DTSTART:20130913T093000
DTEND:20130913T143000
SUMMARY:VIII Congreso FAGE
TZID:Europe/Madrid
UID:6ce684e6-16f2-11e3-aa2d-3fe5a96f4a88
URL:http://www.upo.es/portal/impe/web/contenido/6ce684e6-16f2-11e3-aa2d-3fe5a96f4a88
LOCATION:UPO
END:VEVENT
BEGIN:VEVENT
DTSTAMP:20260424T221033Z
DTSTART:20130915T120000
DTEND:20130915T133000
SUMMARY:Coro de la UPO
TZID:Europe/Madrid
UID:c43d0448-1565-11e3-8715-3fe5a96f4a88
URL:http://www.upo.es/portal/impe/web/contenido/c43d0448-1565-11e3-8715-3fe5a96f4a88
LOCATION:Parroquia del Cerro del Águila (C/ Nuestra Señora de los Dolores\, 46)
END:VEVENT
BEGIN:VEVENT
DTSTAMP:20260424T221033Z
DTSTART:20130916T000100
DTEND:20130916T180000
SUMMARY:Preinscripción Fase I: Quinta y Última Adjudicación
TZID:Europe/Madrid
UID:ca94f98f-e7af-11e2-9bc8-3fe5a96f4a88
URL:http://www.upo.es/portal/impe/web/contenido/ca94f98f-e7af-11e2-9bc8-3fe5a96f4a88
LOCATION:Distrito Único Andaluz
END:VEVENT
BEGIN:VEVENT
DTSTAMP:20260424T221033Z
DTSTART:20130916T080000
DTEND:20130916T200000
SUMMARY:Inicio del curso 2013/14
TZID:Europe/Madrid
UID:0d46013f-f5ea-11e2-9bc8-3fe5a96f4a88
URL:http://www.upo.es/portal/impe/web/contenido/0d46013f-f5ea-11e2-9bc8-3fe5a96f4a88
LOCATION:UPO
END:VEVENT
BEGIN:VEVENT
DTSTAMP:20260424T221033Z
DTSTART:20130916T080000
DTEND:20130919T143000
SUMMARY:PAU conv. extraordinaria
TZID:Europe/Madrid
UID:325167b9-cc28-11e2-9216-3fe5a96f4a88
URL:http://www.upo.es/portal/impe/web/contenido/325167b9-cc28-11e2-9216-3fe5a96f4a88
LOCATION:UPO
END:VEVENT
BEGIN:VEVENT
DTSTAMP:20260424T221033Z
DTSTART:20130917T180000
DTEND:20130919T203000
SUMMARY:'Igualdad entre hombres y mujeres en la UE'
TZID:Europe/Madrid
UID:26b3b7be-1625-11e3-8715-3fe5a96f4a88
URL:http://www.upo.es/portal/impe/web/contenido/26b3b7be-1625-11e3-8715-3fe5a96f4a88
LOCATION:Sala Carreras. Marchena
END:VEVENT
BEGIN:VEVENT
DTSTAMP:20260424T221033Z
DTSTART:20130918T180000
DTEND:20130920T141500
SUMMARY:XI CONGRESO DE AECPA: La política en tiempos de incertidumbre
TZID:Europe/Madrid
UID:13fb73ae-84a6-11e2-9811-3fe5a96f4a88
URL:http://www.upo.es/portal/impe/web/contenido/13fb73ae-84a6-11e2-9811-3fe5a96f4a88
LOCATION:Paraninfo. UPO
END:VEVENT
BEGIN:VEVENT
DTSTAMP:20260424T221033Z
DTSTART:20130919T200000
DTEND:20130922T150000
SUMMARY:XXII Encuentro Asoc. A. Humboldt
TZID:Europe/Madrid
UID:64aa0e10-f8ed-11e2-9bc8-3fe5a96f4a88
URL:http://www.upo.es/portal/impe/web/contenido/64aa0e10-f8ed-11e2-9bc8-3fe5a96f4a88
LOCATION:Paraninfo y edificio 7. UPO
END:VEVENT
BEGIN:VEVENT
DTSTAMP:20260424T221033Z
DTSTART:20130920T160000
DTEND:20130920T203000
SUMMARY:I Jornada 'Ingenieros en la UPO'
TZID:Europe/Madrid
UID:61a68c63-f90a-11e2-9bc8-3fe5a96f4a88
URL:http://www.upo.es/portal/impe/web/contenido/61a68c63-f90a-11e2-9bc8-3fe5a96f4a88
LOCATION:Paraninfo
END:VEVENT
BEGIN:VEVENT
DTSTAMP:20260424T221033Z
DTSTART:20130923T103000
DTEND:20130923T133300
SUMMARY:Máster en Asesoría y Defensa Jurídica
TZID:Europe/Madrid
UID:db0d233b-21e7-11e3-9cbd-3fe5a96f4a88
URL:http://www.upo.es/portal/impe/web/contenido/db0d233b-21e7-11e3-9cbd-3fe5a96f4a88
LOCATION:salón de grados del edificio 6
END:VEVENT
BEGIN:VEVENT
DTSTAMP:20260424T221033Z
DTSTART:20130923T100000
DTEND:20130927T210000
SUMMARY:'El Pacífico\, 1513-2013'
TZID:Europe/Madrid
UID:e51a26d5-1ad1-11e3-aa2d-3fe5a96f4a88
URL:http://www.upo.es/portal/impe/web/contenido/e51a26d5-1ad1-11e3-aa2d-3fe5a96f4a88
LOCATION:Universidad de Sevilla
END:VEVENT
BEGIN:VEVENT
DTSTAMP:20260424T221033Z
DTSTART:20130925T100000
DTEND:20130925T120000
SUMMARY:I+D en salud en la UE
TZID:Europe/Madrid
UID:1a336409-2043-11e3-9cbd-3fe5a96f4a88
URL:http://www.upo.es/portal/impe/web/contenido/1a336409-2043-11e3-9cbd-3fe5a96f4a88
LOCATION:CABD\, salón de actos
END:VEVENT
BEGIN:VEVENT
DTSTAMP:20260424T221033Z
DTSTART:20130925T120000
DTEND:20130925T130000
SUMMARY:Convenio entre la UPO y la Mesa del Tercer Sector de Andalucía
TZID:Europe/Madrid
UID:a378962f-244c-11e3-9cbd-3fe5a96f4a88
URL:http://www.upo.es/portal/impe/web/contenido/a378962f-244c-11e3-9cbd-3fe5a96f4a88
LOCATION:Sala de Prensa. Rectorado
END:VEVENT
BEGIN:VEVENT
DTSTAMP:20260424T221033Z
DTSTART:20130925T150000
DTEND:20130927T141500
SUMMARY:7th Accounting History Int. Conference
TZID:Europe/Madrid
UID:16fb25de-f8f5-11e2-9bc8-3fe5a96f4a88
URL:http://www.upo.es/portal/impe/web/contenido/16fb25de-f8f5-11e2-9bc8-3fe5a96f4a88
LOCATION:Edificio 45\, sala B11 
END:VEVENT
BEGIN:VEVENT
DTSTAMP:20260424T221033Z
DTSTART:20130926T093000
DTEND:20130926T110000
SUMMARY:Orientación Profesional CC. Experimentales
TZID:Europe/Madrid
UID:adaeacc2-25b9-11e3-9cbd-3fe5a96f4a88
URL:http://www.upo.es/portal/impe/web/contenido/adaeacc2-25b9-11e3-9cbd-3fe5a96f4a88
LOCATION:Edificio 7\, sala de grados
END:VEVENT
BEGIN:VEVENT
DTSTAMP:20260424T221033Z
DTSTART:20130927T123000
DTEND:20130927T143000
SUMMARY:Apertura del Curso Académico
TZID:Europe/Madrid
UID:1b19b0cf-1606-11e3-8715-3fe5a96f4a88
URL:http://www.upo.es/portal/impe/web/contenido/1b19b0cf-1606-11e3-8715-3fe5a96f4a88
LOCATION:Paraninfo
END:VEVENT
END:VCALENDAR
