BEGIN:VCALENDAR
PRODID:-//Ben Fortuna//iCal4j 0.9.20//ES
VERSION:2.0
CALSCALE:GREGORIAN
BEGIN:VEVENT
DTSTAMP:20260420T034101Z
DTSTART:20140312T093000
DTEND:20140312T113000
SUMMARY:'Iniciativa emprendedora y ayuda a la financiación'
TZID:Europe/Madrid
UID:a093ceb9-92f9-11e3-bf2f-3fe5a96f4a88
URL:http://www.upo.es/portal/impe/web/contenido/a093ceb9-92f9-11e3-bf2f-3fe5a96f4a88
LOCATION:Edificio Alexander von Humboldt\, primera planta
END:VEVENT
BEGIN:VEVENT
DTSTAMP:20260420T034101Z
DTSTART:20140312T180000
DTEND:20140312T200000
SUMMARY:IV  Jornadas Historia y Arte
TZID:Europe/Madrid
UID:804af8d9-a5d9-11e3-8384-3fe5a96f4a88
URL:http://www.upo.es/portal/impe/web/contenido/804af8d9-a5d9-11e3-8384-3fe5a96f4a88
LOCATION:Biblitoeca\, sala de grados
END:VEVENT
BEGIN:VEVENT
DTSTAMP:20260420T034101Z
DTSTART:20140312T160000
DTEND:20140312T180000
SUMMARY:Taller de Comunicación para emprendedores
TZID:Europe/Madrid
UID:6a947903-a5dc-11e3-8384-3fe5a96f4a88
URL:http://www.upo.es/portal/impe/web/contenido/6a947903-a5dc-11e3-8384-3fe5a96f4a88
LOCATION:Edificio 45\, aula B04
END:VEVENT
BEGIN:VEVENT
DTSTAMP:20260420T034101Z
DTSTART:20140312T090000
DTEND:20140312T141500
SUMMARY:'Elementos de gestión ambiental'
TZID:Europe/Madrid
UID:f4972a8d-a91d-11e3-acdd-3fe5a96f4a88
URL:http://www.upo.es/portal/impe/web/contenido/f4972a8d-a91d-11e3-acdd-3fe5a96f4a88
LOCATION:Edificio 7\, sala de grados
END:VEVENT
END:VCALENDAR
