BEGIN:VCALENDAR
PRODID:-//Ben Fortuna//iCal4j 0.9.20//ES
VERSION:2.0
CALSCALE:GREGORIAN
BEGIN:VEVENT
DTSTAMP:20260424T131605Z
DTSTART:20140210T100000
DTEND:20140215T190000
SUMMARY:Seminario Grundtvig: E-LITERACY
TZID:Europe/Madrid
UID:7d5933de-8fd9-11e3-bf2f-3fe5a96f4a88
URL:http://www.upo.es/portal/impe/web/contenido/7d5933de-8fd9-11e3-bf2f-3fe5a96f4a88
LOCATION:UPO
END:VEVENT
BEGIN:VEVENT
DTSTAMP:20260424T131605Z
DTSTART:20140213T170000
DTEND:20140213T183000
SUMMARY:'IMPÚLSAME: programa de aceleración de empresas'
TZID:Europe/Madrid
UID:e7340928-93ce-11e3-bf2f-3fe5a96f4a88
URL:http://www.upo.es/portal/impe/web/contenido/e7340928-93ce-11e3-bf2f-3fe5a96f4a88
LOCATION:Edificio 7\, sala de grados
END:VEVENT
END:VCALENDAR
