BEGIN:VCALENDAR
PRODID:-//Ben Fortuna//iCal4j 0.9.20//ES
VERSION:2.0
CALSCALE:GREGORIAN
BEGIN:VEVENT
DTSTAMP:20260419T153643Z
DTSTART:20140313T163000
DTEND:20140314T140000
SUMMARY:Congreso 'La feminización del Derecho Privado'
TZID:Europe/Madrid
UID:1102f57b-a9e8-11e3-8a09-3fe5a96f4a88
URL:http://www.upo.es/portal/impe/web/contenido/1102f57b-a9e8-11e3-8a09-3fe5a96f4a88
LOCATION:Valladolid y Palencia
END:VEVENT
BEGIN:VEVENT
DTSTAMP:20260419T153643Z
DTSTART:20140313T093000
DTEND:20140314T140000
SUMMARY:Formación en Educación y Voluntariado Ambiental
TZID:Europe/Madrid
UID:68e9497e-aaad-11e3-bb0a-3fe5a96f4a88
URL:http://www.upo.es/portal/impe/web/contenido/68e9497e-aaad-11e3-bb0a-3fe5a96f4a88
LOCATION:UPO
END:VEVENT
BEGIN:VEVENT
DTSTAMP:20260419T153643Z
DTSTART:20140314T160000
DTEND:20140314T183000
SUMMARY:Conferencias de investigación histórica: 5ª sesión
TZID:Europe/Madrid
UID:18203c70-81bb-11e3-86f3-3fe5a96f4a88
URL:http://www.upo.es/portal/impe/web/contenido/18203c70-81bb-11e3-86f3-3fe5a96f4a88
LOCATION:EEHA\, sala Calderón Quijano
END:VEVENT
BEGIN:VEVENT
DTSTAMP:20260419T153643Z
DTSTART:20140314T080000
DTEND:20140314T200000
SUMMARY:VII Jornadas de Psicología del Deporte
TZID:Europe/Madrid
UID:3cd0021e-9d56-11e3-9a66-3fe5a96f4a88
URL:http://www.upo.es/portal/impe/web/contenido/3cd0021e-9d56-11e3-9a66-3fe5a96f4a88
LOCATION:Paraninfo. Universidad Pablo de Olavide
END:VEVENT
BEGIN:VEVENT
DTSTAMP:20260419T153643Z
DTSTART:20140314T110000
DTEND:20140314T140000
SUMMARY:'La Deuda como instrumento de control político: el caso español'
TZID:Europe/Madrid
UID:82656a47-aa8a-11e3-bb0a-3fe5a96f4a88
URL:http://www.upo.es/portal/impe/web/contenido/82656a47-aa8a-11e3-bb0a-3fe5a96f4a88
LOCATION:Edificio 7\, aula 2
END:VEVENT
END:VCALENDAR
