BEGIN:VCALENDAR
PRODID:-//Ben Fortuna//iCal4j 0.9.20//ES
VERSION:2.0
CALSCALE:GREGORIAN
BEGIN:VEVENT
DTSTAMP:20260424T123907Z
DTSTART:20140210T100000
DTEND:20140215T190000
SUMMARY:Seminario Grundtvig: E-LITERACY
TZID:Europe/Madrid
UID:7d5933de-8fd9-11e3-bf2f-3fe5a96f4a88
URL:http://www.upo.es/portal/impe/web/contenido/7d5933de-8fd9-11e3-bf2f-3fe5a96f4a88
LOCATION:UPO
END:VEVENT
BEGIN:VEVENT
DTSTAMP:20260424T123907Z
DTSTART:20140214T163000
DTEND:20140215T140000
SUMMARY:'Instrumentos y retos de la administración local I'
TZID:Europe/Madrid
UID:1a94119c-925a-11e3-bf2f-3fe5a96f4a88
URL:http://www.upo.es/portal/impe/web/contenido/1a94119c-925a-11e3-bf2f-3fe5a96f4a88
LOCATION:Edificio 7\, sala de grados
END:VEVENT
BEGIN:VEVENT
DTSTAMP:20260424T123907Z
DTSTART:20140215T083000
DTEND:20140215T180000
SUMMARY:Senderismo: De Cabra a Zuheros por el río Bailón
TZID:Europe/Madrid
UID:9ded8ecb-8f1a-11e3-be70-3fe5a96f4a88
URL:http://www.upo.es/portal/impe/web/contenido/9ded8ecb-8f1a-11e3-be70-3fe5a96f4a88
LOCATION:Sierras Subbéticas
END:VEVENT
END:VCALENDAR
