BEGIN:VCALENDAR
PRODID:-//Ben Fortuna//iCal4j 0.9.20//ES
VERSION:2.0
CALSCALE:GREGORIAN
BEGIN:VEVENT
DTSTAMP:20260419T125911Z
DTSTART:20140315T200000
DTEND:20140315T210000
SUMMARY:Coro de la UPO: Concierto benéfico de Cuaresma
TZID:Europe/Madrid
UID:aca10a84-a9d5-11e3-8a09-3fe5a96f4a88
URL:http://www.upo.es/portal/impe/web/contenido/aca10a84-a9d5-11e3-8a09-3fe5a96f4a88
LOCATION:Auditorio Municipal de Padul (Granada)
END:VEVENT
END:VCALENDAR
