BEGIN:VCALENDAR
PRODID:-//Ben Fortuna//iCal4j 0.9.20//ES
VERSION:2.0
CALSCALE:GREGORIAN
BEGIN:VEVENT
DTSTAMP:20260424T114417Z
DTSTART:20140217T163000
DTEND:20140220T210000
SUMMARY:Academia Olímpica Española
TZID:Europe/Madrid
UID:1b824bb1-81e3-11e3-86f3-3fe5a96f4a88
URL:http://www.upo.es/portal/impe/web/contenido/1b824bb1-81e3-11e3-86f3-3fe5a96f4a88
LOCATION:UPO
END:VEVENT
BEGIN:VEVENT
DTSTAMP:20260424T114417Z
DTSTART:20140218T090000
DTEND:20140218T190000
SUMMARY:'La Universidad como espacio para la participación social y el voluntariado'
TZID:Europe/Madrid
UID:653d7115-8373-11e3-86f3-3fe5a96f4a88
URL:http://www.upo.es/portal/impe/web/contenido/653d7115-8373-11e3-86f3-3fe5a96f4a88
LOCATION:Biblioteca\, sala de grados
END:VEVENT
BEGIN:VEVENT
DTSTAMP:20260424T114417Z
DTSTART:20140218T173000
DTEND:20140218T173000
SUMMARY:Presentación del libro 'Decisiones Públicas'
TZID:Europe/Madrid
UID:3f34aa74-8fdc-11e3-bf2f-3fe5a96f4a88
URL:http://www.upo.es/portal/impe/web/contenido/3f34aa74-8fdc-11e3-bf2f-3fe5a96f4a88
LOCATION:Rectorado. Sala de Prensa
END:VEVENT
END:VCALENDAR
