BEGIN:VCALENDAR
PRODID:-//Ben Fortuna//iCal4j 0.9.20//ES
VERSION:2.0
CALSCALE:GREGORIAN
BEGIN:VEVENT
DTSTAMP:20260423T153922Z
DTSTART:20140127T090000
DTEND:20140130T110000
SUMMARY:Orientación sobre Salidas Profesionales en Ciencias Experimentales
TZID:Europe/Madrid
UID:64fcb4ef-8372-11e3-86f3-3fe5a96f4a88
URL:http://www.upo.es/portal/impe/web/contenido/64fcb4ef-8372-11e3-86f3-3fe5a96f4a88
LOCATION:Edificio 7\, sala de grados
END:VEVENT
BEGIN:VEVENT
DTSTAMP:20260423T153922Z
DTSTART:20140128T140000
DTEND:20140131T160000
SUMMARY:Taller 'Lo que puede un cuerpo. Una mirada de género'
TZID:Europe/Madrid
UID:7f14e183-8428-11e3-86f3-3fe5a96f4a88
URL:http://www.upo.es/portal/impe/web/contenido/7f14e183-8428-11e3-86f3-3fe5a96f4a88
LOCATION:Espacio Cultural 'Antigua Guardería' de la UPO
END:VEVENT
BEGIN:VEVENT
DTSTAMP:20260423T153922Z
DTSTART:20140129T190000
DTEND:20140129T203000
SUMMARY:PISA ¿el fracaso de la equidad?
TZID:Europe/Madrid
UID:f1c7ac09-81e7-11e3-86f3-3fe5a96f4a88
URL:http://www.upo.es/portal/impe/web/contenido/f1c7ac09-81e7-11e3-86f3-3fe5a96f4a88
LOCATION:Fundación Cajasol. C/ Laraña\, 4. Sevilla
END:VEVENT
BEGIN:VEVENT
DTSTAMP:20260423T153922Z
DTSTART:20140129T170000
DTEND:20140129T183000
SUMMARY:'Políticas de seguridad y libertad republicana'
TZID:Europe/Madrid
UID:cc3a576d-880b-11e3-86f3-3fe5a96f4a88
URL:http://www.upo.es/portal/impe/web/contenido/cc3a576d-880b-11e3-86f3-3fe5a96f4a88
LOCATION:Edificio 44\, primera planta
END:VEVENT
BEGIN:VEVENT
DTSTAMP:20260423T153922Z
DTSTART:20140129T163000
DTEND:20140129T173000
SUMMARY:Conferencia sobre la ejecución hipotecaria
TZID:Europe/Madrid
UID:34706395-8818-11e3-86f3-3fe5a96f4a88
URL:http://www.upo.es/portal/impe/web/contenido/34706395-8818-11e3-86f3-3fe5a96f4a88
LOCATION:Sala de grados del edificio 25B
END:VEVENT
END:VCALENDAR
