BEGIN:VCALENDAR
PRODID:-//Ben Fortuna//iCal4j 0.9.20//ES
VERSION:2.0
CALSCALE:GREGORIAN
BEGIN:VEVENT
DTSTAMP:20260424T203022Z
DTSTART:20140128T140000
DTEND:20140131T160000
SUMMARY:Taller 'Lo que puede un cuerpo. Una mirada de género'
TZID:Europe/Madrid
UID:7f14e183-8428-11e3-86f3-3fe5a96f4a88
URL:http://www.upo.es/portal/impe/web/contenido/7f14e183-8428-11e3-86f3-3fe5a96f4a88
LOCATION:Espacio Cultural 'Antigua Guardería' de la UPO
END:VEVENT
BEGIN:VEVENT
DTSTAMP:20260424T203022Z
DTSTART:20140131T160000
DTEND:20140131T180000
SUMMARY:'La socialdemocracia alemana y sus relaciones con las transiciones ibéricas'
TZID:Europe/Madrid
UID:da25acee-81b6-11e3-86f3-3fe5a96f4a88
URL:http://www.upo.es/portal/impe/web/contenido/da25acee-81b6-11e3-86f3-3fe5a96f4a88
LOCATION:EEHA\, sala Calderón Quijano
END:VEVENT
BEGIN:VEVENT
DTSTAMP:20260424T203022Z
DTSTART:20140131T181500
DTEND:20140131T200000
SUMMARY:Orientaciones profesionales para el traductor del siglo XXI
TZID:Europe/Madrid
UID:4d691ef1-84f7-11e3-86f3-3fe5a96f4a88
URL:http://www.upo.es/portal/impe/web/contenido/4d691ef1-84f7-11e3-86f3-3fe5a96f4a88
LOCATION:Edificio Alexander von Humboldt\, aula 1.11
END:VEVENT
END:VCALENDAR
