BEGIN:VCALENDAR
PRODID:-//Ben Fortuna//iCal4j 0.9.20//ES
VERSION:2.0
CALSCALE:GREGORIAN
BEGIN:VEVENT
DTSTAMP:20260423T035309Z
DTSTART:20140303T133000
DTEND:20140306T163000
SUMMARY:Torneo de Pádel: CEUPO-Equipo de Gobierno
TZID:Europe/Madrid
UID:9844d12e-9d53-11e3-9a66-3fe5a96f4a88
URL:http://www.upo.es/portal/impe/web/contenido/9844d12e-9d53-11e3-9a66-3fe5a96f4a88
LOCATION:Pistas de Pádel (junto al Gimnasio)
END:VEVENT
BEGIN:VEVENT
DTSTAMP:20260423T035309Z
DTSTART:20140305T100000
DTEND:20140305T143000
SUMMARY:I Encuentro sobre Arte e Intervención Social
TZID:Europe/Madrid
UID:d186aff2-9ae5-11e3-aca9-3fe5a96f4a88
URL:http://www.upo.es/portal/impe/web/contenido/d186aff2-9ae5-11e3-aca9-3fe5a96f4a88
LOCATION:Edificio 7\, sala de grados
END:VEVENT
BEGIN:VEVENT
DTSTAMP:20260423T035309Z
DTSTART:20140305T120000
DTEND:20140305T133000
SUMMARY:'La interpretación y el lenguaje corporal'
TZID:Europe/Madrid
UID:ad9d4a3a-9ec1-11e3-a902-3fe5a96f4a88
URL:http://www.upo.es/portal/impe/web/contenido/ad9d4a3a-9ec1-11e3-a902-3fe5a96f4a88
LOCATION:Edificio 11\, aula 1
END:VEVENT
BEGIN:VEVENT
DTSTAMP:20260423T035309Z
DTSTART:20140305T163000
DTEND:20140305T173000
SUMMARY:'SUPERLOLA'. De la teoría a la práctica en Trabajo Social
TZID:Europe/Madrid
UID:e1e23ff4-a37c-11e3-a902-3fe5a96f4a88
URL:http://www.upo.es/portal/impe/web/contenido/e1e23ff4-a37c-11e3-a902-3fe5a96f4a88
LOCATION:Edificio 11 Aula 2
END:VEVENT
BEGIN:VEVENT
DTSTAMP:20260423T035309Z
DTSTART:20140305T173000
DTEND:20140305T102900
SUMMARY:La formación en género 
TZID:Europe/Madrid
UID:b3e28e5a-a37f-11e3-a902-3fe5a96f4a88
URL:http://www.upo.es/portal/impe/web/contenido/b3e28e5a-a37f-11e3-a902-3fe5a96f4a88
LOCATION:Biblioteca\, Sala de Grados
END:VEVENT
BEGIN:VEVENT
DTSTAMP:20260423T035309Z
DTSTART:20140305T193000
DTEND:20140305T203000
SUMMARY:'La estructura jurídica de los contratos de software: cloud computing'
TZID:Europe/Madrid
UID:28328d03-a38b-11e3-a902-3fe5a96f4a88
URL:http://www.upo.es/portal/impe/web/contenido/28328d03-a38b-11e3-a902-3fe5a96f4a88
LOCATION:Edificio 6\, sala de grados
END:VEVENT
BEGIN:VEVENT
DTSTAMP:20260423T035309Z
DTSTART:20140305T133000
DTEND:20140305T143000
SUMMARY:Presentación de la Asociación Rosario Valpuesta
TZID:Europe/Madrid
UID:34571ce9-a38c-11e3-a902-3fe5a96f4a88
URL:http://www.upo.es/portal/impe/web/contenido/34571ce9-a38c-11e3-a902-3fe5a96f4a88
LOCATION:Biblioteca\, sala de grados
END:VEVENT
END:VCALENDAR
