BEGIN:VCALENDAR
PRODID:-//Ben Fortuna//iCal4j 0.9.20//ES
VERSION:2.0
CALSCALE:GREGORIAN
BEGIN:VEVENT
DTSTAMP:20260421T071643Z
DTSTART:20140307T120000
DTEND:20140307T193000
SUMMARY:'Las troyanas'
TZID:Europe/Madrid
UID:005d7c2a-a2ba-11e3-a902-3fe5a96f4a88
URL:http://www.upo.es/portal/impe/web/contenido/005d7c2a-a2ba-11e3-a902-3fe5a96f4a88
LOCATION:Paraninfo
END:VEVENT
BEGIN:VEVENT
DTSTAMP:20260421T071643Z
DTSTART:20140307T163000
DTEND:20140308T200000
SUMMARY:VI reunión de Neuroendocrinología de la SAEN
TZID:Europe/Madrid
UID:8c412f98-9d55-11e3-9a66-3fe5a96f4a88
URL:http://www.upo.es/portal/impe/web/contenido/8c412f98-9d55-11e3-9a66-3fe5a96f4a88
LOCATION:Parador de Carmona
END:VEVENT
BEGIN:VEVENT
DTSTAMP:20260421T071643Z
DTSTART:20140307T110000
DTEND:20140307T140000
SUMMARY:Actos con Motivo del Día Internacional de las Mujeres
TZID:Europe/Madrid
UID:73ab9fc3-a382-11e3-a902-3fe5a96f4a88
URL:http://www.upo.es/portal/impe/web/contenido/73ab9fc3-a382-11e3-a902-3fe5a96f4a88
LOCATION:Salón de Actos del CABD / Pabellón 26
END:VEVENT
BEGIN:VEVENT
DTSTAMP:20260421T071643Z
DTSTART:20140307T173000
DTEND:20140307T190000
SUMMARY:Encuentro con la bailaora Esther Weekes
TZID:Europe/Madrid
UID:a335f264-a44f-11e3-a902-3fe5a96f4a88
URL:http://www.upo.es/portal/impe/web/contenido/a335f264-a44f-11e3-a902-3fe5a96f4a88
LOCATION:Espacio Cultural &#8220\;Antigua guardería&#8221\;
END:VEVENT
BEGIN:VEVENT
DTSTAMP:20260421T071643Z
DTSTART:20140306T100000
DTEND:20140308T140000
SUMMARY:Seminario/Taller 'Viajando el Paraíso-Travelling Paradise'
TZID:Europe/Madrid
UID:14ee00c0-9aef-11e3-aca9-3fe5a96f4a88
URL:http://www.upo.es/portal/impe/web/contenido/14ee00c0-9aef-11e3-aca9-3fe5a96f4a88
LOCATION:Espacio cultural 'Antigua Guardería'\, UPO
END:VEVENT
END:VCALENDAR
