BEGIN:VCALENDAR
PRODID:-//Ben Fortuna//iCal4j 0.9.20//ES
VERSION:2.0
CALSCALE:GREGORIAN
BEGIN:VEVENT
DTSTAMP:20260423T114741Z
DTSTART:20140108T163000
DTEND:20140108T180000
SUMMARY:'Representación y participación en la democracia. El caso de los municipios'
TZID:Europe/Madrid
UID:15dbf1fe-777d-11e3-bb2f-3fe5a96f4a88
URL:http://www.upo.es/portal/impe/web/contenido/15dbf1fe-777d-11e3-bb2f-3fe5a96f4a88
LOCATION:Edificio 45\, aula B.04 
END:VEVENT
BEGIN:VEVENT
DTSTAMP:20260423T114741Z
DTSTART:20140108T160000
DTEND:20140108T173000
SUMMARY:Charla inaugural del Máster 'Conocimiento actual de las Enfermedades Raras'
TZID:Europe/Madrid
UID:aef9ca28-688d-11e3-87d5-3fe5a96f4a88
URL:http://www.upo.es/portal/impe/web/contenido/aef9ca28-688d-11e3-87d5-3fe5a96f4a88
LOCATION:CABD\, salón de actos
END:VEVENT
BEGIN:VEVENT
DTSTAMP:20260423T114741Z
DTSTART:20140110T093000
DTEND:20140110T140000
SUMMARY:Claustro: sexta sesión
TZID:Europe/Madrid
UID:6e113794-7930-11e3-bf34-3fe5a96f4a88
URL:http://www.upo.es/portal/impe/web/contenido/6e113794-7930-11e3-bf34-3fe5a96f4a88
LOCATION:Paraninfo
END:VEVENT
BEGIN:VEVENT
DTSTAMP:20260423T114741Z
DTSTART:20140113T090000
DTEND:20140113T133000
SUMMARY:Seguridad en la industria aeronáutica
TZID:Europe/Madrid
UID:2f0f9bcf-7847-11e3-bf34-3fe5a96f4a88
URL:http://www.upo.es/portal/impe/web/contenido/2f0f9bcf-7847-11e3-bf34-3fe5a96f4a88
LOCATION:Edificio 7. Sala de Grados
END:VEVENT
BEGIN:VEVENT
DTSTAMP:20260423T114741Z
DTSTART:20140113T100000
DTEND:20140115T140000
SUMMARY:Transiciones democráticas y calidad de la democracia: perspectivas comparadas Brasil-España
TZID:Europe/Madrid
UID:72ef7dde-779f-11e3-bf34-3fe5a96f4a88
URL:http://www.upo.es/portal/impe/web/contenido/72ef7dde-779f-11e3-bf34-3fe5a96f4a88
LOCATION:Paraninfo. UPO
END:VEVENT
BEGIN:VEVENT
DTSTAMP:20260423T114741Z
DTSTART:20140115T110000
DTEND:20140115T113000
SUMMARY:Convenio UPO - Cruz Roja Española
TZID:Europe/Madrid
UID:b0757137-7d27-11e3-bf34-3fe5a96f4a88
URL:http://www.upo.es/portal/impe/web/contenido/b0757137-7d27-11e3-bf34-3fe5a96f4a88
LOCATION:Sala de Prensa. Rectorado
END:VEVENT
BEGIN:VEVENT
DTSTAMP:20260423T114741Z
DTSTART:20140116T183000
DTEND:20140116T095100
SUMMARY:Ponencia: Servicios Sociales en Peligro
TZID:Europe/Madrid
UID:b989304d-79d4-11e3-bf34-3fe5a96f4a88
URL:http://www.upo.es/portal/impe/web/contenido/b989304d-79d4-11e3-bf34-3fe5a96f4a88
LOCATION:Edificio 7\, sala de grados
END:VEVENT
BEGIN:VEVENT
DTSTAMP:20260423T114741Z
DTSTART:20140116T160000
DTEND:20140116T180000
SUMMARY:9º Ciclo de Investigación Histórica
TZID:Europe/Madrid
UID:e1f5c49f-7d2c-11e3-bf34-3fe5a96f4a88
URL:http://www.upo.es/portal/impe/web/contenido/e1f5c49f-7d2c-11e3-bf34-3fe5a96f4a88
LOCATION:Escuela de Estudios Hispano-Americanos. Sala Calderón Quijano
END:VEVENT
BEGIN:VEVENT
DTSTAMP:20260423T114741Z
DTSTART:20140120T160000
DTEND:20140120T173000
SUMMARY:&#8220\;Iniciativas Políticas y Planes de Acción en el Campo de las Enfermedades Raras&#8221\;
TZID:Europe/Madrid
UID:be229206-6891-11e3-87d5-3fe5a96f4a88
URL:http://www.upo.es/portal/impe/web/contenido/be229206-6891-11e3-87d5-3fe5a96f4a88
LOCATION:Colegio de Farmacéuticos de Sevilla (C/ Alfonso XII\, 51)
END:VEVENT
BEGIN:VEVENT
DTSTAMP:20260423T114741Z
DTSTART:20140122T160000
DTEND:20140122T173000
SUMMARY:Conferencia del máster oficial en Derecho Patrimonial Privado en el Mercado Global de la UPO
TZID:Europe/Madrid
UID:bedbbf54-829f-11e3-86f3-3fe5a96f4a88
URL:http://www.upo.es/portal/impe/web/contenido/bedbbf54-829f-11e3-86f3-3fe5a96f4a88
LOCATION:Edificio 7\, Sala de Grados
END:VEVENT
BEGIN:VEVENT
DTSTAMP:20260423T114741Z
DTSTART:20140127T090000
DTEND:20140130T110000
SUMMARY:Orientación sobre Salidas Profesionales en Ciencias Experimentales
TZID:Europe/Madrid
UID:64fcb4ef-8372-11e3-86f3-3fe5a96f4a88
URL:http://www.upo.es/portal/impe/web/contenido/64fcb4ef-8372-11e3-86f3-3fe5a96f4a88
LOCATION:Edificio 7\, sala de grados
END:VEVENT
BEGIN:VEVENT
DTSTAMP:20260423T114741Z
DTSTART:20140128T123000
DTEND:20140128T140000
SUMMARY:'La interpretación telefónica es una salida profesional'
TZID:Europe/Madrid
UID:bd3ef983-8375-11e3-86f3-3fe5a96f4a88
URL:http://www.upo.es/portal/impe/web/contenido/bd3ef983-8375-11e3-86f3-3fe5a96f4a88
LOCATION:Biblioteca\, sala de grados
END:VEVENT
BEGIN:VEVENT
DTSTAMP:20260423T114741Z
DTSTART:20140128T140000
DTEND:20140131T160000
SUMMARY:Taller 'Lo que puede un cuerpo. Una mirada de género'
TZID:Europe/Madrid
UID:7f14e183-8428-11e3-86f3-3fe5a96f4a88
URL:http://www.upo.es/portal/impe/web/contenido/7f14e183-8428-11e3-86f3-3fe5a96f4a88
LOCATION:Espacio Cultural 'Antigua Guardería' de la UPO
END:VEVENT
BEGIN:VEVENT
DTSTAMP:20260423T114741Z
DTSTART:20140129T190000
DTEND:20140129T203000
SUMMARY:PISA ¿el fracaso de la equidad?
TZID:Europe/Madrid
UID:f1c7ac09-81e7-11e3-86f3-3fe5a96f4a88
URL:http://www.upo.es/portal/impe/web/contenido/f1c7ac09-81e7-11e3-86f3-3fe5a96f4a88
LOCATION:Fundación Cajasol. C/ Laraña\, 4. Sevilla
END:VEVENT
BEGIN:VEVENT
DTSTAMP:20260423T114741Z
DTSTART:20140129T170000
DTEND:20140129T183000
SUMMARY:'Políticas de seguridad y libertad republicana'
TZID:Europe/Madrid
UID:cc3a576d-880b-11e3-86f3-3fe5a96f4a88
URL:http://www.upo.es/portal/impe/web/contenido/cc3a576d-880b-11e3-86f3-3fe5a96f4a88
LOCATION:Edificio 44\, primera planta
END:VEVENT
BEGIN:VEVENT
DTSTAMP:20260423T114741Z
DTSTART:20140129T163000
DTEND:20140129T173000
SUMMARY:Conferencia sobre la ejecución hipotecaria
TZID:Europe/Madrid
UID:34706395-8818-11e3-86f3-3fe5a96f4a88
URL:http://www.upo.es/portal/impe/web/contenido/34706395-8818-11e3-86f3-3fe5a96f4a88
LOCATION:Sala de grados del edificio 25B
END:VEVENT
BEGIN:VEVENT
DTSTAMP:20260423T114741Z
DTSTART:20140130T180000
DTEND:20140130T193000
SUMMARY:'Cuadro 33': proyección y coloquio
TZID:Europe/Madrid
UID:995c0ada-8731-11e3-86f3-3fe5a96f4a88
URL:http://www.upo.es/portal/impe/web/contenido/995c0ada-8731-11e3-86f3-3fe5a96f4a88
LOCATION:Edificio 7\, sala de grados
END:VEVENT
BEGIN:VEVENT
DTSTAMP:20260423T114741Z
DTSTART:20140130T193000
DTEND:20140130T211500
SUMMARY:'Lesa Humanidad': documental y debate posterior
TZID:Europe/Madrid
UID:dcf34876-8733-11e3-86f3-3fe5a96f4a88
URL:http://www.upo.es/portal/impe/web/contenido/dcf34876-8733-11e3-86f3-3fe5a96f4a88
LOCATION:Edificio 7\, sala de grados
END:VEVENT
BEGIN:VEVENT
DTSTAMP:20260423T114741Z
DTSTART:20140121T110000
DTEND:20140121T124500
SUMMARY:'Law of desire: interferences\, fusions and confusions between sex and law'
TZID:Europe/Madrid
UID:df3759bd-81e4-11e3-86f3-3fe5a96f4a88
URL:http://www.upo.es/portal/impe/web/contenido/df3759bd-81e4-11e3-86f3-3fe5a96f4a88
LOCATION:Edificio 7\, sala de grados
END:VEVENT
END:VCALENDAR
