BEGIN:VCALENDAR
PRODID:-//Ben Fortuna//iCal4j 0.9.20//ES
VERSION:2.0
CALSCALE:GREGORIAN
BEGIN:VEVENT
DTSTAMP:20260423T092757Z
DTSTART:20140202T100000
DTEND:20140202T120000
SUMMARY:Medio Maratón del Agua - Carrera Popular
TZID:Europe/Madrid
UID:a7ca30e8-79ee-11e3-bf34-3fe5a96f4a88
URL:http://www.upo.es/portal/impe/web/contenido/a7ca30e8-79ee-11e3-bf34-3fe5a96f4a88
LOCATION:Universidad Pablo de Olavide (Salida)
END:VEVENT
BEGIN:VEVENT
DTSTAMP:20260423T092757Z
DTSTART:20140219T163000
DTEND:20140219T180000
SUMMARY:Corrupción en España: ¿camino del subdesarrollo?
TZID:Europe/Madrid
UID:0ce59ea1-97b0-11e3-bf2f-3fe5a96f4a88
URL:http://www.upo.es/portal/impe/web/contenido/0ce59ea1-97b0-11e3-bf2f-3fe5a96f4a88
LOCATION:Edificio Alexander von Humboldt\, aula B.04
END:VEVENT
BEGIN:VEVENT
DTSTAMP:20260423T092757Z
DTSTART:20140205T163000
DTEND:20140205T180000
SUMMARY:Comunicaciones comerciales electrónicas. Cuestiones jurídicas
TZID:Europe/Madrid
UID:5e8110e9-8d7a-11e3-be70-3fe5a96f4a88
URL:http://www.upo.es/portal/impe/web/contenido/5e8110e9-8d7a-11e3-be70-3fe5a96f4a88
LOCATION:Edificio 3\, Sala de Juntas
END:VEVENT
BEGIN:VEVENT
DTSTAMP:20260423T092757Z
DTSTART:20140206T170000
DTEND:20140206T190000
SUMMARY:'La intervención con grupos'
TZID:Europe/Madrid
UID:99be0a05-8344-11e3-86f3-3fe5a96f4a88
URL:http://www.upo.es/portal/impe/web/contenido/99be0a05-8344-11e3-86f3-3fe5a96f4a88
LOCATION:Edificio 7\, sala de grados
END:VEVENT
BEGIN:VEVENT
DTSTAMP:20260423T092757Z
DTSTART:20140207T173000
DTEND:20140207T190000
SUMMARY:'El Flamenco en Japón'\, encuentro con Marta Balparda
TZID:Europe/Madrid
UID:6d62c043-8e46-11e3-be70-3fe5a96f4a88
URL:http://www.upo.es/portal/impe/web/contenido/6d62c043-8e46-11e3-be70-3fe5a96f4a88
LOCATION:Espacio cultural 'Antigua Guardería'. UPO
END:VEVENT
BEGIN:VEVENT
DTSTAMP:20260423T092757Z
DTSTART:20140207T163000
DTEND:20140207T193000
SUMMARY:'La categoría experiencia en el pensamiento feminista'
TZID:Europe/Madrid
UID:985f51eb-8e48-11e3-be70-3fe5a96f4a88
URL:http://www.upo.es/portal/impe/web/contenido/985f51eb-8e48-11e3-be70-3fe5a96f4a88
LOCATION:Edificio Alexander von Humboldt\, aula 1.1
END:VEVENT
BEGIN:VEVENT
DTSTAMP:20260423T092757Z
DTSTART:20140207T120000
DTEND:20140207T133000
SUMMARY:"Cásina"
TZID:Europe/Madrid
UID:5401f7db-8e5b-11e3-be70-3fe5a96f4a88
URL:http://www.upo.es/portal/impe/web/contenido/5401f7db-8e5b-11e3-be70-3fe5a96f4a88
LOCATION:Paraninfo
END:VEVENT
BEGIN:VEVENT
DTSTAMP:20260423T092757Z
DTSTART:20140210T100000
DTEND:20140215T190000
SUMMARY:Seminario Grundtvig: E-LITERACY
TZID:Europe/Madrid
UID:7d5933de-8fd9-11e3-bf2f-3fe5a96f4a88
URL:http://www.upo.es/portal/impe/web/contenido/7d5933de-8fd9-11e3-bf2f-3fe5a96f4a88
LOCATION:UPO
END:VEVENT
BEGIN:VEVENT
DTSTAMP:20260423T092757Z
DTSTART:20140213T170000
DTEND:20140213T183000
SUMMARY:'IMPÚLSAME: programa de aceleración de empresas'
TZID:Europe/Madrid
UID:e7340928-93ce-11e3-bf2f-3fe5a96f4a88
URL:http://www.upo.es/portal/impe/web/contenido/e7340928-93ce-11e3-bf2f-3fe5a96f4a88
LOCATION:Edificio 7\, sala de grados
END:VEVENT
BEGIN:VEVENT
DTSTAMP:20260423T092757Z
DTSTART:20140214T163000
DTEND:20140215T140000
SUMMARY:'Instrumentos y retos de la administración local I'
TZID:Europe/Madrid
UID:1a94119c-925a-11e3-bf2f-3fe5a96f4a88
URL:http://www.upo.es/portal/impe/web/contenido/1a94119c-925a-11e3-bf2f-3fe5a96f4a88
LOCATION:Edificio 7\, sala de grados
END:VEVENT
BEGIN:VEVENT
DTSTAMP:20260423T092757Z
DTSTART:20140214T130000
DTEND:20140214T134500
SUMMARY:Acto Público de Tomas de Posesión
TZID:Europe/Madrid
UID:67425483-93c4-11e3-bf2f-3fe5a96f4a88
URL:http://www.upo.es/portal/impe/web/contenido/67425483-93c4-11e3-bf2f-3fe5a96f4a88
LOCATION:Edificio 7\, sala de grados
END:VEVENT
BEGIN:VEVENT
DTSTAMP:20260423T092757Z
DTSTART:20140215T083000
DTEND:20140215T180000
SUMMARY:Senderismo: De Cabra a Zuheros por el río Bailón
TZID:Europe/Madrid
UID:9ded8ecb-8f1a-11e3-be70-3fe5a96f4a88
URL:http://www.upo.es/portal/impe/web/contenido/9ded8ecb-8f1a-11e3-be70-3fe5a96f4a88
LOCATION:Sierras Subbéticas
END:VEVENT
BEGIN:VEVENT
DTSTAMP:20260423T092757Z
DTSTART:20140217T163000
DTEND:20140220T210000
SUMMARY:Academia Olímpica Española
TZID:Europe/Madrid
UID:1b824bb1-81e3-11e3-86f3-3fe5a96f4a88
URL:http://www.upo.es/portal/impe/web/contenido/1b824bb1-81e3-11e3-86f3-3fe5a96f4a88
LOCATION:UPO
END:VEVENT
BEGIN:VEVENT
DTSTAMP:20260423T092757Z
DTSTART:20140218T090000
DTEND:20140218T190000
SUMMARY:'La Universidad como espacio para la participación social y el voluntariado'
TZID:Europe/Madrid
UID:653d7115-8373-11e3-86f3-3fe5a96f4a88
URL:http://www.upo.es/portal/impe/web/contenido/653d7115-8373-11e3-86f3-3fe5a96f4a88
LOCATION:Biblioteca\, sala de grados
END:VEVENT
BEGIN:VEVENT
DTSTAMP:20260423T092757Z
DTSTART:20140218T173000
DTEND:20140218T173000
SUMMARY:Presentación del libro 'Decisiones Públicas'
TZID:Europe/Madrid
UID:3f34aa74-8fdc-11e3-bf2f-3fe5a96f4a88
URL:http://www.upo.es/portal/impe/web/contenido/3f34aa74-8fdc-11e3-bf2f-3fe5a96f4a88
LOCATION:Rectorado. Sala de Prensa
END:VEVENT
BEGIN:VEVENT
DTSTAMP:20260423T092757Z
DTSTART:20140219T120000
DTEND:20140219T133000
SUMMARY:'Diario de una traductora...¡Siempre hay luz al final del túnel!'
TZID:Europe/Madrid
UID:fbec6b33-8e5b-11e3-be70-3fe5a96f4a88
URL:http://www.upo.es/portal/impe/web/contenido/fbec6b33-8e5b-11e3-be70-3fe5a96f4a88
LOCATION:Biblioteca\, sala de grados
END:VEVENT
BEGIN:VEVENT
DTSTAMP:20260423T092757Z
DTSTART:20140220T160000
DTEND:20140220T173000
SUMMARY:'Oratoria y Negociación Jurídica'
TZID:Europe/Madrid
UID:1d5628b7-92f7-11e3-bf2f-3fe5a96f4a88
URL:http://www.upo.es/portal/impe/web/contenido/1d5628b7-92f7-11e3-bf2f-3fe5a96f4a88
LOCATION:Edificio 6\, sala de grados. UPO
END:VEVENT
BEGIN:VEVENT
DTSTAMP:20260423T092757Z
DTSTART:20140219T160000
DTEND:20140220T200000
SUMMARY:Emprendimientos colectivos e instrumentos financieros alternativos
TZID:Europe/Madrid
UID:4a486253-8f20-11e3-be70-3fe5a96f4a88
URL:http://www.upo.es/portal/impe/web/contenido/4a486253-8f20-11e3-be70-3fe5a96f4a88
LOCATION:Edificio 11\, aulas 4 y 8
END:VEVENT
BEGIN:VEVENT
DTSTAMP:20260423T092757Z
DTSTART:20140220T170000
DTEND:20140220T200000
SUMMARY: 'Gestión y Difusión del Patrimonio Cultural Local'
TZID:Europe/Madrid
UID:a5d2b6e2-8a55-11e3-be70-3fe5a96f4a88
URL:http://www.upo.es/portal/impe/web/contenido/a5d2b6e2-8a55-11e3-be70-3fe5a96f4a88
LOCATION:Casa de la Provincia de la Diputación de Sevilla. Pz. del Triunfo
END:VEVENT
BEGIN:VEVENT
DTSTAMP:20260423T092757Z
DTSTART:20140220T190000
DTEND:20140220T203000
SUMMARY:Coro de la UPO: Audiciones
TZID:Europe/Madrid
UID:c911caa2-88f8-11e3-86f3-3fe5a96f4a88
URL:http://www.upo.es/portal/impe/web/contenido/c911caa2-88f8-11e3-86f3-3fe5a96f4a88
LOCATION:Espacio Cultural 'Antigua Guardería'
END:VEVENT
BEGIN:VEVENT
DTSTAMP:20260423T092757Z
DTSTART:20140220T100000
DTEND:20140220T120000
SUMMARY:'El autónomo como alternativa laboral'
TZID:Europe/Madrid
UID:36fe31a1-92f8-11e3-bf2f-3fe5a96f4a88
URL:http://www.upo.es/portal/impe/web/contenido/36fe31a1-92f8-11e3-bf2f-3fe5a96f4a88
LOCATION:Edificio Alexander von Humboldt\, primera planta
END:VEVENT
BEGIN:VEVENT
DTSTAMP:20260423T092757Z
DTSTART:20140220T100000
DTEND:20140221T203000
SUMMARY:'Una Mirada a la Delincuencia Juvenil'
TZID:Europe/Madrid
UID:d8403384-81b0-11e3-86f3-3fe5a96f4a88
URL:http://www.upo.es/portal/impe/web/contenido/d8403384-81b0-11e3-86f3-3fe5a96f4a88
LOCATION:Paraninfo UPO
END:VEVENT
BEGIN:VEVENT
DTSTAMP:20260423T092757Z
DTSTART:20140221T160000
DTEND:20140221T190000
SUMMARY:Conferencias de investigación histórica: 3ª sesión
TZID:Europe/Madrid
UID:ff6b8987-81b8-11e3-86f3-3fe5a96f4a88
URL:http://www.upo.es/portal/impe/web/contenido/ff6b8987-81b8-11e3-86f3-3fe5a96f4a88
LOCATION:Edificio 2\, sala de juntas 1
END:VEVENT
BEGIN:VEVENT
DTSTAMP:20260423T092757Z
DTSTART:20140221T093000
DTEND:20140222T140000
SUMMARY:III Jornadas de Gobierno Abierto y Open Data
TZID:Europe/Madrid
UID:df84a056-88f6-11e3-86f3-3fe5a96f4a88
URL:http://www.upo.es/portal/impe/web/contenido/df84a056-88f6-11e3-86f3-3fe5a96f4a88
LOCATION:Paraninfo\, UPO
END:VEVENT
BEGIN:VEVENT
DTSTAMP:20260423T092757Z
DTSTART:20140221T163000
DTEND:20140221T180000
SUMMARY:La modernización de la liquidación de valores en España y Europa
TZID:Europe/Madrid
UID:b3e4742c-9ad2-11e3-aca9-3fe5a96f4a88
URL:http://www.upo.es/portal/impe/web/contenido/b3e4742c-9ad2-11e3-aca9-3fe5a96f4a88
LOCATION:Sala de Grados del Edificio 6
END:VEVENT
BEGIN:VEVENT
DTSTAMP:20260423T092757Z
DTSTART:20140225T170000
DTEND:20140225T200000
SUMMARY:'Gestión y Difusión del Patrimonio Cultural Local'
TZID:Europe/Madrid
UID:97636c87-8a57-11e3-be70-3fe5a96f4a88
URL:http://www.upo.es/portal/impe/web/contenido/97636c87-8a57-11e3-be70-3fe5a96f4a88
LOCATION:Casa de la Provincia. Pz. del Triunfo
END:VEVENT
BEGIN:VEVENT
DTSTAMP:20260423T092757Z
DTSTART:20140225T090000
DTEND:20140226T140000
SUMMARY:Curso 'Mediación universitaria en gestión de riesgos asociados al consumo de drogas'
TZID:Europe/Madrid
UID:04135832-9940-11e3-bf2f-3fe5a96f4a88
URL:http://www.upo.es/portal/impe/web/contenido/04135832-9940-11e3-bf2f-3fe5a96f4a88
LOCATION:Edificio 24\, aula 105
END:VEVENT
BEGIN:VEVENT
DTSTAMP:20260423T092757Z
DTSTART:20140225T100000
DTEND:20140227T140000
SUMMARY:Taller RECAPACICLA
TZID:Europe/Madrid
UID:32a5a461-8f18-11e3-be70-3fe5a96f4a88
URL:http://www.upo.es/portal/impe/web/contenido/32a5a461-8f18-11e3-be70-3fe5a96f4a88
LOCATION:UPO
END:VEVENT
BEGIN:VEVENT
DTSTAMP:20260423T092757Z
DTSTART:20140226T123000
DTEND:20140226T140000
SUMMARY:Investidura Doctor Honoris Causa de D. Ramón Gutiérrez
TZID:Europe/Madrid
UID:152d47fa-8a5c-11e3-be70-3fe5a96f4a88
URL:http://www.upo.es/portal/impe/web/contenido/152d47fa-8a5c-11e3-be70-3fe5a96f4a88
LOCATION:Paraninfo de la Universidad Pablo de Olavide
END:VEVENT
BEGIN:VEVENT
DTSTAMP:20260423T092757Z
DTSTART:20140226T093000
DTEND:20140226T110000
SUMMARY:Taller 'Movilidad: Becas y prácticas'
TZID:Europe/Madrid
UID:67097938-9d52-11e3-9a66-3fe5a96f4a88
URL:http://www.upo.es/portal/impe/web/contenido/67097938-9d52-11e3-9a66-3fe5a96f4a88
LOCATION:Edificio Alexander von Humboldt
END:VEVENT
BEGIN:VEVENT
DTSTAMP:20260423T092757Z
DTSTART:20140227T160000
DTEND:20140227T183000
SUMMARY:Conferencias de investigación histórica: 4ª sesión
TZID:Europe/Madrid
UID:2606d963-81ba-11e3-86f3-3fe5a96f4a88
URL:http://www.upo.es/portal/impe/web/contenido/2606d963-81ba-11e3-86f3-3fe5a96f4a88
LOCATION:Escuela de Estudios Hispano-Americanos\, sala Calderón Quijano
END:VEVENT
END:VCALENDAR
