BEGIN:VCALENDAR
PRODID:-//Ben Fortuna//iCal4j 0.9.20//ES
VERSION:2.0
CALSCALE:GREGORIAN
BEGIN:VEVENT
DTSTAMP:20260421T060634Z
DTSTART:20141104T163000
DTEND:20141104T180000
SUMMARY:Acto de Inauguración del Máster Oficial en Consultoría y Auditoría Laboral
TZID:Europe/Madrid
UID:ad2bc438-6408-11e4-8052-3fe5a96f4a88
URL:http://www.upo.es/portal/impe/web/contenido/ad2bc438-6408-11e4-8052-3fe5a96f4a88
LOCATION:Biblioteca\, sala de grados
END:VEVENT
BEGIN:VEVENT
DTSTAMP:20260421T060634Z
DTSTART:20141104T083000
DTEND:20141105T200000
SUMMARY:Congreso Internacional de Historia del Olimpismo
TZID:Europe/Madrid
UID:474f1a6e-1889-11e4-8708-3fe5a96f4a88
URL:http://www.upo.es/portal/impe/web/contenido/474f1a6e-1889-11e4-8708-3fe5a96f4a88
LOCATION:UNIA / UPO
END:VEVENT
BEGIN:VEVENT
DTSTAMP:20260421T060634Z
DTSTART:20141104T100000
DTEND:20141105T140000
SUMMARY:Curso-taller 'Moda sostenible'
TZID:Europe/Madrid
UID:d069a05a-4ec3-11e4-bc70-3fe5a96f4a88
URL:http://www.upo.es/portal/impe/web/contenido/d069a05a-4ec3-11e4-bc70-3fe5a96f4a88
LOCATION:UPO (aula por confirmar)
END:VEVENT
BEGIN:VEVENT
DTSTAMP:20260421T060634Z
DTSTART:20141104T093000
DTEND:20141114T140000
SUMMARY:Semana de la Ciencia 2014
TZID:Europe/Madrid
UID:42441610-5b5a-11e4-b0d4-3fe5a96f4a88
URL:http://www.upo.es/portal/impe/web/contenido/42441610-5b5a-11e4-b0d4-3fe5a96f4a88
LOCATION:UPO
END:VEVENT
BEGIN:VEVENT
DTSTAMP:20260421T060634Z
DTSTART:20141104T163000
DTEND:20141104T183000
SUMMARY:Apertura del Máster en Derecho de las NN.TT.
TZID:Europe/Madrid
UID:f4070186-60e3-11e4-814e-3fe5a96f4a88
URL:http://www.upo.es/portal/impe/web/contenido/f4070186-60e3-11e4-814e-3fe5a96f4a88
LOCATION:Edificio 7\, sala de grados
END:VEVENT
BEGIN:VEVENT
DTSTAMP:20260421T060634Z
DTSTART:20141104T123000
DTEND:20141104T133000
SUMMARY:Acto de Apertura del Máster en Profesorado de ESO y Bachillerato
TZID:Europe/Madrid
UID:6cd92dd5-60ef-11e4-814e-3fe5a96f4a88
URL:http://www.upo.es/portal/impe/web/contenido/6cd92dd5-60ef-11e4-814e-3fe5a96f4a88
LOCATION:Paraninfo
END:VEVENT
BEGIN:VEVENT
DTSTAMP:20260421T060634Z
DTSTART:20141105T120000
DTEND:20141105T150000
SUMMARY:Liga Universitaria 'Vodafone yu Bubble Soccer'
TZID:Europe/Madrid
UID:955d97fc-5f62-11e4-9d50-3fe5a96f4a88
URL:http://www.upo.es/portal/impe/web/contenido/955d97fc-5f62-11e4-9d50-3fe5a96f4a88
LOCATION:UPO
END:VEVENT
BEGIN:VEVENT
DTSTAMP:20260421T060634Z
DTSTART:20141105T093000
DTEND:20141105T110000
SUMMARY:'Wake up: recursos para mejorar tu inglés'
TZID:Europe/Madrid
UID:4c41641d-5f7a-11e4-9d50-3fe5a96f4a88
URL:http://www.upo.es/portal/impe/web/contenido/4c41641d-5f7a-11e4-9d50-3fe5a96f4a88
LOCATION:Edificio Alexander von Humboldt
END:VEVENT
BEGIN:VEVENT
DTSTAMP:20260421T060634Z
DTSTART:20141106T200000
DTEND:20141106T213000
SUMMARY:Concierto del Coro de la UPO: EL GRECO\, 'In Memoriam'
TZID:Europe/Madrid
UID:9dc4075f-5f5b-11e4-9d50-3fe5a96f4a88
URL:http://www.upo.es/portal/impe/web/contenido/9dc4075f-5f5b-11e4-9d50-3fe5a96f4a88
LOCATION:Colegio Santa Ana (Barrio de Los Remedios\, Sevilla)
END:VEVENT
BEGIN:VEVENT
DTSTAMP:20260421T060634Z
DTSTART:20141106T090000
DTEND:20141106T110000
SUMMARY:'La violencia basada en el género\, una violencia diferente'
TZID:Europe/Madrid
UID:54d197fc-640a-11e4-8052-3fe5a96f4a88
URL:http://www.upo.es/portal/impe/web/contenido/54d197fc-640a-11e4-8052-3fe5a96f4a88
LOCATION:Paraninfo
END:VEVENT
BEGIN:VEVENT
DTSTAMP:20260421T060634Z
DTSTART:20141106T093000
DTEND:20141106T181500
SUMMARY:Jornada de la Bicicleta en la UPO
TZID:Europe/Madrid
UID:a0faabf9-5f5c-11e4-9d50-3fe5a96f4a88
URL:http://www.upo.es/portal/impe/web/contenido/a0faabf9-5f5c-11e4-9d50-3fe5a96f4a88
LOCATION:Edificio 7\, sala de grados
END:VEVENT
BEGIN:VEVENT
DTSTAMP:20260421T060634Z
DTSTART:20141106T100000
DTEND:20141106T110000
SUMMARY:Presentación del libro 'Análisis\, retos y propuestas en torno a la trata de personas'
TZID:Europe/Madrid
UID:62fce19b-601f-11e4-8436-3fe5a96f4a88
URL:http://www.upo.es/portal/impe/web/contenido/62fce19b-601f-11e4-8436-3fe5a96f4a88
LOCATION:Rectorado\, sala de prensa
END:VEVENT
BEGIN:VEVENT
DTSTAMP:20260421T060634Z
DTSTART:20141106T190000
DTEND:20141106T200000
SUMMARY:Encuentro con el cantaor Antonio Colchón
TZID:Europe/Madrid
UID:51419706-60fe-11e4-814e-3fe5a96f4a88
URL:http://www.upo.es/portal/impe/web/contenido/51419706-60fe-11e4-814e-3fe5a96f4a88
LOCATION:Espacio Cultural 'Antigua Guardería'
END:VEVENT
BEGIN:VEVENT
DTSTAMP:20260421T060634Z
DTSTART:20141107T120000
DTEND:20141107T133300
SUMMARY:Acto Inaugural de los Másteres Universitarios. Curso 2014-2015
TZID:Europe/Madrid
UID:fb42ac87-5f5f-11e4-9d50-3fe5a96f4a88
URL:http://www.upo.es/portal/impe/web/contenido/fb42ac87-5f5f-11e4-9d50-3fe5a96f4a88
LOCATION:Paraninfo
END:VEVENT
BEGIN:VEVENT
DTSTAMP:20260421T060634Z
DTSTART:20141107T120000
DTEND:20141107T140000
SUMMARY:'Modelling the Dynamics in Polymer Nanocomposites'
TZID:Europe/Madrid
UID:5a6825a0-65b8-11e4-a875-3fe5a96f4a88
URL:http://www.upo.es/portal/impe/web/contenido/5a6825a0-65b8-11e4-a875-3fe5a96f4a88
LOCATION:Edificio 47\, segunda planta
END:VEVENT
BEGIN:VEVENT
DTSTAMP:20260421T060634Z
DTSTART:20141117T163000
DTEND:20141117T203000
SUMMARY:Workshop 'Competencia fiscal: el Plan BEPS de la OCDE'
TZID:Europe/Madrid
UID:c692acc9-65b3-11e4-a875-3fe5a96f4a88
URL:http://www.upo.es/portal/impe/web/contenido/c692acc9-65b3-11e4-a875-3fe5a96f4a88
LOCATION:Edificio 7\, sala de grados
END:VEVENT
BEGIN:VEVENT
DTSTAMP:20260421T060634Z
DTSTART:20141107T160000
DTEND:20141107T183000
SUMMARY:IV Jornada sobre la Gestión de la Calidad y el Medio Ambiente en la Empresa Andaluza: Retos y Oportunidades
TZID:Europe/Madrid
UID:84282db6-66a5-11e4-b33f-3fe5a96f4a88
URL:http://www.upo.es/portal/impe/web/contenido/84282db6-66a5-11e4-b33f-3fe5a96f4a88
LOCATION:Edificio 6\, sala de grados
END:VEVENT
BEGIN:VEVENT
DTSTAMP:20260421T060634Z
DTSTART:20141114T100000
DTEND:20141114T134400
SUMMARY:Clase Magistral de Fernand Melgar: 'Cine social sin fronteras'
TZID:Europe/Madrid
UID:64dad085-68d2-11e4-9bc9-3fe5a96f4a88
URL:http://www.upo.es/portal/impe/web/contenido/64dad085-68d2-11e4-9bc9-3fe5a96f4a88
LOCATION:Paraninfo de la Universidad Pablo de Olavide 
END:VEVENT
BEGIN:VEVENT
DTSTAMP:20260421T060634Z
DTSTART:20141112T103000
DTEND:20141112T193000
SUMMARY:'La influencia del pensamiento de Claus Roxin en la reforma penal española'
TZID:Europe/Madrid
UID:8e40ccd3-68dd-11e4-9bc9-3fe5a96f4a88
URL:http://www.upo.es/portal/impe/web/contenido/8e40ccd3-68dd-11e4-9bc9-3fe5a96f4a88
LOCATION:Sala de Grados del Edificio 7
END:VEVENT
BEGIN:VEVENT
DTSTAMP:20260421T060634Z
DTSTART:20141112T093000
DTEND:20141112T123000
SUMMARY:Taller 'Salidas profesionales en el ámbito social'
TZID:Europe/Madrid
UID:42dae2c7-69ac-11e4-8ec4-3fe5a96f4a88
URL:http://www.upo.es/portal/impe/web/contenido/42dae2c7-69ac-11e4-8ec4-3fe5a96f4a88
LOCATION:Edif. 45\, aula informática 103
END:VEVENT
BEGIN:VEVENT
DTSTAMP:20260421T060634Z
DTSTART:20141113T120000
DTEND:20141113T133000
SUMMARY:Acto de Investidura de Doctor Honoris Causa al profesor Claus Roxin
TZID:Europe/Madrid
UID:59727861-68de-11e4-9bc9-3fe5a96f4a88
URL:http://www.upo.es/portal/impe/web/contenido/59727861-68de-11e4-9bc9-3fe5a96f4a88
LOCATION:Paraninfo
END:VEVENT
BEGIN:VEVENT
DTSTAMP:20260421T060634Z
DTSTART:20141113T190000
DTEND:20141113T205800
SUMMARY:Presentación del libro 'Lágrimas en la lluvia'
TZID:Europe/Madrid
UID:7c09841f-69ab-11e4-8ec4-3fe5a96f4a88
URL:http://www.upo.es/portal/impe/web/contenido/7c09841f-69ab-11e4-8ec4-3fe5a96f4a88
LOCATION:Casa de la Provincia. Pz. del Triunfo\, s/n
END:VEVENT
BEGIN:VEVENT
DTSTAMP:20260421T060634Z
DTSTART:20141113T160000
DTEND:20141114T200000
SUMMARY:Coloquio Internacional 'Imperial dynamics and religion in the Greek cities'
TZID:Europe/Madrid
UID:5a5adaf4-6412-11e4-8052-3fe5a96f4a88
URL:http://www.upo.es/portal/impe/web/contenido/5a5adaf4-6412-11e4-8052-3fe5a96f4a88
LOCATION:Área de Historia Antigua
END:VEVENT
BEGIN:VEVENT
DTSTAMP:20260421T060634Z
DTSTART:20141113T170000
DTEND:20141114T150000
SUMMARY:Solidaridad en tiempo de crisis
TZID:Europe/Madrid
UID:531d4b8a-6a64-11e4-b8dc-3fe5a96f4a88
URL:http://www.upo.es/portal/impe/web/contenido/531d4b8a-6a64-11e4-b8dc-3fe5a96f4a88
LOCATION:Agencia Andaluza de Cooperación Internacional / Fund. Cajasol
END:VEVENT
BEGIN:VEVENT
DTSTAMP:20260421T060634Z
DTSTART:20141113T093000
DTEND:20141113T123000
SUMMARY:Taller 'Salidas profesionales en Empresariales y Derecho'
TZID:Europe/Madrid
UID:d4de577b-69ac-11e4-8ec4-3fe5a96f4a88
URL:http://www.upo.es/portal/impe/web/contenido/d4de577b-69ac-11e4-8ec4-3fe5a96f4a88
LOCATION:Edif. 45\, aula informática 102
END:VEVENT
BEGIN:VEVENT
DTSTAMP:20260421T060634Z
DTSTART:20141113T110000
DTEND:20141113T193000
SUMMARY:Día de la Lengua Italiana en el SEFF
TZID:Europe/Madrid
UID:d2800110-6a66-11e4-b8dc-3fe5a96f4a88
URL:http://www.upo.es/portal/impe/web/contenido/d2800110-6a66-11e4-b8dc-3fe5a96f4a88
LOCATION:Cines Nervión Plaza / Rectorado\, sala de prensa
END:VEVENT
BEGIN:VEVENT
DTSTAMP:20260421T060634Z
DTSTART:20141114T120000
DTEND:20141114T140000
SUMMARY:'Fundamentos político-criminales y dogmáticos del Derecho penal'
TZID:Europe/Madrid
UID:246eedad-68e0-11e4-9bc9-3fe5a96f4a88
URL:http://www.upo.es/portal/impe/web/contenido/246eedad-68e0-11e4-9bc9-3fe5a96f4a88
LOCATION:Edificio 7\, sala de grados
END:VEVENT
BEGIN:VEVENT
DTSTAMP:20260421T060634Z
DTSTART:20141114T093000
DTEND:20141114T123000
SUMMARY:Taller 'Salidas profesionales en Humanidades'
TZID:Europe/Madrid
UID:4a911c23-69ad-11e4-8ec4-3fe5a96f4a88
URL:http://www.upo.es/portal/impe/web/contenido/4a911c23-69ad-11e4-8ec4-3fe5a96f4a88
LOCATION:Edif. 45\, aula informática 102
END:VEVENT
BEGIN:VEVENT
DTSTAMP:20260421T060634Z
DTSTART:20141114T103000
DTEND:20141114T120000
SUMMARY:Conferencia de Decanas/os de Criminología de España
TZID:Europe/Madrid
UID:8ccce86a-6995-11e4-8ec4-3fe5a96f4a88
URL:http://www.upo.es/portal/impe/web/contenido/8ccce86a-6995-11e4-8ec4-3fe5a96f4a88
LOCATION:Biblioteca\, sala de grados
END:VEVENT
BEGIN:VEVENT
DTSTAMP:20260421T060634Z
DTSTART:20141115T090000
DTEND:20141115T180000
SUMMARY:Reforestación participativa en el Corredor Verde del Guadiamar
TZID:Europe/Madrid
UID:a4aa5f52-560d-11e4-bd84-3fe5a96f4a88
URL:http://www.upo.es/portal/impe/web/contenido/a4aa5f52-560d-11e4-bd84-3fe5a96f4a88
LOCATION:Salida desde Prado de San Sebastián
END:VEVENT
BEGIN:VEVENT
DTSTAMP:20260421T060634Z
DTSTART:20141118T174500
DTEND:20141118T200000
SUMMARY:'La defensa judicial y extrajudicial de los consumidores'
TZID:Europe/Madrid
UID:53219955-6e4f-11e4-8270-3fe5a96f4a88
URL:http://www.upo.es/portal/impe/web/contenido/53219955-6e4f-11e4-8270-3fe5a96f4a88
LOCATION:Edificio 6\, sala de grados
END:VEVENT
BEGIN:VEVENT
DTSTAMP:20260421T060634Z
DTSTART:20141118T170000
DTEND:20141121T142900
SUMMARY:Semana de la Economía Crítica en la UPO
TZID:Europe/Madrid
UID:2d839b38-6a68-11e4-b8dc-3fe5a96f4a88
URL:http://www.upo.es/portal/impe/web/contenido/2d839b38-6a68-11e4-b8dc-3fe5a96f4a88
LOCATION:Edificio Alexander von Humboldt
END:VEVENT
BEGIN:VEVENT
DTSTAMP:20260421T060634Z
DTSTART:20141119T093000
DTEND:20141119T123000
SUMMARY:Taller 'Salidas profesionales en Experimentales'
TZID:Europe/Madrid
UID:97fa9d77-69ad-11e4-8ec4-3fe5a96f4a88
URL:http://www.upo.es/portal/impe/web/contenido/97fa9d77-69ad-11e4-8ec4-3fe5a96f4a88
LOCATION:Edif. 45\, aula informática 103
END:VEVENT
BEGIN:VEVENT
DTSTAMP:20260421T060634Z
DTSTART:20141119T120000
DTEND:20141119T133000
SUMMARY:'Situación y perspectivas de la economía española y andaluza'
TZID:Europe/Madrid
UID:12a95c88-6e47-11e4-8270-3fe5a96f4a88
URL:http://www.upo.es/portal/impe/web/contenido/12a95c88-6e47-11e4-8270-3fe5a96f4a88
LOCATION:Edificio 3\, aula 1
END:VEVENT
BEGIN:VEVENT
DTSTAMP:20260421T060634Z
DTSTART:20141119T130000
DTEND:20141121T140000
SUMMARY:'Monografías\, manuales y revistas. El mundo del libro en el ámbito de la Geografía\, la Historia y la Filosofía'
TZID:Europe/Madrid
UID:ab338226-6f00-11e4-8447-3fe5a96f4a88
URL:http://www.upo.es/portal/impe/web/contenido/ab338226-6f00-11e4-8447-3fe5a96f4a88
LOCATION:Biblioteca\, sala de grados
END:VEVENT
BEGIN:VEVENT
DTSTAMP:20260421T060634Z
DTSTART:20141120T103000
DTEND:20141120T120000
SUMMARY:Conferencia 'Inmigración\, crisis y escuela'
TZID:Europe/Madrid
UID:51860b87-6b37-11e4-aa8e-3fe5a96f4a88
URL:http://www.upo.es/portal/impe/web/contenido/51860b87-6b37-11e4-aa8e-3fe5a96f4a88
LOCATION:Edificio 6\, sala de grados
END:VEVENT
BEGIN:VEVENT
DTSTAMP:20260421T060634Z
DTSTART:20141120T100000
DTEND:20141121T140000
SUMMARY:I Seminario Iberoamericano de Innovación Docente de la UPO
TZID:Europe/Madrid
UID:e4b2816e-5b5c-11e4-b0d4-3fe5a96f4a88
URL:http://www.upo.es/portal/impe/web/contenido/e4b2816e-5b5c-11e4-b0d4-3fe5a96f4a88
LOCATION:UPO
END:VEVENT
BEGIN:VEVENT
DTSTAMP:20260421T060634Z
DTSTART:20141120T193000
DTEND:20141121T211500
SUMMARY:FANCINE en la Flora Tristán
TZID:Europe/Madrid
UID:a7032733-6e53-11e4-8270-3fe5a96f4a88
URL:http://www.upo.es/portal/impe/web/contenido/a7032733-6e53-11e4-8270-3fe5a96f4a88
LOCATION:R.U. Flora Tristán\, salón de actos. Calle Residencia de estudiantes s/n
END:VEVENT
BEGIN:VEVENT
DTSTAMP:20260421T060634Z
DTSTART:20141121T100000
DTEND:20141121T130000
SUMMARY:La deuda como instrumento de control político: el caso español
TZID:Europe/Madrid
UID:ee2f6040-6f26-11e4-8447-3fe5a96f4a88
URL:http://www.upo.es/portal/impe/web/contenido/ee2f6040-6f26-11e4-8447-3fe5a96f4a88
LOCATION:Edificio 4\, aula 2
END:VEVENT
BEGIN:VEVENT
DTSTAMP:20260421T060634Z
DTSTART:20141124T100000
DTEND:20141124T133000
SUMMARY:Estrategias de búsqueda de empleo para alumnos de Humanidades
TZID:Europe/Madrid
UID:58ef724b-5f5a-11e4-9d50-3fe5a96f4a88
URL:http://www.upo.es/portal/impe/web/contenido/58ef724b-5f5a-11e4-9d50-3fe5a96f4a88
LOCATION:UPO
END:VEVENT
BEGIN:VEVENT
DTSTAMP:20260421T060634Z
DTSTART:20141124T203000
DTEND:20141124T220000
SUMMARY:Charla-Taller 'Trata de personas\, una mirada desde el género'
TZID:Europe/Madrid
UID:19bec51c-7181-11e4-b133-3fe5a96f4a88
URL:http://www.upo.es/portal/impe/web/contenido/19bec51c-7181-11e4-b133-3fe5a96f4a88
LOCATION:R.U. Flora Tristán
END:VEVENT
BEGIN:VEVENT
DTSTAMP:20260421T060634Z
DTSTART:20141124T100000
DTEND:20141128T133000
SUMMARY:Realización del mural participativo 'CONGA HISTÓRICA'
TZID:Europe/Madrid
UID:80c854da-6e57-11e4-8270-3fe5a96f4a88
URL:http://www.upo.es/portal/impe/web/contenido/80c854da-6e57-11e4-8270-3fe5a96f4a88
LOCATION:ECAG - Espacio Cultural Antigua Guardería
END:VEVENT
BEGIN:VEVENT
DTSTAMP:20260421T060634Z
DTSTART:20141125T120000
DTEND:20141125T133000
SUMMARY:Acto simbólico con motivo del 25-N: recordando a las víctimas
TZID:Europe/Madrid
UID:e64ea116-7181-11e4-b133-3fe5a96f4a88
URL:http://www.upo.es/portal/impe/web/contenido/e64ea116-7181-11e4-b133-3fe5a96f4a88
LOCATION:Pz. Dolores Ibárruri (Polígono Sur)
END:VEVENT
BEGIN:VEVENT
DTSTAMP:20260421T060634Z
DTSTART:20141126T100000
DTEND:20141126T113000
SUMMARY:'Sistema Ciencia-Tecnología-Industria: evolución en el marco europeo\, español y andaluz'
TZID:Europe/Madrid
UID:de241469-74b0-11e4-9fef-3fe5a96f4a88
URL:http://www.upo.es/portal/impe/web/contenido/de241469-74b0-11e4-9fef-3fe5a96f4a88
LOCATION:CABD\, salónd de actos
END:VEVENT
BEGIN:VEVENT
DTSTAMP:20260421T060634Z
DTSTART:20141126T203000
DTEND:20141126T222700
SUMMARY:Video-Forum contra las agresiones machistas
TZID:Europe/Madrid
UID:a3111412-7182-11e4-b133-3fe5a96f4a88
URL:http://www.upo.es/portal/impe/web/contenido/a3111412-7182-11e4-b133-3fe5a96f4a88
LOCATION:RU Flora Tristán\, salón de actos
END:VEVENT
BEGIN:VEVENT
DTSTAMP:20260421T060634Z
DTSTART:20141126T093000
DTEND:20141129T101200
SUMMARY:II Congreso Internacional sobre Estudios de Diversidad Sexual en Iberoamérica
TZID:Europe/Madrid
UID:88f50c52-08d3-11e4-86e4-3fe5a96f4a88
URL:http://www.upo.es/portal/impe/web/contenido/88f50c52-08d3-11e4-86e4-3fe5a96f4a88
LOCATION:Universidad Estatal de Cuenca
END:VEVENT
BEGIN:VEVENT
DTSTAMP:20260421T060634Z
DTSTART:20141127T184500
DTEND:20141127T203000
SUMMARY:Mesa Redonda 'El flamenco en la enseñanza'
TZID:Europe/Madrid
UID:f13173b6-70bc-11e4-95d5-3fe5a96f4a88
URL:http://www.upo.es/portal/impe/web/contenido/f13173b6-70bc-11e4-95d5-3fe5a96f4a88
LOCATION:Espacio Cultural Antigua Guardería - ECAG
END:VEVENT
BEGIN:VEVENT
DTSTAMP:20260421T060634Z
DTSTART:20141127T120000
DTEND:20141127T133000
SUMMARY:Jornadas sobre Salidas Profesionales de la Facultad de Derecho
TZID:Europe/Madrid
UID:fe6f870b-74b2-11e4-9fef-3fe5a96f4a88
URL:http://www.upo.es/portal/impe/web/contenido/fe6f870b-74b2-11e4-9fef-3fe5a96f4a88
LOCATION:Edificio 7\, sala de grados
END:VEVENT
BEGIN:VEVENT
DTSTAMP:20260421T060634Z
DTSTART:20141128T180000
DTEND:20141128T193000
SUMMARY:X Aniversario de la Facultad del Deporte
TZID:Europe/Madrid
UID:b4860f71-74b3-11e4-9fef-3fe5a96f4a88
URL:http://www.upo.es/portal/impe/web/contenido/b4860f71-74b3-11e4-9fef-3fe5a96f4a88
LOCATION:Paraninfo
END:VEVENT
BEGIN:VEVENT
DTSTAMP:20260421T060634Z
DTSTART:20141128T093000
DTEND:20141128T120000
SUMMARY:Taller 'Diferénciate: tu marca personal y videocurriculum'
TZID:Europe/Madrid
UID:cb98425f-7564-11e4-b8de-3fe5a96f4a88
URL:http://www.upo.es/portal/impe/web/contenido/cb98425f-7564-11e4-b8de-3fe5a96f4a88
LOCATION:Edificio Alexander von Humboldt\, aula informática 103
END:VEVENT
END:VCALENDAR
