BEGIN:VCALENDAR
PRODID:-//Ben Fortuna//iCal4j 0.9.20//ES
VERSION:2.0
CALSCALE:GREGORIAN
BEGIN:VEVENT
DTSTAMP:20260421T001005Z
DTSTART:20141201T103000
DTEND:20141201T143000
SUMMARY:Taller 'El mercado de trabajo en Andalucía: medidas hacia la recuperación del empleo'
TZID:Europe/Madrid
UID:c8f57ee2-6b38-11e4-aa8e-3fe5a96f4a88
URL:http://www.upo.es/portal/impe/web/contenido/c8f57ee2-6b38-11e4-aa8e-3fe5a96f4a88
LOCATION:Edificio 6\, sala de grados
END:VEVENT
BEGIN:VEVENT
DTSTAMP:20260421T001005Z
DTSTART:20141201T094500
DTEND:20141201T140000
SUMMARY:Estrategias de enseñanza y aprendizaje del Holocausto
TZID:Europe/Madrid
UID:3219e537-7562-11e4-b8de-3fe5a96f4a88
URL:http://www.upo.es/portal/impe/web/contenido/3219e537-7562-11e4-b8de-3fe5a96f4a88
LOCATION:Biblioteca\, sala de grados
END:VEVENT
BEGIN:VEVENT
DTSTAMP:20260421T001005Z
DTSTART:20141201T100000
DTEND:20141203T203000
SUMMARY:XXI Campaña Universitaria de Donación de Sangre
TZID:Europe/Madrid
UID:d378ec49-74b4-11e4-9fef-3fe5a96f4a88
URL:http://www.upo.es/portal/impe/web/contenido/d378ec49-74b4-11e4-9fef-3fe5a96f4a88
LOCATION:Rectorado\, planta baja
END:VEVENT
BEGIN:VEVENT
DTSTAMP:20260421T001005Z
DTSTART:20141202T093000
DTEND:20141202T130000
SUMMARY:Soluciones creativas para la búsqueda de empleo: crea tu cooperativa de trabajo
TZID:Europe/Madrid
UID:1e1c70b6-76f6-11e4-a684-3fe5a96f4a88
URL:http://www.upo.es/portal/impe/web/contenido/1e1c70b6-76f6-11e4-a684-3fe5a96f4a88
LOCATION:Biblioteca\, sala de grados
END:VEVENT
BEGIN:VEVENT
DTSTAMP:20260421T001005Z
DTSTART:20141202T100000
DTEND:20141204T140000
SUMMARY:Seminario/Taller 'La poética de un teatro sin medios'
TZID:Europe/Madrid
UID:c3fa1f8d-74b1-11e4-9fef-3fe5a96f4a88
URL:http://www.upo.es/portal/impe/web/contenido/c3fa1f8d-74b1-11e4-9fef-3fe5a96f4a88
LOCATION:ECAG - Espacio Cultural "Antigua Guardería" 
END:VEVENT
BEGIN:VEVENT
DTSTAMP:20260421T001005Z
DTSTART:20141202T170000
DTEND:20141202T183000
SUMMARY:Presentación del libro "Adriano e la Grecia"
TZID:Europe/Madrid
UID:8d9fcff3-7af3-11e4-8249-3fe5a96f4a88
URL:http://www.upo.es/portal/impe/web/contenido/8d9fcff3-7af3-11e4-8249-3fe5a96f4a88
LOCATION:Museo Nazionale Romano (Roma)
END:VEVENT
BEGIN:VEVENT
DTSTAMP:20260421T001005Z
DTSTART:20141203T123000
DTEND:20141203T143000
SUMMARY:Mesa Redonda 'Andalucía en las nuevas emergencias políticas'
TZID:Europe/Madrid
UID:331c5964-7629-11e4-a69b-3fe5a96f4a88
URL:http://www.upo.es/portal/impe/web/contenido/331c5964-7629-11e4-a69b-3fe5a96f4a88
LOCATION:Edificio 6\, sala de grados
END:VEVENT
BEGIN:VEVENT
DTSTAMP:20260421T001005Z
DTSTART:20141203T160000
DTEND:20141204T200000
SUMMARY:I Jornadas sobre Historia Política y Económica '¿Cómo hemos llegado hasta aquí?'
TZID:Europe/Madrid
UID:8a9b8d83-74b5-11e4-9fef-3fe5a96f4a88
URL:http://www.upo.es/portal/impe/web/contenido/8a9b8d83-74b5-11e4-9fef-3fe5a96f4a88
LOCATION:Biblioteca\, sala de grados
END:VEVENT
BEGIN:VEVENT
DTSTAMP:20260421T001005Z
DTSTART:20141202T123000
DTEND:20141202T131500
SUMMARY:Presentación del mural 'Conga histórica'
TZID:Europe/Madrid
UID:75a3a135-795b-11e4-a72e-3fe5a96f4a88
URL:http://www.upo.es/portal/impe/web/contenido/75a3a135-795b-11e4-a72e-3fe5a96f4a88
LOCATION:ECAG - Espacio Cultural Antigua Guardería
END:VEVENT
BEGIN:VEVENT
DTSTAMP:20260421T001005Z
DTSTART:20141203T093000
DTEND:20141203T123000
SUMMARY:Taller 'Gestión eficaz de la búsqueda de empleo'
TZID:Europe/Madrid
UID:8a6ac079-7a33-11e4-a5a8-3fe5a96f4a88
URL:http://www.upo.es/portal/impe/web/contenido/8a6ac079-7a33-11e4-a5a8-3fe5a96f4a88
LOCATION:Edificio 'Alexander von Humboldt'
END:VEVENT
BEGIN:VEVENT
DTSTAMP:20260421T001005Z
DTSTART:20141204T093000
DTEND:20141204T123000
SUMMARY:Taller 'Emprende: Plan de empresa y ayuda a la financiación'
TZID:Europe/Madrid
UID:fdab9abd-7a33-11e4-a5a8-3fe5a96f4a88
URL:http://www.upo.es/portal/impe/web/contenido/fdab9abd-7a33-11e4-a5a8-3fe5a96f4a88
LOCATION:Edificio 'Alexander von Humboldt'
END:VEVENT
BEGIN:VEVENT
DTSTAMP:20260421T001005Z
DTSTART:20141205T110000
DTEND:20141205T123000
SUMMARY:Presentación de las 'Geórgicas' de Virgilio en traducción de Francisco Socas
TZID:Europe/Madrid
UID:ab130bc1-7ac7-11e4-8249-3fe5a96f4a88
URL:http://www.upo.es/portal/impe/web/contenido/ab130bc1-7ac7-11e4-8249-3fe5a96f4a88
LOCATION:Edificio 6\, sala de grados
END:VEVENT
BEGIN:VEVENT
DTSTAMP:20260421T001005Z
DTSTART:20141205T110000
DTEND:20141205T124500
SUMMARY:'Self-assembly structures\, supramolecular chirality and chiral recognition processes: spectroscopic and computational studies'
TZID:Europe/Madrid
UID:b7dc91c9-7baa-11e4-8f5a-3fe5a96f4a88
URL:http://www.upo.es/portal/impe/web/contenido/b7dc91c9-7baa-11e4-8f5a-3fe5a96f4a88
LOCATION:Edificio 24\, Aula 103
END:VEVENT
BEGIN:VEVENT
DTSTAMP:20260421T001005Z
DTSTART:20141209T100000
DTEND:20141210T203000
SUMMARY:La significación sociopolítica del documental
TZID:Europe/Madrid
UID:f07123df-7c72-11e4-bd6c-3fe5a96f4a88
URL:http://www.upo.es/portal/impe/web/contenido/f07123df-7c72-11e4-bd6c-3fe5a96f4a88
LOCATION:Edificio 7\, sala de grados
END:VEVENT
BEGIN:VEVENT
DTSTAMP:20260421T001005Z
DTSTART:20141210T100000
DTEND:20141210T140000
SUMMARY:Día Internacional del Voluntariado en la UPO
TZID:Europe/Madrid
UID:e9d1929e-7939-11e4-a72e-3fe5a96f4a88
URL:http://www.upo.es/portal/impe/web/contenido/e9d1929e-7939-11e4-a72e-3fe5a96f4a88
LOCATION:Edificio Celestino Mutis
END:VEVENT
BEGIN:VEVENT
DTSTAMP:20260421T001005Z
DTSTART:20141210T150000
DTEND:20141210T163000
SUMMARY:Experiencia Internacional Canadá - Sesión informativa
TZID:Europe/Madrid
UID:577e79ac-7c58-11e4-bd6c-3fe5a96f4a88
URL:http://www.upo.es/portal/impe/web/contenido/577e79ac-7c58-11e4-bd6c-3fe5a96f4a88
LOCATION:Edificio 29\, aula B05
END:VEVENT
BEGIN:VEVENT
DTSTAMP:20260421T001005Z
DTSTART:20141210T120000
DTEND:20141210T180000
SUMMARY:Elecciones a Consejos de Departamento. Sector Estudiantes
TZID:Europe/Madrid
UID:dfc739bc-7fae-11e4-967c-3fe5a96f4a88
URL:http://www.upo.es/portal/impe/web/contenido/dfc739bc-7fae-11e4-967c-3fe5a96f4a88
LOCATION:Rectorado\, sala multiusos
END:VEVENT
BEGIN:VEVENT
DTSTAMP:20260421T001005Z
DTSTART:20141211T190000
DTEND:20141211T203000
SUMMARY:'Sintiendo el Flamenco'\, con Rocío Márquez y Tomás de Perrate
TZID:Europe/Madrid
UID:d2261fef-7961-11e4-a72e-3fe5a96f4a88
URL:http://www.upo.es/portal/impe/web/contenido/d2261fef-7961-11e4-a72e-3fe5a96f4a88
LOCATION:CABD\, salón de actos
END:VEVENT
BEGIN:VEVENT
DTSTAMP:20260421T001005Z
DTSTART:20141211T090000
DTEND:20141212T140000
SUMMARY:Introducción a la Agricultura Ecológica en la UPO
TZID:Europe/Madrid
UID:80c01034-6e5a-11e4-8270-3fe5a96f4a88
URL:http://www.upo.es/portal/impe/web/contenido/80c01034-6e5a-11e4-8270-3fe5a96f4a88
LOCATION:UPO
END:VEVENT
BEGIN:VEVENT
DTSTAMP:20260421T001005Z
DTSTART:20141211T100000
DTEND:20141212T140000
SUMMARY:'La asistencialidad y no contributividad en el sistema de seguridad social'
TZID:Europe/Madrid
UID:f5d40646-7938-11e4-a72e-3fe5a96f4a88
URL:http://www.upo.es/portal/impe/web/contenido/f5d40646-7938-11e4-a72e-3fe5a96f4a88
LOCATION: Hotel Alcázar de la Reina. Carmona
END:VEVENT
BEGIN:VEVENT
DTSTAMP:20260421T001005Z
DTSTART:20141211T100000
DTEND:20141212T123000
SUMMARY:Patrimonio Histórico y Cultural de Sevilla
TZID:Europe/Madrid
UID:c5b09a4e-8111-11e4-99c6-3fe5a96f4a88
URL:http://www.upo.es/portal/impe/web/contenido/c5b09a4e-8111-11e4-99c6-3fe5a96f4a88
LOCATION:Casa de la Provincia. Pz del Triunfo\, 1. Sevilla
END:VEVENT
BEGIN:VEVENT
DTSTAMP:20260421T001005Z
DTSTART:20141211T110000
DTEND:20141211T190000
SUMMARY:Entérate Sevilla
TZID:Europe/Madrid
UID:e0a6e01d-7b8f-11e4-8f5a-3fe5a96f4a88
URL:http://www.upo.es/portal/impe/web/contenido/e0a6e01d-7b8f-11e4-8f5a-3fe5a96f4a88
LOCATION:Hotel NH Central Convenciones
END:VEVENT
BEGIN:VEVENT
DTSTAMP:20260421T001005Z
DTSTART:20141211T120000
DTEND:20141211T133000
SUMMARY:Premios a los Mejores Expedientes de Bachillerato
TZID:Europe/Madrid
UID:b6da54ee-8078-11e4-bcd9-3fe5a96f4a88
URL:http://www.upo.es/portal/impe/web/contenido/b6da54ee-8078-11e4-bcd9-3fe5a96f4a88
LOCATION:Paraninfo
END:VEVENT
BEGIN:VEVENT
DTSTAMP:20260421T001005Z
DTSTART:20141212T091500
DTEND:20141212T181500
SUMMARY:Coloquio Corruptissima Res Publica
TZID:Europe/Madrid
UID:497da6bc-7f9a-11e4-967c-3fe5a96f4a88
URL:http://www.upo.es/portal/impe/web/contenido/497da6bc-7f9a-11e4-967c-3fe5a96f4a88
LOCATION:Edificio 7\, sala de grados
END:VEVENT
BEGIN:VEVENT
DTSTAMP:20260421T001005Z
DTSTART:20141212T120000
DTEND:20141212T133000
SUMMARY:'Driving Materials Synthesis: What we learn from computational studies'
TZID:Europe/Madrid
UID:af2d7eb5-8118-11e4-99c6-3fe5a96f4a88
URL:http://www.upo.es/portal/impe/web/contenido/af2d7eb5-8118-11e4-99c6-3fe5a96f4a88
LOCATION:Edificio 47\, segunda planta. Laboratorio Nautilus
END:VEVENT
BEGIN:VEVENT
DTSTAMP:20260421T001005Z
DTSTART:20141212T093000
DTEND:20141213T140000
SUMMARY:Afinidades anglo-hispanas en el S. XVII
TZID:Europe/Madrid
UID:1724c704-8051-11e4-bcd9-3fe5a96f4a88
URL:http://www.upo.es/portal/impe/web/contenido/1724c704-8051-11e4-bcd9-3fe5a96f4a88
LOCATION:Escuela de Estudios Hispano-Americanos\, sala Rafael Yuste
END:VEVENT
BEGIN:VEVENT
DTSTAMP:20260421T001005Z
DTSTART:20141212T110000
DTEND:20141212T123000
SUMMARY:Presentación de la nueva sede de SEO/BirdLife-Andalucía
TZID:Europe/Madrid
UID:bb4a29ca-8056-11e4-bcd9-3fe5a96f4a88
URL:http://www.upo.es/portal/impe/web/contenido/bb4a29ca-8056-11e4-bcd9-3fe5a96f4a88
LOCATION:Biblioteca
END:VEVENT
BEGIN:VEVENT
DTSTAMP:20260421T001005Z
DTSTART:20141215T100000
DTEND:20141216T143000
SUMMARY:Coloquio Internacional 'La economía política de los imperios'
TZID:Europe/Madrid
UID:5723f804-7625-11e4-a69b-3fe5a96f4a88
URL:http://www.upo.es/portal/impe/web/contenido/5723f804-7625-11e4-a69b-3fe5a96f4a88
LOCATION:Escuela de Estudios Hispano-Americanos\, Sala Yuste
END:VEVENT
BEGIN:VEVENT
DTSTAMP:20260421T001005Z
DTSTART:20141216T133000
DTEND:20141216T143000
SUMMARY:Presentación del libro 'Global Goods and the Spanish Empire\, 1492 &#8211\; 1824'
TZID:Europe/Madrid
UID:2164493e-7627-11e4-a69b-3fe5a96f4a88
URL:http://www.upo.es/portal/impe/web/contenido/2164493e-7627-11e4-a69b-3fe5a96f4a88
LOCATION:Escuela de Estudios Hispano-Americanos\, Sala Yuste
END:VEVENT
BEGIN:VEVENT
DTSTAMP:20260421T001005Z
DTSTART:20141216T160000
DTEND:20141216T210000
SUMMARY:La búsqueda del empleo a través de Linkedin
TZID:Europe/Madrid
UID:68f0c373-7c7e-11e4-bd6c-3fe5a96f4a88
URL:http://www.upo.es/portal/impe/web/contenido/68f0c373-7c7e-11e4-bd6c-3fe5a96f4a88
LOCATION:UPO
END:VEVENT
BEGIN:VEVENT
DTSTAMP:20260421T001005Z
DTSTART:20141216T170000
DTEND:20141217T200000
SUMMARY:Aspecto y su adquisición en segundas lenguas
TZID:Europe/Madrid
UID:0b2b61b6-76e8-11e4-a684-3fe5a96f4a88
URL:http://www.upo.es/portal/impe/web/contenido/0b2b61b6-76e8-11e4-a684-3fe5a96f4a88
LOCATION:Edificio 6\, sala de grados
END:VEVENT
BEGIN:VEVENT
DTSTAMP:20260421T001005Z
DTSTART:20141216T123000
DTEND:20141216T143000
SUMMARY:Cierre de los actos conmemorativos del X aniversario de la Flora Tristán
TZID:Europe/Madrid
UID:a201bce8-8071-11e4-bcd9-3fe5a96f4a88
URL:http://www.upo.es/portal/impe/web/contenido/a201bce8-8071-11e4-bcd9-3fe5a96f4a88
LOCATION:Residencia Universitaria Flora Tristán\, salón de actos.
END:VEVENT
BEGIN:VEVENT
DTSTAMP:20260421T001005Z
DTSTART:20141216T170000
DTEND:20141216T183000
SUMMARY:Internet y derecho al olvido
TZID:Europe/Madrid
UID:01b45d82-81ec-11e4-b671-3fe5a96f4a88
URL:http://www.upo.es/portal/impe/web/contenido/01b45d82-81ec-11e4-b671-3fe5a96f4a88
LOCATION:Edificio 3\, Sala de Juntas (1ª Planta)
END:VEVENT
BEGIN:VEVENT
DTSTAMP:20260421T001005Z
DTSTART:20141217T123000
DTEND:20141217T140000
SUMMARY:'In the beginning it was dark'
TZID:Europe/Madrid
UID:3dc755c1-8502-11e4-b501-3fe5a96f4a88
URL:http://www.upo.es/portal/impe/web/contenido/3dc755c1-8502-11e4-b501-3fe5a96f4a88
LOCATION:CABD\, salón de actos
END:VEVENT
BEGIN:VEVENT
DTSTAMP:20260421T001005Z
DTSTART:20141217T110000
DTEND:20141217T203000
SUMMARY:Congreso 'El mercado interior a la luz del Tratado de Lisboa'
TZID:Europe/Madrid
UID:eb64a667-8505-11e4-b501-3fe5a96f4a88
URL:http://www.upo.es/portal/impe/web/contenido/eb64a667-8505-11e4-b501-3fe5a96f4a88
LOCATION:Edificio 7\, sala de grados
END:VEVENT
BEGIN:VEVENT
DTSTAMP:20260421T001005Z
DTSTART:20141218T093000
DTEND:20141218T200000
SUMMARY:Seminario 'Artes escénicas y acción social'
TZID:Europe/Madrid
UID:1321624c-8127-11e4-99c6-3fe5a96f4a88
URL:http://www.upo.es/portal/impe/web/contenido/1321624c-8127-11e4-99c6-3fe5a96f4a88
LOCATION:Edificio Alexander Von Humboldt
END:VEVENT
BEGIN:VEVENT
DTSTAMP:20260421T001005Z
DTSTART:20141218T100000
DTEND:20141218T120000
SUMMARY:Entrega de regalos a personas mayores hospitalizadas
TZID:Europe/Madrid
UID:8c1d67fe-85f0-11e4-87e0-3fe5a96f4a88
URL:http://www.upo.es/portal/impe/web/contenido/8c1d67fe-85f0-11e4-87e0-3fe5a96f4a88
LOCATION:Hospital Virgen del Rocío\, Sevilla
END:VEVENT
BEGIN:VEVENT
DTSTAMP:20260421T001005Z
DTSTART:20141219T203000
DTEND:20141219T214500
SUMMARY:Concierto de Navidad
TZID:Europe/Madrid
UID:75871387-7962-11e4-a72e-3fe5a96f4a88
URL:http://www.upo.es/portal/impe/web/contenido/75871387-7962-11e4-a72e-3fe5a96f4a88
LOCATION:Iglesia de Santiago. Plaza de Jesús de la Redención.
END:VEVENT
BEGIN:VEVENT
DTSTAMP:20260421T001005Z
DTSTART:20141219T092000
DTEND:20141220T183000
SUMMARY:III International Congress on Team Sports 
TZID:Europe/Madrid
UID:e03e8867-868e-11e4-8871-3fe5a96f4a88
URL:http://www.upo.es/portal/impe/web/contenido/e03e8867-868e-11e4-8871-3fe5a96f4a88
LOCATION:Paraninfo
END:VEVENT
BEGIN:VEVENT
DTSTAMP:20260421T001005Z
DTSTART:20141227T100000
DTEND:20141227T140000
SUMMARY:III Torneo de Escuelas de Fútbol Fundación Cajasol
TZID:Europe/Madrid
UID:230d5c2f-86b8-11e4-8871-3fe5a96f4a88
URL:http://www.upo.es/portal/impe/web/contenido/230d5c2f-86b8-11e4-8871-3fe5a96f4a88
LOCATION:Instalaciones Deportivas UPO
END:VEVENT
END:VCALENDAR
