BEGIN:VCALENDAR
PRODID:-//Ben Fortuna//iCal4j 0.9.20//ES
VERSION:2.0
CALSCALE:GREGORIAN
BEGIN:VEVENT
DTSTAMP:20260422T181757Z
DTSTART:20140401T093000
DTEND:20140403T193000
SUMMARY:III Jornadas Culturales 'Arte y Cultura a través de los sentidos: un encuentro pa´ comérselo'
TZID:Europe/Madrid
UID:f4ac3159-b8df-11e3-99a4-3fe5a96f4a88
URL:http://www.upo.es/portal/impe/web/contenido/f4ac3159-b8df-11e3-99a4-3fe5a96f4a88
LOCATION:Edificio 10\, aula 1
END:VEVENT
BEGIN:VEVENT
DTSTAMP:20260422T181757Z
DTSTART:20140401T090000
DTEND:20140403T143000
SUMMARY:Encuentros para el empleo: ¿Cómo acceder al mercado laboral?
TZID:Europe/Madrid
UID:6073ed92-b337-11e3-b9b0-3fe5a96f4a88
URL:http://www.upo.es/portal/impe/web/contenido/6073ed92-b337-11e3-b9b0-3fe5a96f4a88
LOCATION:Edificio 7\, sala de grados
END:VEVENT
BEGIN:VEVENT
DTSTAMP:20260422T181757Z
DTSTART:20140402T093000
DTEND:20140402T133000
SUMMARY:Taller 'Recursos para mejorar tu inglés'
TZID:Europe/Madrid
UID:5f06cba1-b4c3-11e3-b92a-3fe5a96f4a88
URL:http://www.upo.es/portal/impe/web/contenido/5f06cba1-b4c3-11e3-b92a-3fe5a96f4a88
LOCATION:Edificio Alexander von Humboldt\, despacho 67
END:VEVENT
BEGIN:VEVENT
DTSTAMP:20260422T181757Z
DTSTART:20140402T163000
DTEND:20140402T183000
SUMMARY:'Mito e Historia. España y Cataluña'
TZID:Europe/Madrid
UID:835a233c-ba4c-11e3-a44d-3fe5a96f4a88
URL:http://www.upo.es/portal/impe/web/contenido/835a233c-ba4c-11e3-a44d-3fe5a96f4a88
LOCATION:Edificio 7\, sala de grados
END:VEVENT
BEGIN:VEVENT
DTSTAMP:20260422T181757Z
DTSTART:20140402T103000
DTEND:20140403T200000
SUMMARY:Jornadas 'Universitarios por una economía más justa'
TZID:Europe/Madrid
UID:a735c89d-b00d-11e3-bbbb-3fe5a96f4a88
URL:http://www.upo.es/portal/impe/web/contenido/a735c89d-b00d-11e3-bbbb-3fe5a96f4a88
LOCATION:UPO
END:VEVENT
BEGIN:VEVENT
DTSTAMP:20260422T181757Z
DTSTART:20140402T200000
DTEND:20140404T140000
SUMMARY:Cien años de Meditaciones del Quijote y del nacimiento de Julián Marías
TZID:Europe/Madrid
UID:ab3e8e99-a8fe-11e3-acdd-3fe5a96f4a88
URL:http://www.upo.es/portal/impe/web/contenido/ab3e8e99-a8fe-11e3-acdd-3fe5a96f4a88
LOCATION:Sevilla
END:VEVENT
BEGIN:VEVENT
DTSTAMP:20260422T181757Z
DTSTART:20140402T164500
DTEND:20140404T140000
SUMMARY:'Procesos De/Constituyentes en España y Suramérica'
TZID:Europe/Madrid
UID:c364de0d-b026-11e3-bbbb-3fe5a96f4a88
URL:http://www.upo.es/portal/impe/web/contenido/c364de0d-b026-11e3-bbbb-3fe5a96f4a88
LOCATION:UNIA. Rectorado
END:VEVENT
BEGIN:VEVENT
DTSTAMP:20260422T181757Z
DTSTART:20140402T100000
DTEND:20140405T230000
SUMMARY:X aniversario de la R.U. Flora Tristán
TZID:Europe/Madrid
UID:719800c8-b69b-11e3-b345-3fe5a96f4a88
URL:http://www.upo.es/portal/impe/web/contenido/719800c8-b69b-11e3-b345-3fe5a96f4a88
LOCATION:UPO / Residencia Flora Tristán
END:VEVENT
BEGIN:VEVENT
DTSTAMP:20260422T181757Z
DTSTART:20140402T103000
DTEND:20140402T183000
SUMMARY:Jornadas de Formación para Estudiantes de CAFD
TZID:Europe/Madrid
UID:6b072223-b992-11e3-a6c0-3fe5a96f4a88
URL:http://www.upo.es/portal/impe/web/contenido/6b072223-b992-11e3-a6c0-3fe5a96f4a88
LOCATION:Edificio 7 y Biblioteca (sala de grados)
END:VEVENT
BEGIN:VEVENT
DTSTAMP:20260422T181757Z
DTSTART:20140402T120000
DTEND:20140402T120000
SUMMARY:Presentación del libro 'Segregación urbana y exclusión social en Sevilla. El paradigma Polígono Sur'
TZID:Europe/Madrid
UID:1092fa3b-ba4e-11e3-a44d-3fe5a96f4a88
URL:http://www.upo.es/portal/impe/web/contenido/1092fa3b-ba4e-11e3-a44d-3fe5a96f4a88
LOCATION:Centro de servicios sociales comunitarios del Polígono Sur (Av. de la Paz\, s/n)
END:VEVENT
BEGIN:VEVENT
DTSTAMP:20260422T181757Z
DTSTART:20140403T163000
DTEND:20140403T210000
SUMMARY:'Derecho Penal e Informática'
TZID:Europe/Madrid
UID:697e7476-ba4d-11e3-a44d-3fe5a96f4a88
URL:http://www.upo.es/portal/impe/web/contenido/697e7476-ba4d-11e3-a44d-3fe5a96f4a88
LOCATION:Edificio 3\, sala de juntas
END:VEVENT
BEGIN:VEVENT
DTSTAMP:20260422T181757Z
DTSTART:20140403T170000
DTEND:20140403T183000
SUMMARY:'La intervenciaón social con comunidades'
TZID:Europe/Madrid
UID:5489fa41-ba52-11e3-a44d-3fe5a96f4a88
URL:http://www.upo.es/portal/impe/web/contenido/5489fa41-ba52-11e3-a44d-3fe5a96f4a88
LOCATION:Edificio 7\, sala de grados
END:VEVENT
BEGIN:VEVENT
DTSTAMP:20260422T181757Z
DTSTART:20140404T090000
DTEND:20140404T180000
SUMMARY:III Jornada de Biotecnología de los Másteres de la UPO
TZID:Europe/Madrid
UID:effc299d-b8d2-11e3-99a4-3fe5a96f4a88
URL:http://www.upo.es/portal/impe/web/contenido/effc299d-b8d2-11e3-99a4-3fe5a96f4a88
LOCATION:Edificio Alexander von Humboldt\, aula B11
END:VEVENT
BEGIN:VEVENT
DTSTAMP:20260422T181757Z
DTSTART:20140425T100000
DTEND:20140425T143000
SUMMARY:Workshop on Labour Economics
TZID:Europe/Madrid
UID:a0d6cda8-ca16-11e3-95e3-3fe5a96f4a88
URL:http://www.upo.es/portal/impe/web/contenido/a0d6cda8-ca16-11e3-95e3-3fe5a96f4a88
LOCATION:Edificio 3\, primera planta\, Sala de Juntas
END:VEVENT
BEGIN:VEVENT
DTSTAMP:20260422T181757Z
DTSTART:20140407T120000
DTEND:20140409T140000
SUMMARY:XI Jornadas 'Presente y el Futuro de la Mediación'
TZID:Europe/Madrid
UID:f8808fea-9d56-11e3-9a66-3fe5a96f4a88
URL:http://www.upo.es/portal/impe/web/contenido/f8808fea-9d56-11e3-9a66-3fe5a96f4a88
LOCATION:Paraninfo. Universidad Pablo de Olavide
END:VEVENT
BEGIN:VEVENT
DTSTAMP:20260422T181757Z
DTSTART:20140407T090000
DTEND:20140410T140000
SUMMARY:Campaña Universitaria de Donación de Sangre
TZID:Europe/Madrid
UID:0a516340-b348-11e3-b9b0-3fe5a96f4a88
URL:http://www.upo.es/portal/impe/web/contenido/0a516340-b348-11e3-b9b0-3fe5a96f4a88
LOCATION:Rectorado. Sala Multiusos.
END:VEVENT
BEGIN:VEVENT
DTSTAMP:20260422T181757Z
DTSTART:20140407T100000
DTEND:20140411T140000
SUMMARY:Semana Verde
TZID:Europe/Madrid
UID:d4e31a53-ba50-11e3-a44d-3fe5a96f4a88
URL:http://www.upo.es/portal/impe/web/contenido/d4e31a53-ba50-11e3-a44d-3fe5a96f4a88
LOCATION:Campus de la UPO
END:VEVENT
BEGIN:VEVENT
DTSTAMP:20260422T181757Z
DTSTART:20140408T122500
DTEND:20140408T122500
SUMMARY:Seminario 'Desarrollo\, Diálogo y Mediación Intercultural'
TZID:Europe/Madrid
UID:000a6bc7-b0ec-11e3-8542-3fe5a96f4a88
URL:http://www.upo.es/portal/impe/web/contenido/000a6bc7-b0ec-11e3-8542-3fe5a96f4a88
LOCATION:UPO
END:VEVENT
BEGIN:VEVENT
DTSTAMP:20260422T181757Z
DTSTART:20140408T090000
DTEND:20140408T133000
SUMMARY:Taller 'Salidas profesionales en Ambientales'
TZID:Europe/Madrid
UID:e19bc03d-b4c3-11e3-b92a-3fe5a96f4a88
URL:http://www.upo.es/portal/impe/web/contenido/e19bc03d-b4c3-11e3-b92a-3fe5a96f4a88
LOCATION:Edificio Alexander von Humboldt\, despacho 67
END:VEVENT
BEGIN:VEVENT
DTSTAMP:20260422T181757Z
DTSTART:20140408T110000
DTEND:20140408T173000
SUMMARY:Visita de internos de la prisión Sevilla I
TZID:Europe/Madrid
UID:df908b96-bc04-11e3-bd9f-3fe5a96f4a88
URL:http://www.upo.es/portal/impe/web/contenido/df908b96-bc04-11e3-bd9f-3fe5a96f4a88
LOCATION:Campus UPO
END:VEVENT
BEGIN:VEVENT
DTSTAMP:20260422T181757Z
DTSTART:20140410T093000
DTEND:20140410T133000
SUMMARY:Taller 'Movilidad internacional: becas y prácticas'
TZID:Europe/Madrid
UID:38cceb11-b4c4-11e3-b92a-3fe5a96f4a88
URL:http://www.upo.es/portal/impe/web/contenido/38cceb11-b4c4-11e3-b92a-3fe5a96f4a88
LOCATION:Edificio Alexander von Humboldt\, despacho 67
END:VEVENT
BEGIN:VEVENT
DTSTAMP:20260422T181757Z
DTSTART:20140410T133000
DTEND:20140410T140000
SUMMARY:Inauguración del mural 'Viajando el Paraíso: UPO'
TZID:Europe/Madrid
UID:77fdbf47-bf1a-11e3-a150-3fe5a96f4a88
URL:http://www.upo.es/portal/impe/web/contenido/77fdbf47-bf1a-11e3-a150-3fe5a96f4a88
LOCATION:Plaza de Andalucía
END:VEVENT
BEGIN:VEVENT
DTSTAMP:20260422T181757Z
DTSTART:20140410T103000
DTEND:20140410T113000
SUMMARY:'Enfoque genético a la traducción: El caso de Don Pedro II'
TZID:Europe/Madrid
UID:6f40e9e4-bf2f-11e3-a150-3fe5a96f4a88
URL:http://www.upo.es/portal/impe/web/contenido/6f40e9e4-bf2f-11e3-a150-3fe5a96f4a88
LOCATION:Edificio 7\, sala de grados
END:VEVENT
BEGIN:VEVENT
DTSTAMP:20260422T181757Z
DTSTART:20140410T120000
DTEND:20140410T180000
SUMMARY:'Movimientos antipolíticos y liderazgos: el caso de Beppe Grillo en Italia'
TZID:Europe/Madrid
UID:02ba8c0c-bfc1-11e3-8843-3fe5a96f4a88
URL:http://www.upo.es/portal/impe/web/contenido/02ba8c0c-bfc1-11e3-8843-3fe5a96f4a88
LOCATION:Edificio 11\, aula 7
END:VEVENT
BEGIN:VEVENT
DTSTAMP:20260422T181757Z
DTSTART:20140411T115400
DTEND:20140411T115400
SUMMARY:Conferencias de investigación histórica: 7ª y última sesión
TZID:Europe/Madrid
UID:6ea190a7-81c1-11e3-86f3-3fe5a96f4a88
URL:http://www.upo.es/portal/impe/web/contenido/6ea190a7-81c1-11e3-86f3-3fe5a96f4a88
LOCATION:EEHA\, sala Calderón Quijano
END:VEVENT
BEGIN:VEVENT
DTSTAMP:20260422T181757Z
DTSTART:20140420T095500
DTEND:20140420T095500
SUMMARY:VI Concurso de Ideas y Proyectos Empresariales Innovadores: Fin del plazo de inscripción
TZID:Europe/Madrid
UID:dc4ede1e-bbce-11e3-bd9f-3fe5a96f4a88
URL:http://www.upo.es/portal/impe/web/contenido/dc4ede1e-bbce-11e3-bd9f-3fe5a96f4a88
LOCATION:UPO
END:VEVENT
BEGIN:VEVENT
DTSTAMP:20260422T181757Z
DTSTART:20140421T093000
DTEND:20140421T133000
SUMMARY:Taller 'Salidas profesionales: Facultad de Empresariales y Facultad de Derecho'
TZID:Europe/Madrid
UID:9d92a5e9-b4c4-11e3-b92a-3fe5a96f4a88
URL:http://www.upo.es/portal/impe/web/contenido/9d92a5e9-b4c4-11e3-b92a-3fe5a96f4a88
LOCATION:Edificio Alexander von Humboldt\, despacho 67
END:VEVENT
BEGIN:VEVENT
DTSTAMP:20260422T181757Z
DTSTART:20140421T120000
DTEND:20140421T171800
SUMMARY:Jornadas &#8216\;Universidades contra la reforma de la justicia universal&#8217\;
TZID:Europe/Madrid
UID:db9c0e80-c0c3-11e3-8428-3fe5a96f4a88
URL:http://www.upo.es/portal/impe/web/contenido/db9c0e80-c0c3-11e3-8428-3fe5a96f4a88
LOCATION:Edificio 7\, sala de grados
END:VEVENT
BEGIN:VEVENT
DTSTAMP:20260422T181757Z
DTSTART:20140421T100000
DTEND:20140425T210000
SUMMARY:Exposición XVI Premio de Fotografía Humanitaria Luis Valtueña
TZID:Europe/Madrid
UID:46f95d10-c954-11e3-a779-3fe5a96f4a88
URL:http://www.upo.es/portal/impe/web/contenido/46f95d10-c954-11e3-a779-3fe5a96f4a88
LOCATION:Biblioteca Universitaria
END:VEVENT
BEGIN:VEVENT
DTSTAMP:20260422T181757Z
DTSTART:20140421T120000
DTEND:20140503T210000
SUMMARY:Exposición Contemporarte 2013
TZID:Europe/Madrid
UID:a228740c-c955-11e3-a779-3fe5a96f4a88
URL:http://www.upo.es/portal/impe/web/contenido/a228740c-c955-11e3-a779-3fe5a96f4a88
LOCATION:Biblioteca\, sala de exposiciones
END:VEVENT
BEGIN:VEVENT
DTSTAMP:20260422T181757Z
DTSTART:20140422T100000
DTEND:20140422T130000
SUMMARY:Taller 'Modelo de negocio: modelo Canvas'
TZID:Europe/Madrid
UID:ed2a2acf-b4c4-11e3-b92a-3fe5a96f4a88
URL:http://www.upo.es/portal/impe/web/contenido/ed2a2acf-b4c4-11e3-b92a-3fe5a96f4a88
LOCATION:Edificio Alexander von Humboldt\, despacho 67
END:VEVENT
BEGIN:VEVENT
DTSTAMP:20260422T181757Z
DTSTART:20140422T100000
DTEND:20140422T130000
SUMMARY:XI Encuentro de Voluntariado en la UPO
TZID:Europe/Madrid
UID:de9d2000-c9f0-11e3-95e3-3fe5a96f4a88
URL:http://www.upo.es/portal/impe/web/contenido/de9d2000-c9f0-11e3-95e3-3fe5a96f4a88
LOCATION:Edificio 24\, aula B02.
END:VEVENT
BEGIN:VEVENT
DTSTAMP:20260422T181757Z
DTSTART:20140422T120000
DTEND:20140424T180000
SUMMARY:Día DE
TZID:Europe/Madrid
UID:0a4caea8-c0c3-11e3-8428-3fe5a96f4a88
URL:http://www.upo.es/portal/impe/web/contenido/0a4caea8-c0c3-11e3-8428-3fe5a96f4a88
LOCATION:Campus UPO
END:VEVENT
BEGIN:VEVENT
DTSTAMP:20260422T181757Z
DTSTART:20140423T093000
DTEND:20140423T133000
SUMMARY:Taller 'Redes sociales profesionales: Twitter y Linkedin'
TZID:Europe/Madrid
UID:54713959-b4c5-11e3-b92a-3fe5a96f4a88
URL:http://www.upo.es/portal/impe/web/contenido/54713959-b4c5-11e3-b92a-3fe5a96f4a88
LOCATION:Edificio Alexander von Humboldt\, despacho 67
END:VEVENT
BEGIN:VEVENT
DTSTAMP:20260422T181757Z
DTSTART:20140424T180000
DTEND:20140424T200000
SUMMARY:Los derechos de los consumidores
TZID:Europe/Madrid
UID:109d3f82-ca1d-11e3-95e3-3fe5a96f4a88
URL:http://www.upo.es/portal/impe/web/contenido/109d3f82-ca1d-11e3-95e3-3fe5a96f4a88
LOCATION:Edificio 7\, sala de grados
END:VEVENT
BEGIN:VEVENT
DTSTAMP:20260422T181757Z
DTSTART:20140424T153000
DTEND:20140425T210000
SUMMARY:I Jornadas &#8216\;Intervenciones asistidas por animales en Ciencias Sociales&#8217\;
TZID:Europe/Madrid
UID:4e2ec128-b4f9-11e3-b92a-3fe5a96f4a88
URL:http://www.upo.es/portal/impe/web/contenido/4e2ec128-b4f9-11e3-b92a-3fe5a96f4a88
LOCATION:Edificio Alexander von Humboldt\, aula B07.
END:VEVENT
BEGIN:VEVENT
DTSTAMP:20260422T181757Z
DTSTART:20140424T103000
DTEND:20140425T140000
SUMMARY:I Jornadas de Traducción Erótica
TZID:Europe/Madrid
UID:50107e4d-cabb-11e3-b321-3fe5a96f4a88
URL:http://www.upo.es/portal/impe/web/contenido/50107e4d-cabb-11e3-b321-3fe5a96f4a88
LOCATION:Biblioteca\, sala de grados / Edificios 10 y 29
END:VEVENT
BEGIN:VEVENT
DTSTAMP:20260422T181757Z
DTSTART:20140424T103000
DTEND:20140426T140000
SUMMARY:I Seminario Políticas Culturales
TZID:Europe/Madrid
UID:2f999060-c3ca-11e3-98c1-3fe5a96f4a88
URL:http://www.upo.es/portal/impe/web/contenido/2f999060-c3ca-11e3-98c1-3fe5a96f4a88
LOCATION:Casa de la Provincia (Pz. del Triunfo\, Sevilla)
END:VEVENT
BEGIN:VEVENT
DTSTAMP:20260422T181757Z
DTSTART:20140425T093000
DTEND:20140425T133000
SUMMARY:Taller 'videocurrículum'
TZID:Europe/Madrid
UID:bfdcc345-b4c5-11e3-b92a-3fe5a96f4a88
URL:http://www.upo.es/portal/impe/web/contenido/bfdcc345-b4c5-11e3-b92a-3fe5a96f4a88
LOCATION:Edificio Alexander von Humboldt\, despacho 67
END:VEVENT
BEGIN:VEVENT
DTSTAMP:20260422T181757Z
DTSTART:20140425T110000
DTEND:20140425T140000
SUMMARY:I FESTIVAL DE TEATRO EN V.O.
TZID:Europe/Madrid
UID:88dbdc58-c9f4-11e3-95e3-3fe5a96f4a88
URL:http://www.upo.es/portal/impe/web/contenido/88dbdc58-c9f4-11e3-95e3-3fe5a96f4a88
LOCATION:Paraninfo
END:VEVENT
BEGIN:VEVENT
DTSTAMP:20260422T181757Z
DTSTART:20140425T113000
DTEND:20140425T123000
SUMMARY:Presentación de los Cursos de Verano 2014
TZID:Europe/Madrid
UID:ad8e5f44-ca2b-11e3-95e3-3fe5a96f4a88
URL:http://www.upo.es/portal/impe/web/contenido/ad8e5f44-ca2b-11e3-95e3-3fe5a96f4a88
LOCATION:Casa de la Provincia
END:VEVENT
BEGIN:VEVENT
DTSTAMP:20260422T181757Z
DTSTART:20140428T093000
DTEND:20140428T133000
SUMMARY:Taller 'Competencias y comunicación de un emprendedor'
TZID:Europe/Madrid
UID:1ffff828-b4c6-11e3-b92a-3fe5a96f4a88
URL:http://www.upo.es/portal/impe/web/contenido/1ffff828-b4c6-11e3-b92a-3fe5a96f4a88
LOCATION:Edificio Alexander von Humboldt\, despacho 67
END:VEVENT
BEGIN:VEVENT
DTSTAMP:20260422T181757Z
DTSTART:20140428T093000
DTEND:20140428T190000
SUMMARY:Retos en Contabilidad y Control de Gestión
TZID:Europe/Madrid
UID:313d82e3-c3d2-11e3-98c1-3fe5a96f4a88
URL:http://www.upo.es/portal/impe/web/contenido/313d82e3-c3d2-11e3-98c1-3fe5a96f4a88
LOCATION:Aula 1.12 del edificio 45
END:VEVENT
BEGIN:VEVENT
DTSTAMP:20260422T181757Z
DTSTART:20140428T200000
DTEND:20140428T213000
SUMMARY:Jornadas participativas con políticos andaluces sobre las elecciones europeas
TZID:Europe/Madrid
UID:d7f69967-ca25-11e3-95e3-3fe5a96f4a88
URL:http://www.upo.es/portal/impe/web/contenido/d7f69967-ca25-11e3-95e3-3fe5a96f4a88
LOCATION:Biblioteca\, sala de grados
END:VEVENT
BEGIN:VEVENT
DTSTAMP:20260422T181757Z
DTSTART:20140428T163000
DTEND:20140428T210000
SUMMARY:Jornada sobre el Parlamento Europeo
TZID:Europe/Madrid
UID:1a0e307f-cadc-11e3-b321-3fe5a96f4a88
URL:http://www.upo.es/portal/impe/web/contenido/1a0e307f-cadc-11e3-b321-3fe5a96f4a88
LOCATION:Edificio 7\, sala de grados
END:VEVENT
BEGIN:VEVENT
DTSTAMP:20260422T181757Z
DTSTART:20140429T094100
DTEND:20140429T094100
SUMMARY:XIV Jornadas de Escuela Cultura de Paz
TZID:Europe/Madrid
UID:14396118-c9f2-11e3-95e3-3fe5a96f4a88
URL:http://www.upo.es/portal/impe/web/contenido/14396118-c9f2-11e3-95e3-3fe5a96f4a88
END:VEVENT
BEGIN:VEVENT
DTSTAMP:20260422T181757Z
DTSTART:20140429T093000
DTEND:20140429T140000
SUMMARY:Workshop on Landscape History
TZID:Europe/Madrid
UID:83f38549-ced4-11e3-8650-3fe5a96f4a88
URL:http://www.upo.es/portal/impe/web/contenido/83f38549-ced4-11e3-8650-3fe5a96f4a88
LOCATION:Edificio 'Alexander von Humboldt'\, aula 1.07
END:VEVENT
BEGIN:VEVENT
DTSTAMP:20260422T181757Z
DTSTART:20140429T091500
DTEND:20140429T143000
SUMMARY:Jornadas de Orientación Profesional de la Facultad de Humanidades
TZID:Europe/Madrid
UID:54b53515-cede-11e3-8650-3fe5a96f4a88
URL:http://www.upo.es/portal/impe/web/contenido/54b53515-cede-11e3-8650-3fe5a96f4a88
LOCATION:Edificio 5\, aula 2 / Edif. 16\, aula 1
END:VEVENT
BEGIN:VEVENT
DTSTAMP:20260422T181757Z
DTSTART:20140429T093000
DTEND:20140430T140000
SUMMARY:Taller 'Publicidad\, Consumo y Medio Ambiente'
TZID:Europe/Madrid
UID:07b6d3a9-caf4-11e3-b321-3fe5a96f4a88
URL:http://www.upo.es/portal/impe/web/contenido/07b6d3a9-caf4-11e3-b321-3fe5a96f4a88
LOCATION:UPO
END:VEVENT
BEGIN:VEVENT
DTSTAMP:20260422T181757Z
DTSTART:20140430T093000
DTEND:20140430T123000
SUMMARY:Seminario 'Mathematica on the road'
TZID:Europe/Madrid
UID:52f34adf-ca2a-11e3-95e3-3fe5a96f4a88
URL:http://www.upo.es/portal/impe/web/contenido/52f34adf-ca2a-11e3-95e3-3fe5a96f4a88
LOCATION:Edificio 10. Aula 1
END:VEVENT
BEGIN:VEVENT
DTSTAMP:20260422T181757Z
DTSTART:20140408T100000
DTEND:20140410T140000
SUMMARY:Jornada de Puertas Abiertas para estudiantes de Bachillerato
TZID:Europe/Madrid
UID:4c95ca31-8364-11e3-86f3-3fe5a96f4a88
URL:http://www.upo.es/portal/impe/web/contenido/4c95ca31-8364-11e3-86f3-3fe5a96f4a88
LOCATION:UPO
END:VEVENT
END:VCALENDAR
