BEGIN:VCALENDAR
PRODID:-//Ben Fortuna//iCal4j 0.9.20//ES
VERSION:2.0
CALSCALE:GREGORIAN
BEGIN:VEVENT
DTSTAMP:20260422T124420Z
DTSTART:20140421T120000
DTEND:20140503T210000
SUMMARY:Exposición Contemporarte 2013
TZID:Europe/Madrid
UID:a228740c-c955-11e3-a779-3fe5a96f4a88
URL:http://www.upo.es/portal/impe/web/contenido/a228740c-c955-11e3-a779-3fe5a96f4a88
LOCATION:Biblioteca\, sala de exposiciones
END:VEVENT
BEGIN:VEVENT
DTSTAMP:20260422T124420Z
DTSTART:20140511T094500
DTEND:20140511T190000
SUMMARY:Geolodía 2014
TZID:Europe/Madrid
UID:d7b2ab9c-d03d-11e3-9025-3fe5a96f4a88
URL:http://www.upo.es/portal/impe/web/contenido/d7b2ab9c-d03d-11e3-9025-3fe5a96f4a88
LOCATION:Morón de la Frontera
END:VEVENT
BEGIN:VEVENT
DTSTAMP:20260422T124420Z
DTSTART:20140512T110000
DTEND:20140512T120000
SUMMARY:Entrega del I Premio DILU - Fase Local
TZID:Europe/Madrid
UID:945b913a-d040-11e3-9025-3fe5a96f4a88
URL:http://www.upo.es/portal/impe/web/contenido/945b913a-d040-11e3-9025-3fe5a96f4a88
LOCATION:Rectorado\, sala de prensa
END:VEVENT
BEGIN:VEVENT
DTSTAMP:20260422T124420Z
DTSTART:20140512T093000
DTEND:20140514T140000
SUMMARY:EPICS VI
TZID:Europe/Madrid
UID:739d3176-d43a-11e3-8050-3fe5a96f4a88
URL:http://www.upo.es/portal/impe/web/contenido/739d3176-d43a-11e3-8050-3fe5a96f4a88
LOCATION:Facultad de Filología de la Universidad de Sevilla
END:VEVENT
BEGIN:VEVENT
DTSTAMP:20260422T124420Z
DTSTART:20140513T100000
DTEND:20140513T140000
SUMMARY:Mesa Informativa acerca del Transplante de Médula Ósea
TZID:Europe/Madrid
UID:54ef3432-d433-11e3-8050-3fe5a96f4a88
URL:http://www.upo.es/portal/impe/web/contenido/54ef3432-d433-11e3-8050-3fe5a96f4a88
LOCATION:Edificio Celestino Mutis. Entrada
END:VEVENT
BEGIN:VEVENT
DTSTAMP:20260422T124420Z
DTSTART:20140513T100000
DTEND:20140513T120000
SUMMARY:Presentación del Proyecto ACELERA-SEVILLA
TZID:Europe/Madrid
UID:e329cf55-d435-11e3-8050-3fe5a96f4a88
URL:http://www.upo.es/portal/impe/web/contenido/e329cf55-d435-11e3-8050-3fe5a96f4a88
LOCATION:Edificio 7\, sala de grados
END:VEVENT
BEGIN:VEVENT
DTSTAMP:20260422T124420Z
DTSTART:20140513T160000
DTEND:20140513T180000
SUMMARY:Seminario de Historia Moderna
TZID:Europe/Madrid
UID:3da51935-da91-11e3-bb40-3fe5a96f4a88
URL:http://www.upo.es/portal/impe/web/contenido/3da51935-da91-11e3-bb40-3fe5a96f4a88
LOCATION:Edificio 2\, sala de juntas 1
END:VEVENT
BEGIN:VEVENT
DTSTAMP:20260422T124420Z
DTSTART:20140514T190000
DTEND:20140514T203000
SUMMARY:Acto de Graduación: estudiantes de Derecho
TZID:Europe/Madrid
UID:1d77d7ce-cfaa-11e3-8256-3fe5a96f4a88
URL:http://www.upo.es/portal/impe/web/contenido/1d77d7ce-cfaa-11e3-8256-3fe5a96f4a88
LOCATION:Paraninfo
END:VEVENT
BEGIN:VEVENT
DTSTAMP:20260422T124420Z
DTSTART:20140514T133000
DTEND:20140514T143000
SUMMARY:Acto público de tomas de posesión
TZID:Europe/Madrid
UID:2714857f-da97-11e3-bb40-3fe5a96f4a88
URL:http://www.upo.es/portal/impe/web/contenido/2714857f-da97-11e3-bb40-3fe5a96f4a88
LOCATION:Edificio 6\, sala de grados
END:VEVENT
BEGIN:VEVENT
DTSTAMP:20260422T124420Z
DTSTART:20140514T180000
DTEND:20140514T193000
SUMMARY:Seminario sobre la Plataforma de Afectados por la Hipoteca
TZID:Europe/Madrid
UID:8439c601-db42-11e3-a199-3fe5a96f4a88
URL:http://www.upo.es/portal/impe/web/contenido/8439c601-db42-11e3-a199-3fe5a96f4a88
LOCATION:Edificio 7\, sala de grados
END:VEVENT
BEGIN:VEVENT
DTSTAMP:20260422T124420Z
DTSTART:20140514T170000
DTEND:20140514T183000
SUMMARY:Mesa redonda sobre la renta básica
TZID:Europe/Madrid
UID:25ddcafd-db47-11e3-a199-3fe5a96f4a88
URL:http://www.upo.es/portal/impe/web/contenido/25ddcafd-db47-11e3-a199-3fe5a96f4a88
LOCATION:Edificio 6\, aula 3
END:VEVENT
BEGIN:VEVENT
DTSTAMP:20260422T124420Z
DTSTART:20140515T190000
DTEND:20140515T203000
SUMMARY:Acto de Graduación: Derecho + Ciencias Políticas y de la Administración
TZID:Europe/Madrid
UID:a8f3d9f3-cfaa-11e3-8256-3fe5a96f4a88
URL:http://www.upo.es/portal/impe/web/contenido/a8f3d9f3-cfaa-11e3-8256-3fe5a96f4a88
LOCATION:Paraninfo
END:VEVENT
BEGIN:VEVENT
DTSTAMP:20260422T124420Z
DTSTART:20140515T100000
DTEND:20140515T120000
SUMMARY:Políticos andaluces en Europa: Teresa Jiménez-Becerril
TZID:Europe/Madrid
UID:9f496b7d-d5c1-11e3-897c-3fe5a96f4a88
URL:http://www.upo.es/portal/impe/web/contenido/9f496b7d-d5c1-11e3-897c-3fe5a96f4a88
LOCATION:Biblioteca\, sala de grados
END:VEVENT
BEGIN:VEVENT
DTSTAMP:20260422T124420Z
DTSTART:20140515T100000
DTEND:20140517T200000
SUMMARY:XII Feria de la Ciencia
TZID:Europe/Madrid
UID:cd992369-d434-11e3-8050-3fe5a96f4a88
URL:http://www.upo.es/portal/impe/web/contenido/cd992369-d434-11e3-8050-3fe5a96f4a88
LOCATION:FIBES (Alcalde Luis Uruñuela\, 1. Sevilla)
END:VEVENT
BEGIN:VEVENT
DTSTAMP:20260422T124420Z
DTSTART:20140515T104600
DTEND:20140515T104600
SUMMARY:I Seminario de Derecho privado comparado
TZID:Europe/Madrid
UID:cca28a17-db44-11e3-a199-3fe5a96f4a88
URL:http://www.upo.es/portal/impe/web/contenido/cca28a17-db44-11e3-a199-3fe5a96f4a88
LOCATION:Edificio 7\, sala de grados
END:VEVENT
BEGIN:VEVENT
DTSTAMP:20260422T124420Z
DTSTART:20140515T170000
DTEND:20140515T200000
SUMMARY:Mesa Redonda 'Tendencias actuales en Derecho penal y Criminología'
TZID:Europe/Madrid
UID:1a0b40f5-db48-11e3-a199-3fe5a96f4a88
URL:http://www.upo.es/portal/impe/web/contenido/1a0b40f5-db48-11e3-a199-3fe5a96f4a88
LOCATION:Biblioteca\, sala de grados
END:VEVENT
BEGIN:VEVENT
DTSTAMP:20260422T124420Z
DTSTART:20140517T203000
DTEND:20140517T223000
SUMMARY:Concierto de Intercambio de Coros Universitarios
TZID:Europe/Madrid
UID:90509d0b-da8e-11e3-bb40-3fe5a96f4a88
URL:http://www.upo.es/portal/impe/web/contenido/90509d0b-da8e-11e3-bb40-3fe5a96f4a88
LOCATION:Iglesia de la Anunciación (C/ Laraña). SEVILLA
END:VEVENT
BEGIN:VEVENT
DTSTAMP:20260422T124420Z
DTSTART:20140519T100000
DTEND:20140519T120000
SUMMARY:Presentación en la UPO del programa Talentum Startups
TZID:Europe/Madrid
UID:16806460-dc34-11e3-8db5-3fe5a96f4a88
URL:http://www.upo.es/portal/impe/web/contenido/16806460-dc34-11e3-8db5-3fe5a96f4a88
LOCATION:Edificio 7\, sala de grados
END:VEVENT
BEGIN:VEVENT
DTSTAMP:20260422T124420Z
DTSTART:20140520T203000
DTEND:20140520T203000
SUMMARY:Ceremonia de Egresados de la Fac. de Ciencias Empresariales: 2010-2014
TZID:Europe/Madrid
UID:7deb573c-b00f-11e3-bbbb-3fe5a96f4a88
URL:http://www.upo.es/portal/impe/web/contenido/7deb573c-b00f-11e3-bbbb-3fe5a96f4a88
LOCATION:Plaza de América
END:VEVENT
BEGIN:VEVENT
DTSTAMP:20260422T124420Z
DTSTART:20140520T151400
DTEND:20140520T151400
SUMMARY:Presentación del libro 'Movimientos sociales\, participación y ciudadanía en Andalucía'
TZID:Europe/Madrid
UID:5fc8baf2-dc33-11e3-8db5-3fe5a96f4a88
URL:http://www.upo.es/portal/impe/web/contenido/5fc8baf2-dc33-11e3-8db5-3fe5a96f4a88
LOCATION:Edificio 7\, sala de grados
END:VEVENT
BEGIN:VEVENT
DTSTAMP:20260422T124420Z
DTSTART:20140520T120000
DTEND:20140520T133000
SUMMARY:Políticos andaluces en las elecciones europeas: Micaela Navarro
TZID:Europe/Madrid
UID:e0478379-dc34-11e3-8db5-3fe5a96f4a88
URL:http://www.upo.es/portal/impe/web/contenido/e0478379-dc34-11e3-8db5-3fe5a96f4a88
LOCATION:Edificio 6\, sala de grados
END:VEVENT
BEGIN:VEVENT
DTSTAMP:20260422T124420Z
DTSTART:20140520T093000
DTEND:20140521T140000
SUMMARY:Jornadas de Puertas Abiertas para estudiantes de Secundaria
TZID:Europe/Madrid
UID:3d774214-df45-11e3-a6b3-3fe5a96f4a88
URL:http://www.upo.es/portal/impe/web/contenido/3d774214-df45-11e3-a6b3-3fe5a96f4a88
LOCATION:UPO
END:VEVENT
BEGIN:VEVENT
DTSTAMP:20260422T124420Z
DTSTART:20140520T190000
DTEND:20140520T203000
SUMMARY:Políticos andaluces en las elecciones europeas: Esteban de Manuel
TZID:Europe/Madrid
UID:8eae9405-dc35-11e3-8db5-3fe5a96f4a88
URL:http://www.upo.es/portal/impe/web/contenido/8eae9405-dc35-11e3-8db5-3fe5a96f4a88
LOCATION:Biblioteca\, sala de grados
END:VEVENT
BEGIN:VEVENT
DTSTAMP:20260422T124420Z
DTSTART:20140520T191500
DTEND:20140520T204500
SUMMARY:Mesa Redonda 'Partidos emergentes en la política española. Desarrollo y propuestas'
TZID:Europe/Madrid
UID:ff296b31-dff6-11e3-b61a-3fe5a96f4a88
URL:http://www.upo.es/portal/impe/web/contenido/ff296b31-dff6-11e3-b61a-3fe5a96f4a88
LOCATION:Edificio 6\, sala de grados
END:VEVENT
BEGIN:VEVENT
DTSTAMP:20260422T124420Z
DTSTART:20140521T203000
DTEND:20140521T213000
SUMMARY:Ceremonia de Egresados: dobles grados de Derecho y Empresariales 2009-2015
TZID:Europe/Madrid
UID:831b5acc-b010-11e3-bbbb-3fe5a96f4a88
URL:http://www.upo.es/portal/impe/web/contenido/831b5acc-b010-11e3-bbbb-3fe5a96f4a88
LOCATION:Plaza de América
END:VEVENT
BEGIN:VEVENT
DTSTAMP:20260422T124420Z
DTSTART:20140521T093000
DTEND:20140521T180000
SUMMARY:II Jornada de Puertas Abiertas de Estudios de Postgrado de la UPO
TZID:Europe/Madrid
UID:f4bfbf03-db45-11e3-a199-3fe5a96f4a88
URL:http://www.upo.es/portal/impe/web/contenido/f4bfbf03-db45-11e3-a199-3fe5a96f4a88
LOCATION:Biblioteca y Pasaje de la Ilustración
END:VEVENT
BEGIN:VEVENT
DTSTAMP:20260422T124420Z
DTSTART:20140521T210000
DTEND:20140521T223500
SUMMARY:La Escalera Teatro: 'CUERPO / SOY / YO'
TZID:Europe/Madrid
UID:44c829af-dc36-11e3-8db5-3fe5a96f4a88
URL:http://www.upo.es/portal/impe/web/contenido/44c829af-dc36-11e3-8db5-3fe5a96f4a88
LOCATION:Sala LA FUNDICIÓN. C/ Habana\, Nº 18.
END:VEVENT
BEGIN:VEVENT
DTSTAMP:20260422T124420Z
DTSTART:20140521T120000
DTEND:20140521T133000
SUMMARY:'Crisis and eco-social transformations. Historical and feminist perspectives'
TZID:Europe/Madrid
UID:bca9a8bd-e01f-11e3-b61a-3fe5a96f4a88
URL:http://www.upo.es/portal/impe/web/contenido/bca9a8bd-e01f-11e3-b61a-3fe5a96f4a88
LOCATION:Biblioteca\, sala de grados
END:VEVENT
BEGIN:VEVENT
DTSTAMP:20260422T124420Z
DTSTART:20140522T190000
DTEND:20140522T203000
SUMMARY:Acto de Graduación: Relaciones Laborales y Recursos Humanos
TZID:Europe/Madrid
UID:07a30c69-cfab-11e3-8256-3fe5a96f4a88
URL:http://www.upo.es/portal/impe/web/contenido/07a30c69-cfab-11e3-8256-3fe5a96f4a88
LOCATION:Paraninfo
END:VEVENT
BEGIN:VEVENT
DTSTAMP:20260422T124420Z
DTSTART:20140522T183000
DTEND:20140522T200000
SUMMARY:Foro Abierto: XV años de La Escalera Teatro
TZID:Europe/Madrid
UID:1bc5652b-df47-11e3-a6b3-3fe5a96f4a88
URL:http://www.upo.es/portal/impe/web/contenido/1bc5652b-df47-11e3-a6b3-3fe5a96f4a88
LOCATION:CABD\, salón de actos
END:VEVENT
BEGIN:VEVENT
DTSTAMP:20260422T124420Z
DTSTART:20140522T120000
DTEND:20140522T130000
SUMMARY:Presentación de la Asociación Rosario Valpuesta
TZID:Europe/Madrid
UID:e580797b-e0c8-11e3-81d2-3fe5a96f4a88
URL:http://www.upo.es/portal/impe/web/contenido/e580797b-e0c8-11e3-81d2-3fe5a96f4a88
LOCATION:Casa de la Provincia (Pz. del Triunfo\, s/n)
END:VEVENT
BEGIN:VEVENT
DTSTAMP:20260422T124420Z
DTSTART:20140522T093000
DTEND:20140522T133000
SUMMARY:Taller 'Movilidad internacional: Becas y prácticas'
TZID:Europe/Madrid
UID:02705a63-e0ca-11e3-81d2-3fe5a96f4a88
URL:http://www.upo.es/portal/impe/web/contenido/02705a63-e0ca-11e3-81d2-3fe5a96f4a88
LOCATION:Edificio 45
END:VEVENT
BEGIN:VEVENT
DTSTAMP:20260422T124420Z
DTSTART:20140522T093000
DTEND:20140522T140000
SUMMARY:Autoemprende: Jornada para Emprendedores
TZID:Europe/Madrid
UID:586d26da-e0ce-11e3-81d2-3fe5a96f4a88
URL:http://www.upo.es/portal/impe/web/contenido/586d26da-e0ce-11e3-81d2-3fe5a96f4a88
LOCATION:Biblioteca\, sala de grados
END:VEVENT
BEGIN:VEVENT
DTSTAMP:20260422T124420Z
DTSTART:20140523T113000
DTEND:20140523T140000
SUMMARY:Los movimientos sociales en Andalucía a través del Rock
TZID:Europe/Madrid
UID:1163a796-df53-11e3-a6b3-3fe5a96f4a88
URL:http://www.upo.es/portal/impe/web/contenido/1163a796-df53-11e3-a6b3-3fe5a96f4a88
LOCATION:Paraninfo
END:VEVENT
BEGIN:VEVENT
DTSTAMP:20260422T124420Z
DTSTART:20140523T170000
DTEND:20140523T190000
SUMMARY:'El movimiento 15M en Internet'
TZID:Europe/Madrid
UID:1b1ea111-e0c8-11e3-81d2-3fe5a96f4a88
URL:http://www.upo.es/portal/impe/web/contenido/1b1ea111-e0c8-11e3-81d2-3fe5a96f4a88
LOCATION:Edificio 13\, aula 8
END:VEVENT
BEGIN:VEVENT
DTSTAMP:20260422T124420Z
DTSTART:20140526T153000
DTEND:20140526T173000
SUMMARY:'I difficili rapporti fra Lingua e Diritto'
TZID:Europe/Madrid
UID:eb851527-e0fa-11e3-81d2-3fe5a96f4a88
URL:http://www.upo.es/portal/impe/web/contenido/eb851527-e0fa-11e3-81d2-3fe5a96f4a88
LOCATION:Edificio 7\, sala de grados
END:VEVENT
BEGIN:VEVENT
DTSTAMP:20260422T124420Z
DTSTART:20140526T103000
DTEND:20140526T123000
SUMMARY:'Formation of food-borne toxicants during heat processing of foods'
TZID:Europe/Madrid
UID:2856a6ad-e4a9-11e3-ae87-3fe5a96f4a88
URL:http://www.upo.es/portal/impe/web/contenido/2856a6ad-e4a9-11e3-ae87-3fe5a96f4a88
LOCATION:Edificio Alexander von Humboldt\, aula B06
END:VEVENT
BEGIN:VEVENT
DTSTAMP:20260422T124420Z
DTSTART:20140527T180000
DTEND:20140527T203000
SUMMARY:'Los desafíos de Europa'
TZID:Europe/Madrid
UID:78a46c18-db43-11e3-a199-3fe5a96f4a88
URL:http://www.upo.es/portal/impe/web/contenido/78a46c18-db43-11e3-a199-3fe5a96f4a88
LOCATION:Biblioteca\, sala de grados
END:VEVENT
BEGIN:VEVENT
DTSTAMP:20260422T124420Z
DTSTART:20140527T090000
DTEND:20140527T110000
SUMMARY:'Quality control on the basis of sensory science'
TZID:Europe/Madrid
UID:7da4b9a3-e4a9-11e3-ae87-3fe5a96f4a88
URL:http://www.upo.es/portal/impe/web/contenido/7da4b9a3-e4a9-11e3-ae87-3fe5a96f4a88
LOCATION:Edificio Alexander von Humboldt\, aual B06
END:VEVENT
BEGIN:VEVENT
DTSTAMP:20260422T124420Z
DTSTART:20140528T103000
DTEND:20140530T143000
SUMMARY:Violencia\, Género y Adolescencia
TZID:Europe/Madrid
UID:3765e7aa-e4ac-11e3-ae87-3fe5a96f4a88
URL:http://www.upo.es/portal/impe/web/contenido/3765e7aa-e4ac-11e3-ae87-3fe5a96f4a88
LOCATION:UPO / EEHA
END:VEVENT
BEGIN:VEVENT
DTSTAMP:20260422T124420Z
DTSTART:20140528T100000
DTEND:20140528T133000
SUMMARY:Taller 'DIAGNÓSTICO AMBIENTAL PARTICIPATIVO'
TZID:Europe/Madrid
UID:27acd919-e653-11e3-8e4d-3fe5a96f4a88
URL:http://www.upo.es/portal/impe/web/contenido/27acd919-e653-11e3-8e4d-3fe5a96f4a88
LOCATION:Seminario 4 del Edificio 11
END:VEVENT
BEGIN:VEVENT
DTSTAMP:20260422T124420Z
DTSTART:20140529T090000
DTEND:20140529T140000
SUMMARY:Taller 'Cómo afrontar entrevistas de selección'
TZID:Europe/Madrid
UID:8acb6d69-e0ca-11e3-81d2-3fe5a96f4a88
URL:http://www.upo.es/portal/impe/web/contenido/8acb6d69-e0ca-11e3-81d2-3fe5a96f4a88
LOCATION:Edificio 45
END:VEVENT
BEGIN:VEVENT
DTSTAMP:20260422T124420Z
DTSTART:20140529T110000
DTEND:20140529T130000
SUMMARY:Día Mundial Sin Tabaco en la UPO
TZID:Europe/Madrid
UID:5a9a3711-e4bb-11e3-ae87-3fe5a96f4a88
URL:http://www.upo.es/portal/impe/web/contenido/5a9a3711-e4bb-11e3-ae87-3fe5a96f4a88
LOCATION:Edificio Celestino Mutis\, entrada
END:VEVENT
BEGIN:VEVENT
DTSTAMP:20260422T124420Z
DTSTART:20140529T110000
DTEND:20140529T130000
SUMMARY:Seminario de Derecho Romano
TZID:Europe/Madrid
UID:3077c601-e643-11e3-8e4d-3fe5a96f4a88
URL:http://www.upo.es/portal/impe/web/contenido/3077c601-e643-11e3-8e4d-3fe5a96f4a88
LOCATION:Edificio 3\, sala de juntas
END:VEVENT
END:VCALENDAR
