BEGIN:VCALENDAR
PRODID:-//Ben Fortuna//iCal4j 0.9.20//ES
VERSION:2.0
CALSCALE:GREGORIAN
BEGIN:VEVENT
DTSTAMP:20260422T084146Z
DTSTART:20140603T100000
DTEND:20140606T120000
SUMMARY:Desayunos Europeos en la UPO
TZID:Europe/Madrid
UID:c9681e85-e646-11e3-8e4d-3fe5a96f4a88
URL:http://www.upo.es/portal/impe/web/contenido/c9681e85-e646-11e3-8e4d-3fe5a96f4a88
LOCATION:Edificio 11\, Seminario 5
END:VEVENT
BEGIN:VEVENT
DTSTAMP:20260422T084146Z
DTSTART:20140604T110000
DTEND:20140604T140000
SUMMARY:Taller 'Cómo elaborar un plan de empresa. CADE Alcalá'
TZID:Europe/Madrid
UID:ecf5bcf0-e0ca-11e3-81d2-3fe5a96f4a88
URL:http://www.upo.es/portal/impe/web/contenido/ecf5bcf0-e0ca-11e3-81d2-3fe5a96f4a88
LOCATION:Edificio 45
END:VEVENT
BEGIN:VEVENT
DTSTAMP:20260422T084146Z
DTSTART:20140604T090000
DTEND:20140604T180000
SUMMARY:Jornadas de Prácticas en Empresa: Biotecnología
TZID:Europe/Madrid
UID:0b84124b-e64a-11e3-8e4d-3fe5a96f4a88
URL:http://www.upo.es/portal/impe/web/contenido/0b84124b-e64a-11e3-8e4d-3fe5a96f4a88
LOCATION:Biblioteca\, sala de grados
END:VEVENT
BEGIN:VEVENT
DTSTAMP:20260422T084146Z
DTSTART:20140604T163000
DTEND:20140604T183000
SUMMARY:Conversaciones Socio-Políticas con Fernando Vallespín
TZID:Europe/Madrid
UID:23328cb9-eaf1-11e3-b09d-3fe5a96f4a88
URL:http://www.upo.es/portal/impe/web/contenido/23328cb9-eaf1-11e3-b09d-3fe5a96f4a88
LOCATION:Edificio 6\, sala de grados
END:VEVENT
BEGIN:VEVENT
DTSTAMP:20260422T084146Z
DTSTART:20140604T100000
DTEND:20140604T120000
SUMMARY:Propuestas Teórico-Analíticas para la Investigación Social en México y España
TZID:Europe/Madrid
UID:123982dd-eaf6-11e3-b09d-3fe5a96f4a88
URL:http://www.upo.es/portal/impe/web/contenido/123982dd-eaf6-11e3-b09d-3fe5a96f4a88
LOCATION:Edificio 6\, sala de grados
END:VEVENT
BEGIN:VEVENT
DTSTAMP:20260422T084146Z
DTSTART:20140605T100000
DTEND:20140605T130000
SUMMARY:'Agriculture and Rural Development in Europe. Spain and Turkey to the Horizon 2020'
TZID:Europe/Madrid
UID:df541479-eb2a-11e3-b09d-3fe5a96f4a88
URL:http://www.upo.es/portal/impe/web/contenido/df541479-eb2a-11e3-b09d-3fe5a96f4a88
LOCATION:Edificio 11\, Seminario 2 
END:VEVENT
BEGIN:VEVENT
DTSTAMP:20260422T084146Z
DTSTART:20140606T200000
DTEND:20140606T220000
SUMMARY:Acto de Fin de Curso Académico de la Peña 'Sentir Flamenco'
TZID:Europe/Madrid
UID:a2b71ae7-eaf6-11e3-b09d-3fe5a96f4a88
URL:http://www.upo.es/portal/impe/web/contenido/a2b71ae7-eaf6-11e3-b09d-3fe5a96f4a88
LOCATION:Espacio Cultural 'Antigua Guardería'
END:VEVENT
BEGIN:VEVENT
DTSTAMP:20260422T084146Z
DTSTART:20140606T201500
DTEND:20140606T220000
SUMMARY:Acto de Graduación: Grado en Trabajo Social
TZID:Europe/Madrid
UID:5d94ece9-ec95-11e3-8b3d-3fe5a96f4a88
URL:http://www.upo.es/portal/impe/web/contenido/5d94ece9-ec95-11e3-8b3d-3fe5a96f4a88
LOCATION:Plaza de América
END:VEVENT
BEGIN:VEVENT
DTSTAMP:20260422T084146Z
DTSTART:20140606T190000
DTEND:20140606T203000
SUMMARY:Acto de Graduación: Nutrición Humana y Dietética
TZID:Europe/Madrid
UID:6b7e90a9-ecb1-11e3-8b3d-3fe5a96f4a88
URL:http://www.upo.es/portal/impe/web/contenido/6b7e90a9-ecb1-11e3-8b3d-3fe5a96f4a88
LOCATION:Paraninfo
END:VEVENT
BEGIN:VEVENT
DTSTAMP:20260422T084146Z
DTSTART:20140609T113000
DTEND:20140609T120000
SUMMARY:Inauguración del parque 'Rectora Rosario Valpuesta'
TZID:Europe/Madrid
UID:3f7f1f3a-ed7c-11e3-a4fe-3fe5a96f4a88
URL:http://www.upo.es/portal/impe/web/contenido/3f7f1f3a-ed7c-11e3-a4fe-3fe5a96f4a88
LOCATION:Campus de Pirotecnia
END:VEVENT
BEGIN:VEVENT
DTSTAMP:20260422T084146Z
DTSTART:20140609T100000
DTEND:20140613T140000
SUMMARY:Taller 'Danza integrada. Danza en la diversidad'
TZID:Europe/Madrid
UID:5198e025-e4ba-11e3-ae87-3fe5a96f4a88
URL:http://www.upo.es/portal/impe/web/contenido/5198e025-e4ba-11e3-ae87-3fe5a96f4a88
LOCATION:Espacio Cultural 'Antigua Guardería'
END:VEVENT
BEGIN:VEVENT
DTSTAMP:20260422T084146Z
DTSTART:20140610T093000
DTEND:20140610T133000
SUMMARY:Taller 'Búsqueda activa de empleo y marca personal'
TZID:Europe/Madrid
UID:3d76906a-e0cb-11e3-81d2-3fe5a96f4a88
URL:http://www.upo.es/portal/impe/web/contenido/3d76906a-e0cb-11e3-81d2-3fe5a96f4a88
LOCATION:Edificio 45
END:VEVENT
BEGIN:VEVENT
DTSTAMP:20260422T084146Z
DTSTART:20140610T090000
DTEND:20140610T190000
SUMMARY:Jornadas de Prácticas en Empresas: Ciencias Ambientales y Nutrición
TZID:Europe/Madrid
UID:b3771121-e64a-11e3-8e4d-3fe5a96f4a88
URL:http://www.upo.es/portal/impe/web/contenido/b3771121-e64a-11e3-8e4d-3fe5a96f4a88
LOCATION:Biblioteca y Edificio 7
END:VEVENT
BEGIN:VEVENT
DTSTAMP:20260422T084146Z
DTSTART:20140610T100000
DTEND:20140612T143000
SUMMARY:Congreso Internacional 'Las villas romanas de la Bética'
TZID:Europe/Madrid
UID:4fa9f2ee-dc32-11e3-8db5-3fe5a96f4a88
URL:http://www.upo.es/portal/impe/web/contenido/4fa9f2ee-dc32-11e3-8db5-3fe5a96f4a88
LOCATION:Casa de la Provincia (Pz. del Triunfo\, 1)
END:VEVENT
BEGIN:VEVENT
DTSTAMP:20260422T084146Z
DTSTART:20140610T190000
DTEND:20140610T203000
SUMMARY:Ceremonia Fin de Carrera del Grado en Ciencias de la Actividad Física y del Deporte
TZID:Europe/Madrid
UID:d966412c-efd0-11e3-af1b-3fe5a96f4a88
URL:http://www.upo.es/portal/impe/web/contenido/d966412c-efd0-11e3-af1b-3fe5a96f4a88
LOCATION:Paraninfo
END:VEVENT
BEGIN:VEVENT
DTSTAMP:20260422T084146Z
DTSTART:20140611T173000
DTEND:20140611T173000
SUMMARY:Acto de Clausura del Aula Abierta de Mayores. Curso 2013-2014
TZID:Europe/Madrid
UID:fa8fd436-f095-11e3-a037-3fe5a96f4a88
URL:http://www.upo.es/portal/impe/web/contenido/fa8fd436-f095-11e3-a037-3fe5a96f4a88
LOCATION:Paraninfo
END:VEVENT
BEGIN:VEVENT
DTSTAMP:20260422T084146Z
DTSTART:20140612T160000
DTEND:20140613T140000
SUMMARY:Jornadas Identidad y Perfil del Educador/a Social
TZID:Europe/Madrid
UID:50565d98-f158-11e3-ba07-3fe5a96f4a88
URL:http://www.upo.es/portal/impe/web/contenido/50565d98-f158-11e3-ba07-3fe5a96f4a88
LOCATION:Rectorado y edificio 7\, sala de grados
END:VEVENT
BEGIN:VEVENT
DTSTAMP:20260422T084146Z
DTSTART:20140612T083000
DTEND:20140614T143000
SUMMARY:Selectividad
TZID:Europe/Madrid
UID:3ec284dc-e71d-11e3-a0c1-3fe5a96f4a88
URL:http://www.upo.es/portal/impe/web/contenido/3ec284dc-e71d-11e3-a0c1-3fe5a96f4a88
LOCATION:UPO
END:VEVENT
BEGIN:VEVENT
DTSTAMP:20260422T084146Z
DTSTART:20140613T193000
DTEND:20140613T210000
SUMMARY:Acto de Graduación: Biotecnología
TZID:Europe/Madrid
UID:b87c4fb2-f157-11e3-ba07-3fe5a96f4a88
URL:http://www.upo.es/portal/impe/web/contenido/b87c4fb2-f157-11e3-ba07-3fe5a96f4a88
LOCATION:Paraninfo
END:VEVENT
BEGIN:VEVENT
DTSTAMP:20260422T084146Z
DTSTART:20140617T093000
DTEND:20140617T133000
SUMMARY:Taller 'Emprender con competencias y marca personal'
TZID:Europe/Madrid
UID:a4467322-e0cb-11e3-81d2-3fe5a96f4a88
URL:http://www.upo.es/portal/impe/web/contenido/a4467322-e0cb-11e3-81d2-3fe5a96f4a88
LOCATION:Edificio 45
END:VEVENT
BEGIN:VEVENT
DTSTAMP:20260422T084146Z
DTSTART:20140618T210000
DTEND:20140618T223000
SUMMARY:'Cásina'\, de Plauto
TZID:Europe/Madrid
UID:da4a8554-f163-11e3-ba07-3fe5a96f4a88
URL:http://www.upo.es/portal/impe/web/contenido/da4a8554-f163-11e3-ba07-3fe5a96f4a88
LOCATION:Casa Palacio de los Briones
END:VEVENT
BEGIN:VEVENT
DTSTAMP:20260422T084146Z
DTSTART:20140618T190000
DTEND:20140618T203000
SUMMARY:Acto de Graduación: Traducción e Interpretación - Inglés
TZID:Europe/Madrid
UID:724fb624-f62b-11e3-aa63-3fe5a96f4a88
URL:http://www.upo.es/portal/impe/web/contenido/724fb624-f62b-11e3-aa63-3fe5a96f4a88
LOCATION:Paraninfo
END:VEVENT
BEGIN:VEVENT
DTSTAMP:20260422T084146Z
DTSTART:20140619T210000
DTEND:20140619T223000
SUMMARY:'CUERPO / SOY / YO' en la Sala Cero
TZID:Europe/Madrid
UID:4b5620a6-f2fd-11e3-929a-3fe5a96f4a88
URL:http://www.upo.es/portal/impe/web/contenido/4b5620a6-f2fd-11e3-929a-3fe5a96f4a88
LOCATION:Sala Cero (c/ Sol\, nº 5\, Sevilla)
END:VEVENT
BEGIN:VEVENT
DTSTAMP:20260422T084146Z
DTSTART:20140620T120000
DTEND:20140620T140000
SUMMARY:'Mecanismos de expresión génica y memoria en la enfermedad de Alzheimer'
TZID:Europe/Madrid
UID:a0775956-f61c-11e3-aa63-3fe5a96f4a88
URL:http://www.upo.es/portal/impe/web/contenido/a0775956-f61c-11e3-aa63-3fe5a96f4a88
LOCATION:Biblioteca\, sala de grados
END:VEVENT
BEGIN:VEVENT
DTSTAMP:20260422T084146Z
DTSTART:20140620T190000
DTEND:20140620T210000
SUMMARY:Acto de graduación: Trabajo Social y Educación Social (2009-2014)
TZID:Europe/Madrid
UID:1d6b22a3-f6e9-11e3-8df2-3fe5a96f4a88
URL:http://www.upo.es/portal/impe/web/contenido/1d6b22a3-f6e9-11e3-8df2-3fe5a96f4a88
LOCATION:Paraninfo
END:VEVENT
BEGIN:VEVENT
DTSTAMP:20260422T084146Z
DTSTART:20140620T090000
DTEND:20140621T130000
SUMMARY:'Connectors of Commercial Maritime Systems'
TZID:Europe/Madrid
UID:888d6aec-f62c-11e3-aa63-3fe5a96f4a88
URL:http://www.upo.es/portal/impe/web/contenido/888d6aec-f62c-11e3-aa63-3fe5a96f4a88
LOCATION:Escuela de Estudios Hispano-Americanos\, C/Alfonso XII\, 16
END:VEVENT
BEGIN:VEVENT
DTSTAMP:20260422T084146Z
DTSTART:20140623T170000
DTEND:20140626T180000
SUMMARY:VII Curso Nacional de Genética: Metagenómica
TZID:Europe/Madrid
UID:e2c09cc5-f6c9-11e3-8df2-3fe5a96f4a88
URL:http://www.upo.es/portal/impe/web/contenido/e2c09cc5-f6c9-11e3-8df2-3fe5a96f4a88
LOCATION:Sede Olavide en Carmona
END:VEVENT
BEGIN:VEVENT
DTSTAMP:20260422T084146Z
DTSTART:20140623T100000
DTEND:20140627T140000
SUMMARY:XIII Curso Nacional de Neurociencia
TZID:Europe/Madrid
UID:d4768642-790d-11e3-bf34-3fe5a96f4a88
URL:http://www.upo.es/portal/impe/web/contenido/d4768642-790d-11e3-bf34-3fe5a96f4a88
LOCATION:Sede Universitaria de la Olavide en Carmona
END:VEVENT
BEGIN:VEVENT
DTSTAMP:20260422T084146Z
DTSTART:20140624T093000
DTEND:20140624T133000
SUMMARY:Taller 'Redes sociales profesionales para el empleo'
TZID:Europe/Madrid
UID:4deb67d6-e0cc-11e3-81d2-3fe5a96f4a88
URL:http://www.upo.es/portal/impe/web/contenido/4deb67d6-e0cc-11e3-81d2-3fe5a96f4a88
LOCATION:Edificio 45
END:VEVENT
BEGIN:VEVENT
DTSTAMP:20260422T084146Z
DTSTART:20140625T000000
DTEND:20140625T235900
SUMMARY:Comienzo del período de preinscripción para estudios de grado
TZID:Europe/Madrid
UID:0c0fe82e-f302-11e3-929a-3fe5a96f4a88
URL:http://www.upo.es/portal/impe/web/contenido/0c0fe82e-f302-11e3-929a-3fe5a96f4a88
LOCATION:Andalucía
END:VEVENT
BEGIN:VEVENT
DTSTAMP:20260422T084146Z
DTSTART:20140625T190000
DTEND:20140625T210000
SUMMARY:Acto de Graduación: Traducción e Interpretación en Francés y Alemán - Promoción 2010-14
TZID:Europe/Madrid
UID:7dd608c5-fb93-11e3-954f-3fe5a96f4a88
URL:http://www.upo.es/portal/impe/web/contenido/7dd608c5-fb93-11e3-954f-3fe5a96f4a88
LOCATION:Paraninfo
END:VEVENT
BEGIN:VEVENT
DTSTAMP:20260422T084146Z
DTSTART:20140625T180000
DTEND:20140625T193000
SUMMARY:Clausura de la XI edición del Curso de Especialista en Mediación
TZID:Europe/Madrid
UID:4a096f31-fc67-11e3-a00e-3fe5a96f4a88
URL:http://www.upo.es/portal/impe/web/contenido/4a096f31-fc67-11e3-a00e-3fe5a96f4a88
LOCATION:Edificio 7\, sala de grados
END:VEVENT
BEGIN:VEVENT
DTSTAMP:20260422T084146Z
DTSTART:20140626T093000
DTEND:20140626T133000
SUMMARY:Taller 'Recursos para mejorar tu nivel de inglés'
TZID:Europe/Madrid
UID:e718f6d0-e0cc-11e3-81d2-3fe5a96f4a88
URL:http://www.upo.es/portal/impe/web/contenido/e718f6d0-e0cc-11e3-81d2-3fe5a96f4a88
LOCATION:Edificio 45
END:VEVENT
BEGIN:VEVENT
DTSTAMP:20260422T084146Z
DTSTART:20140626T100000
DTEND:20140626T114500
SUMMARY:'Ensayos destructivos o no destructivos: esa NO es la cuestión'
TZID:Europe/Madrid
UID:1d27394f-fb97-11e3-954f-3fe5a96f4a88
URL:http://www.upo.es/portal/impe/web/contenido/1d27394f-fb97-11e3-954f-3fe5a96f4a88
LOCATION:Edificio 6\, sala de grados
END:VEVENT
BEGIN:VEVENT
DTSTAMP:20260422T084146Z
DTSTART:20140626T183000
DTEND:20140626T200000
SUMMARY:Acto de Graduación: Sociología
TZID:Europe/Madrid
UID:47367306-fb9b-11e3-954f-3fe5a96f4a88
URL:http://www.upo.es/portal/impe/web/contenido/47367306-fb9b-11e3-954f-3fe5a96f4a88
LOCATION:Paraninfo
END:VEVENT
BEGIN:VEVENT
DTSTAMP:20260422T084146Z
DTSTART:20140626T170000
DTEND:20140626T190000
SUMMARY:'El papel de la Banca y los mercados financieros en la salida de la crisis'
TZID:Europe/Madrid
UID:b28792cd-fc41-11e3-a00e-3fe5a96f4a88
URL:http://www.upo.es/portal/impe/web/contenido/b28792cd-fc41-11e3-a00e-3fe5a96f4a88
LOCATION:Edificio Alexander von Humboldt
END:VEVENT
BEGIN:VEVENT
DTSTAMP:20260422T084146Z
DTSTART:20140626T184500
DTEND:20140626T200000
SUMMARY:Presentación del libro '¿Gentrificación o barbarie?'
TZID:Europe/Madrid
UID:d943ffe5-fc67-11e3-a00e-3fe5a96f4a88
URL:http://www.upo.es/portal/impe/web/contenido/d943ffe5-fc67-11e3-a00e-3fe5a96f4a88
LOCATION:Edificio 24\, Aula B05
END:VEVENT
BEGIN:VEVENT
DTSTAMP:20260422T084146Z
DTSTART:20140627T130000
DTEND:20140627T143000
SUMMARY:'Precursores Neurales y Nanomedicina en el Rescate de la Función Motora tras Lesión Medular'
TZID:Europe/Madrid
UID:5f44d767-fb96-11e3-954f-3fe5a96f4a88
URL:http://www.upo.es/portal/impe/web/contenido/5f44d767-fb96-11e3-954f-3fe5a96f4a88
LOCATION:Bilbioteca\, sala de grados
END:VEVENT
BEGIN:VEVENT
DTSTAMP:20260422T084146Z
DTSTART:20140627T120000
DTEND:20140627T140000
SUMMARY:Clausura de los másteres universitarios 2013-14
TZID:Europe/Madrid
UID:4ca7773e-fb9c-11e3-954f-3fe5a96f4a88
URL:http://www.upo.es/portal/impe/web/contenido/4ca7773e-fb9c-11e3-954f-3fe5a96f4a88
LOCATION:Paraninfo
END:VEVENT
BEGIN:VEVENT
DTSTAMP:20260422T084146Z
DTSTART:20140627T182000
DTEND:20140627T193000
SUMMARY:Acto de Graduación: Humanidades y Traducción e Interpretación en Inglés
TZID:Europe/Madrid
UID:d9c1e614-fb9c-11e3-954f-3fe5a96f4a88
URL:http://www.upo.es/portal/impe/web/contenido/d9c1e614-fb9c-11e3-954f-3fe5a96f4a88
LOCATION:Paraninfo
END:VEVENT
BEGIN:VEVENT
DTSTAMP:20260422T084146Z
DTSTART:20140627T194000
DTEND:20140627T204500
SUMMARY:Acto de Graduación: Humanidades
TZID:Europe/Madrid
UID:29b3bffa-fb9d-11e3-954f-3fe5a96f4a88
URL:http://www.upo.es/portal/impe/web/contenido/29b3bffa-fb9d-11e3-954f-3fe5a96f4a88
LOCATION:Paraninfo
END:VEVENT
BEGIN:VEVENT
DTSTAMP:20260422T084146Z
DTSTART:20140627T190000
DTEND:20140627T203000
SUMMARY:Acto de Graduación: Geografía e Historia
TZID:Europe/Madrid
UID:2e9a9077-fc3e-11e3-a00e-3fe5a96f4a88
URL:http://www.upo.es/portal/impe/web/contenido/2e9a9077-fc3e-11e3-a00e-3fe5a96f4a88
LOCATION:Paraninfo
END:VEVENT
BEGIN:VEVENT
DTSTAMP:20260422T084146Z
DTSTART:20140627T163000
DTEND:20140627T190000
SUMMARY:La gobernanza territorial en Europa entre convergencia y capacidad
TZID:Europe/Madrid
UID:092dcd71-fc40-11e3-a00e-3fe5a96f4a88
URL:http://www.upo.es/portal/impe/web/contenido/092dcd71-fc40-11e3-a00e-3fe5a96f4a88
LOCATION:Edificio Alexander von Humboldt
END:VEVENT
END:VCALENDAR
