BEGIN:VCALENDAR
PRODID:-//Ben Fortuna//iCal4j 0.9.20//ES
VERSION:2.0
CALSCALE:GREGORIAN
BEGIN:VEVENT
DTSTAMP:20260422T041607Z
DTSTART:20140709T090000
DTEND:20140709T110000
SUMMARY:Taller 'Planes de desarrollo universitario'
TZID:Europe/Madrid
UID:eee1441a-e0cb-11e3-81d2-3fe5a96f4a88
URL:http://www.upo.es/portal/impe/web/contenido/eee1441a-e0cb-11e3-81d2-3fe5a96f4a88
LOCATION:Edificio 45
END:VEVENT
BEGIN:VEVENT
DTSTAMP:20260422T041607Z
DTSTART:20140701T100000
DTEND:20140703T120100
SUMMARY:Desayunos europeos: talleres para optar a financiación de la UE
TZID:Europe/Madrid
UID:d5caf7cc-fb9e-11e3-954f-3fe5a96f4a88
URL:http://www.upo.es/portal/impe/web/contenido/d5caf7cc-fb9e-11e3-954f-3fe5a96f4a88
LOCATION:UPO
END:VEVENT
BEGIN:VEVENT
DTSTAMP:20260422T041607Z
DTSTART:20140702T213000
DTEND:20140702T231700
SUMMARY:'Las Troyanas' por Furor Bacchicus Teatro
TZID:Europe/Madrid
UID:05a98ddc-fb9a-11e3-954f-3fe5a96f4a88
URL:http://www.upo.es/portal/impe/web/contenido/05a98ddc-fb9a-11e3-954f-3fe5a96f4a88
LOCATION:Patio del Aljibe\, Alcázar de la Puerta de Sevilla
END:VEVENT
BEGIN:VEVENT
DTSTAMP:20260422T041607Z
DTSTART:20140704T100000
DTEND:20140704T200000
SUMMARY:La cara oculta del Patrimonio Histórico: riesgos y vulnerabilidad
TZID:Europe/Madrid
UID:4c7d5bef-01c0-11e4-960c-3fe5a96f4a88
URL:http://www.upo.es/portal/impe/web/contenido/4c7d5bef-01c0-11e4-960c-3fe5a96f4a88
LOCATION:Parque de las Ciencias. Av. de las Ciencias\, s/n. Granada
END:VEVENT
BEGIN:VEVENT
DTSTAMP:20260422T041607Z
DTSTART:20140704T210000
DTEND:20140704T222100
SUMMARY:Exposición 'El secreto de las Meninas'
TZID:Europe/Madrid
UID:78ce3301-01c2-11e4-960c-3fe5a96f4a88
URL:http://www.upo.es/portal/impe/web/contenido/78ce3301-01c2-11e4-960c-3fe5a96f4a88
LOCATION:Sede Olavide en Carmona. Casa Palacio de Los Briones
END:VEVENT
BEGIN:VEVENT
DTSTAMP:20260422T041607Z
DTSTART:20140704T100000
DTEND:20140704T120000
SUMMARY:'El sistema de acreditación del profesorado universitario (figura TU)'
TZID:Europe/Madrid
UID:f9836e5c-01c6-11e4-960c-3fe5a96f4a88
URL:http://www.upo.es/portal/impe/web/contenido/f9836e5c-01c6-11e4-960c-3fe5a96f4a88
LOCATION:CABD\, salón de actos
END:VEVENT
BEGIN:VEVENT
DTSTAMP:20260422T041607Z
DTSTART:20140707T100000
DTEND:20140707T110000
SUMMARY:Inauguración de la XII edición de los Cursos de Verano 2014 
TZID:Europe/Madrid
UID:fd547d9c-037f-11e4-a16e-3fe5a96f4a88
URL:http://www.upo.es/portal/impe/web/contenido/fd547d9c-037f-11e4-a16e-3fe5a96f4a88
LOCATION:Sede de la UPO en Carmona (Casa palacio de los Briones. C/ Ramón y Cajal\, 15)
END:VEVENT
BEGIN:VEVENT
DTSTAMP:20260422T041607Z
DTSTART:20140710T190000
DTEND:20140710T201500
SUMMARY:Acto de Graduación: Ingeniería Informática en Sistemas de Información
TZID:Europe/Madrid
UID:6dc74560-fb9d-11e3-954f-3fe5a96f4a88
URL:http://www.upo.es/portal/impe/web/contenido/6dc74560-fb9d-11e3-954f-3fe5a96f4a88
LOCATION:Paraninfo
END:VEVENT
BEGIN:VEVENT
DTSTAMP:20260422T041607Z
DTSTART:20140711T190000
DTEND:20140711T201500
SUMMARY:Acto de Graduación: Ciencias Ambientales
TZID:Europe/Madrid
UID:ba388406-fb9d-11e3-954f-3fe5a96f4a88
URL:http://www.upo.es/portal/impe/web/contenido/ba388406-fb9d-11e3-954f-3fe5a96f4a88
LOCATION:Paraninfo
END:VEVENT
BEGIN:VEVENT
DTSTAMP:20260422T041607Z
DTSTART:20140714T000100
DTEND:20140717T235900
SUMMARY:Matrícula 2014-15: 1ª adjudicación (Fase I)
TZID:Europe/Madrid
UID:0f11f9bb-08d5-11e4-86e4-3fe5a96f4a88
URL:http://www.upo.es/portal/impe/web/contenido/0f11f9bb-08d5-11e4-86e4-3fe5a96f4a88
END:VEVENT
BEGIN:VEVENT
DTSTAMP:20260422T041607Z
DTSTART:20140722T000100
DTEND:20140725T235900
SUMMARY:Matrícula 2014-15: 2ª adjudicación
TZID:Europe/Madrid
UID:53439918-08d6-11e4-86e4-3fe5a96f4a88
URL:http://www.upo.es/portal/impe/web/contenido/53439918-08d6-11e4-86e4-3fe5a96f4a88
LOCATION:UPO
END:VEVENT
END:VCALENDAR
