BEGIN:VCALENDAR
PRODID:-//Ben Fortuna//iCal4j 0.9.20//ES
VERSION:2.0
CALSCALE:GREGORIAN
BEGIN:VEVENT
DTSTAMP:20260422T041607Z
DTSTART:20140902T000100
DTEND:20140904T235900
SUMMARY:3ª Adjudicación y 1ª de titulados
TZID:Europe/Madrid
UID:3e0f9a2b-08da-11e4-86e4-3fe5a96f4a88
URL:http://www.upo.es/portal/impe/web/contenido/3e0f9a2b-08da-11e4-86e4-3fe5a96f4a88
LOCATION:UPO
END:VEVENT
BEGIN:VEVENT
DTSTAMP:20260422T041607Z
DTSTART:20140908T000100
DTEND:20140910T235900
SUMMARY:4ª Adjudicación (Fase I)
TZID:Europe/Madrid
UID:d194cce1-08da-11e4-86e4-3fe5a96f4a88
URL:http://www.upo.es/portal/impe/web/contenido/d194cce1-08da-11e4-86e4-3fe5a96f4a88
LOCATION:UPO
END:VEVENT
BEGIN:VEVENT
DTSTAMP:20260422T041607Z
DTSTART:20140910T093000
DTEND:20140911T133000
SUMMARY:Jornadas de Bienvenida. Curso 2014-15
TZID:Europe/Madrid
UID:ec36223c-08de-11e4-86e4-3fe5a96f4a88
URL:http://www.upo.es/portal/impe/web/contenido/ec36223c-08de-11e4-86e4-3fe5a96f4a88
LOCATION:Paraninfo UPO
END:VEVENT
BEGIN:VEVENT
DTSTAMP:20260422T041607Z
DTSTART:20140910T100000
DTEND:20140912T213000
SUMMARY:XIV Congreso de Población
TZID:Europe/Madrid
UID:2bdef529-37f3-11e4-9ad3-3fe5a96f4a88
URL:http://www.upo.es/portal/impe/web/contenido/2bdef529-37f3-11e4-9ad3-3fe5a96f4a88
LOCATION:UPO // Palacio de los Marqueses de la Algaba
END:VEVENT
BEGIN:VEVENT
DTSTAMP:20260422T041607Z
DTSTART:20140910T000100
DTEND:20140916T235900
SUMMARY:Matrícula 2014-15: continuidad de estudios de Grado
TZID:Europe/Madrid
UID:fa7777b1-08df-11e4-86e4-3fe5a96f4a88
URL:http://www.upo.es/portal/impe/web/contenido/fa7777b1-08df-11e4-86e4-3fe5a96f4a88
LOCATION:UPO
END:VEVENT
BEGIN:VEVENT
DTSTAMP:20260422T041607Z
DTSTART:20140912T093000
DTEND:20140912T131500
SUMMARY:Jornadas de Bienvenida de la Facultad de Humanidades
TZID:Europe/Madrid
UID:41966666-3734-11e4-9911-3fe5a96f4a88
URL:http://www.upo.es/portal/impe/web/contenido/41966666-3734-11e4-9911-3fe5a96f4a88
LOCATION:Paraninfo // Edif. 10\, aula 1
END:VEVENT
BEGIN:VEVENT
DTSTAMP:20260422T041607Z
DTSTART:20140912T103000
DTEND:20140912T123000
SUMMARY:Jornadas de Bienvenida - Facultad de Ciencias Experimentales
TZID:Europe/Madrid
UID:3ecb1c08-39a6-11e4-9ff7-3fe5a96f4a88
URL:http://www.upo.es/portal/impe/web/contenido/3ecb1c08-39a6-11e4-9ff7-3fe5a96f4a88
LOCATION:CABD
END:VEVENT
BEGIN:VEVENT
DTSTAMP:20260422T041607Z
DTSTART:20140912T120000
DTEND:20140912T140000
SUMMARY:Jornadas de Bienvendia - Facultad de Ciencias Sociales
TZID:Europe/Madrid
UID:ba191d90-39a6-11e4-9ff7-3fe5a96f4a88
URL:http://www.upo.es/portal/impe/web/contenido/ba191d90-39a6-11e4-9ff7-3fe5a96f4a88
LOCATION:Paraninfo
END:VEVENT
BEGIN:VEVENT
DTSTAMP:20260422T041607Z
DTSTART:20140915T080000
DTEND:20140915T200000
SUMMARY:Comienzo de clases en estudios de grado
TZID:Europe/Madrid
UID:9b8f4fc4-162c-11e4-b9f7-3fe5a96f4a88
URL:http://www.upo.es/portal/impe/web/contenido/9b8f4fc4-162c-11e4-b9f7-3fe5a96f4a88
LOCATION:UPO
END:VEVENT
BEGIN:VEVENT
DTSTAMP:20260422T041607Z
DTSTART:20140915T000100
DTEND:20140917T235900
SUMMARY:5ª y última Adjudicación (Fase I)
TZID:Europe/Madrid
UID:77f6cb83-08db-11e4-86e4-3fe5a96f4a88
URL:http://www.upo.es/portal/impe/web/contenido/77f6cb83-08db-11e4-86e4-3fe5a96f4a88
LOCATION:UPO
END:VEVENT
BEGIN:VEVENT
DTSTAMP:20260422T041607Z
DTSTART:20140916T080000
DTEND:20140918T220000
SUMMARY:Selectividad
TZID:Europe/Madrid
UID:50ac18f3-399a-11e4-9ff7-3fe5a96f4a88
URL:http://www.upo.es/portal/impe/web/contenido/50ac18f3-399a-11e4-9ff7-3fe5a96f4a88
LOCATION:Universidad Pablo de Olavide
END:VEVENT
BEGIN:VEVENT
DTSTAMP:20260422T041607Z
DTSTART:20140919T160000
DTEND:20140919T210000
SUMMARY:II Jornadas Ingenieros en la UPO
TZID:Europe/Madrid
UID:3ba908a0-3cdd-11e4-bca3-3fe5a96f4a88
URL:http://www.upo.es/portal/impe/web/contenido/3ba908a0-3cdd-11e4-bca3-3fe5a96f4a88
LOCATION:Paraninfo
END:VEVENT
BEGIN:VEVENT
DTSTAMP:20260422T041607Z
DTSTART:20140924T100000
DTEND:20140924T113000
SUMMARY:Presentación del proyecto de robótica FROG
TZID:Europe/Madrid
UID:d88d26a5-3f2b-11e4-bd5d-3fe5a96f4a88
URL:http://www.upo.es/portal/impe/web/contenido/d88d26a5-3f2b-11e4-bd5d-3fe5a96f4a88
LOCATION:Real Alcázar de Sevilla
END:VEVENT
BEGIN:VEVENT
DTSTAMP:20260422T041607Z
DTSTART:20140924T130000
DTEND:20140924T140700
SUMMARY:Inauguración del Máster Superior en Asesoría y Defensa Jurídica
TZID:Europe/Madrid
UID:d4f898b7-431a-11e4-9d2a-3fe5a96f4a88
URL:http://www.upo.es/portal/impe/web/contenido/d4f898b7-431a-11e4-9d2a-3fe5a96f4a88
LOCATION:Edificio 6\, sala de grados
END:VEVENT
BEGIN:VEVENT
DTSTAMP:20260422T041607Z
DTSTART:20140924T100000
DTEND:20140925T120000
SUMMARY:Jornadas de Promoción de Actividades de Formación Específicas Deportivas
TZID:Europe/Madrid
UID:bedd39fd-4319-11e4-9d2a-3fe5a96f4a88
URL:http://www.upo.es/portal/impe/web/contenido/bedd39fd-4319-11e4-9d2a-3fe5a96f4a88
LOCATION:Edificio 13\, aulas 3 y 4
END:VEVENT
BEGIN:VEVENT
DTSTAMP:20260422T041607Z
DTSTART:20140924T000100
DTEND:20140926T235900
SUMMARY:Preinscripción 2014-15: Fase II
TZID:Europe/Madrid
UID:b4fe5994-08dd-11e4-86e4-3fe5a96f4a88
URL:http://www.upo.es/portal/impe/web/contenido/b4fe5994-08dd-11e4-86e4-3fe5a96f4a88
LOCATION:Distrito Único Andaluz
END:VEVENT
BEGIN:VEVENT
DTSTAMP:20260422T041607Z
DTSTART:20140925T093000
DTEND:20140925T140000
SUMMARY:Taller de emprendimiento (Método Canvas)
TZID:Europe/Madrid
UID:949a84f1-431b-11e4-9d2a-3fe5a96f4a88
URL:http://www.upo.es/portal/impe/web/contenido/949a84f1-431b-11e4-9d2a-3fe5a96f4a88
LOCATION:Edificio 45\, aula de informática 1.04
END:VEVENT
BEGIN:VEVENT
DTSTAMP:20260422T041607Z
DTSTART:20140925T090000
DTEND:20140926T200000
SUMMARY:Congreso Internacional 'Filosofía política y política práctica del presidente Barack Obama'
TZID:Europe/Madrid
UID:5956ea9e-3735-11e4-9911-3fe5a96f4a88
URL:http://www.upo.es/portal/impe/web/contenido/5956ea9e-3735-11e4-9911-3fe5a96f4a88
LOCATION:UPO
END:VEVENT
BEGIN:VEVENT
DTSTAMP:20260422T041607Z
DTSTART:20140926T100000
DTEND:20140926T213000
SUMMARY:La Noche de los Investigadores
TZID:Europe/Madrid
UID:f2884c3b-162f-11e4-b9f7-3fe5a96f4a88
URL:http://www.upo.es/portal/impe/web/contenido/f2884c3b-162f-11e4-b9f7-3fe5a96f4a88
LOCATION:Plaza Nueva (Sevilla)
END:VEVENT
BEGIN:VEVENT
DTSTAMP:20260422T041607Z
DTSTART:20140926T200000
DTEND:20140926T213000
SUMMARY:Don Antonio Machado\, un milagro permanente
TZID:Europe/Madrid
UID:f7c30052-3e5d-11e4-bb5f-3fe5a96f4a88
URL:http://www.upo.es/portal/impe/web/contenido/f7c30052-3e5d-11e4-bb5f-3fe5a96f4a88
LOCATION:Casa Palacio de los Briones. Sede Olavide en Carmona.
END:VEVENT
BEGIN:VEVENT
DTSTAMP:20260422T041607Z
DTSTART:20140926T110000
DTEND:20140926T120000
SUMMARY:Flamenco y poder. Un estudio desde la sociología del arte
TZID:Europe/Madrid
UID:a0554acf-44ae-11e4-a0ef-3fe5a96f4a88
URL:http://www.upo.es/portal/impe/web/contenido/a0554acf-44ae-11e4-a0ef-3fe5a96f4a88
LOCATION:Espacio Santa Clara (Sevilla)
END:VEVENT
BEGIN:VEVENT
DTSTAMP:20260422T041607Z
DTSTART:20140926T093000
DTEND:20140926T110000
SUMMARY:Salidas Profesionales de la Facultad de Ciencias Experimentales
TZID:Europe/Madrid
UID:68289ac5-44ad-11e4-a0ef-3fe5a96f4a88
URL:http://www.upo.es/portal/impe/web/contenido/68289ac5-44ad-11e4-a0ef-3fe5a96f4a88
LOCATION:Bilbioteca. Sala de Grados
END:VEVENT
BEGIN:VEVENT
DTSTAMP:20260422T041607Z
DTSTART:20140927T203000
DTEND:20140927T213000
SUMMARY:Encuentro de Coros Universitarios
TZID:Europe/Madrid
UID:7d1f9831-3ff4-11e4-b4c8-3fe5a96f4a88
URL:http://www.upo.es/portal/impe/web/contenido/7d1f9831-3ff4-11e4-b4c8-3fe5a96f4a88
LOCATION:Crucero del Hospital Real. Universidad de Granada
END:VEVENT
BEGIN:VEVENT
DTSTAMP:20260422T041607Z
DTSTART:20140929T090000
DTEND:20140929T103000
SUMMARY:Salidas Profesionales de la Fac. de CC. Experimentales: 3º y 4º cursos 
TZID:Europe/Madrid
UID:de0c818b-44ad-11e4-a0ef-3fe5a96f4a88
URL:http://www.upo.es/portal/impe/web/contenido/de0c818b-44ad-11e4-a0ef-3fe5a96f4a88
LOCATION:Biblioteca\, sala de grados
END:VEVENT
BEGIN:VEVENT
DTSTAMP:20260422T041607Z
DTSTART:20140929T193000
DTEND:20141003T135900
SUMMARY:SICE 2014
TZID:Europe/Madrid
UID:c9f7968b-44ab-11e4-a0ef-3fe5a96f4a88
URL:http://www.upo.es/portal/impe/web/contenido/c9f7968b-44ab-11e4-a0ef-3fe5a96f4a88
LOCATION:UPO
END:VEVENT
BEGIN:VEVENT
DTSTAMP:20260422T041607Z
DTSTART:20140929T090000
DTEND:20140929T140000
SUMMARY:Jornadas de Sensibilización. Día Internacional del Cooperante
TZID:Europe/Madrid
UID:0ef0bcaa-4577-11e4-8769-3fe5a96f4a88
URL:http://www.upo.es/portal/impe/web/contenido/0ef0bcaa-4577-11e4-8769-3fe5a96f4a88
LOCATION:Entrada Edificio Celestino Mutis
END:VEVENT
BEGIN:VEVENT
DTSTAMP:20260422T041607Z
DTSTART:20140930T000100
DTEND:20141002T235900
SUMMARY:Matrícula 2014-15: 1ª Adjudicación (Fase II)
TZID:Europe/Madrid
UID:c53e92d9-08e6-11e4-86e4-3fe5a96f4a88
URL:http://www.upo.es/portal/impe/web/contenido/c53e92d9-08e6-11e4-86e4-3fe5a96f4a88
LOCATION:UPO
END:VEVENT
END:VCALENDAR
