BEGIN:VCALENDAR
PRODID:-//Ben Fortuna//iCal4j 0.9.20//ES
VERSION:2.0
CALSCALE:GREGORIAN
BEGIN:VEVENT
DTSTAMP:20260421T060634Z
DTSTART:20140929T193000
DTEND:20141003T135900
SUMMARY:SICE 2014
TZID:Europe/Madrid
UID:c9f7968b-44ab-11e4-a0ef-3fe5a96f4a88
URL:http://www.upo.es/portal/impe/web/contenido/c9f7968b-44ab-11e4-a0ef-3fe5a96f4a88
LOCATION:UPO
END:VEVENT
BEGIN:VEVENT
DTSTAMP:20260421T060634Z
DTSTART:20140930T000100
DTEND:20141002T235900
SUMMARY:Matrícula 2014-15: 1ª Adjudicación (Fase II)
TZID:Europe/Madrid
UID:c53e92d9-08e6-11e4-86e4-3fe5a96f4a88
URL:http://www.upo.es/portal/impe/web/contenido/c53e92d9-08e6-11e4-86e4-3fe5a96f4a88
LOCATION:UPO
END:VEVENT
BEGIN:VEVENT
DTSTAMP:20260421T060634Z
DTSTART:20141001T123000
DTEND:20141001T143000
SUMMARY:Acto de Apertura del Curso Académico 2014-2015
TZID:Europe/Madrid
UID:9717b454-3d92-11e4-b81b-3fe5a96f4a88
URL:http://www.upo.es/portal/impe/web/contenido/9717b454-3d92-11e4-b81b-3fe5a96f4a88
LOCATION:Paraninfo
END:VEVENT
BEGIN:VEVENT
DTSTAMP:20260421T060634Z
DTSTART:20141003T090000
DTEND:20141003T140000
SUMMARY:El envejecimiento de las plantillas y la competitividad empresarial
TZID:Europe/Madrid
UID:88e7f892-4253-11e4-8e22-3fe5a96f4a88
URL:http://www.upo.es/portal/impe/web/contenido/88e7f892-4253-11e4-8e22-3fe5a96f4a88
LOCATION:Biblioteca\, sala de grados
END:VEVENT
BEGIN:VEVENT
DTSTAMP:20260421T060634Z
DTSTART:20141003T093000
DTEND:20141003T203000
SUMMARY:II Jornadas de Orientación Profesional de la Facultad de Ciencias Sociales
TZID:Europe/Madrid
UID:42634d3a-4a15-11e4-ac87-3fe5a96f4a88
URL:http://www.upo.es/portal/impe/web/contenido/42634d3a-4a15-11e4-ac87-3fe5a96f4a88
LOCATION:Edificio 7\, sala de grados
END:VEVENT
BEGIN:VEVENT
DTSTAMP:20260421T060634Z
DTSTART:20141003T220000
DTEND:20141003T233000
SUMMARY:'Greco. In memoriam' - Coro de la UPO
TZID:Europe/Madrid
UID:5e65f157-47b1-11e4-b6ce-3fe5a96f4a88
URL:http://www.upo.es/portal/impe/web/contenido/5e65f157-47b1-11e4-b6ce-3fe5a96f4a88
LOCATION:Iglesia San Pedro de Alcántara
END:VEVENT
BEGIN:VEVENT
DTSTAMP:20260421T060634Z
DTSTART:20141006T183000
DTEND:20141006T201500
SUMMARY:'La Emergencia de una Alternativa Política en Europa'
TZID:Europe/Madrid
UID:a724b116-4a0c-11e4-ac87-3fe5a96f4a88
URL:http://www.upo.es/portal/impe/web/contenido/a724b116-4a0c-11e4-ac87-3fe5a96f4a88
LOCATION:Paraninfo
END:VEVENT
BEGIN:VEVENT
DTSTAMP:20260421T060634Z
DTSTART:20141006T000100
DTEND:20141008T235900
SUMMARY:2ª Adjudicación y única de titulados  (Fase II)
TZID:Europe/Madrid
UID:784d0b67-08e7-11e4-86e4-3fe5a96f4a88
URL:http://www.upo.es/portal/impe/web/contenido/784d0b67-08e7-11e4-86e4-3fe5a96f4a88
LOCATION:UPO
END:VEVENT
BEGIN:VEVENT
DTSTAMP:20260421T060634Z
DTSTART:20141009T170000
DTEND:20141009T183000
SUMMARY:'Constitución y Derecho Privado'
TZID:Europe/Madrid
UID:f590ef68-4ae5-11e4-a31f-3fe5a96f4a88
URL:http://www.upo.es/portal/impe/web/contenido/f590ef68-4ae5-11e4-a31f-3fe5a96f4a88
LOCATION:Edificio 7\, sala de grados
END:VEVENT
BEGIN:VEVENT
DTSTAMP:20260421T060634Z
DTSTART:20141010T100000
DTEND:20141010T140000
SUMMARY:I Jornadas de Calidad de la Facultad de Ciencias Experimentales
TZID:Europe/Madrid
UID:d4913306-4f9e-11e4-bb82-3fe5a96f4a88
URL:http://www.upo.es/portal/impe/web/contenido/d4913306-4f9e-11e4-bb82-3fe5a96f4a88
LOCATION:Edificio 29\, aula 204
END:VEVENT
BEGIN:VEVENT
DTSTAMP:20260421T060634Z
DTSTART:20141030T160000
DTEND:20141030T180000
SUMMARY:'La acción de gobierno' - Conferencia y presentación del libro de Antonio Porras Nadales
TZID:Europe/Madrid
UID:9cc22546-5f57-11e4-9d50-3fe5a96f4a88
URL:http://www.upo.es/portal/impe/web/contenido/9cc22546-5f57-11e4-9d50-3fe5a96f4a88
LOCATION:Biblioteca\, sala de grados
END:VEVENT
BEGIN:VEVENT
DTSTAMP:20260421T060634Z
DTSTART:20141010T100000
DTEND:20141010T134500
SUMMARY:Jornada científica 'Retos y desafíos de la mediación'
TZID:Europe/Madrid
UID:177e2b14-4e1d-11e4-89fc-3fe5a96f4a88
URL:http://www.upo.es/portal/impe/web/contenido/177e2b14-4e1d-11e4-89fc-3fe5a96f4a88
LOCATION:Edificio 7\, sala de grados
END:VEVENT
BEGIN:VEVENT
DTSTAMP:20260421T060634Z
DTSTART:20141010T093000
DTEND:20141010T113000
SUMMARY:Taller 'Aprovecha este curso: Planes de desarrollo universitarios para el empleo'
TZID:Europe/Madrid
UID:81bea5ca-4fb4-11e4-bb82-3fe5a96f4a88
URL:http://www.upo.es/portal/impe/web/contenido/81bea5ca-4fb4-11e4-bb82-3fe5a96f4a88
LOCATION:Edificio Alexander von Humboldt
END:VEVENT
BEGIN:VEVENT
DTSTAMP:20260421T060634Z
DTSTART:20141014T180000
DTEND:20141014T210000
SUMMARY:Seminario Universitario para la revisión de la Ley de Participación Ciudadana de Andalucía
TZID:Europe/Madrid
UID:9b3cbead-4b00-11e4-a31f-3fe5a96f4a88
URL:http://www.upo.es/portal/impe/web/contenido/9b3cbead-4b00-11e4-a31f-3fe5a96f4a88
LOCATION:Salón de Actos del CABD. UPO
END:VEVENT
BEGIN:VEVENT
DTSTAMP:20260421T060634Z
DTSTART:20141014T100000
DTEND:20141016T140000
SUMMARY:El cuento como herramienta pedagógica y social
TZID:Europe/Madrid
UID:10d4daf3-44b2-11e4-a0ef-3fe5a96f4a88
URL:http://www.upo.es/portal/impe/web/contenido/10d4daf3-44b2-11e4-a0ef-3fe5a96f4a88
LOCATION:Espacio Cultural Antigua Guardería de la UPO
END:VEVENT
BEGIN:VEVENT
DTSTAMP:20260421T060634Z
DTSTART:20141015T090000
DTEND:20141016T140000
SUMMARY:La universidad como espacio para la participación social y el voluntariado
TZID:Europe/Madrid
UID:cc659669-44b0-11e4-a0ef-3fe5a96f4a88
URL:http://www.upo.es/portal/impe/web/contenido/cc659669-44b0-11e4-a0ef-3fe5a96f4a88
LOCATION:UPO
END:VEVENT
BEGIN:VEVENT
DTSTAMP:20260421T060634Z
DTSTART:20141016T093000
DTEND:20141016T123000
SUMMARY:Taller 'Elabora un buen CV'
TZID:Europe/Madrid
UID:598dfd30-4fb5-11e4-bb82-3fe5a96f4a88
URL:http://www.upo.es/portal/impe/web/contenido/598dfd30-4fb5-11e4-bb82-3fe5a96f4a88
LOCATION:Edificio Alexander von Humboldt
END:VEVENT
BEGIN:VEVENT
DTSTAMP:20260421T060634Z
DTSTART:20141016T120000
DTEND:20141016T130000
SUMMARY:Premios Extraordinarios de Bachillerato - Curso 2013-14
TZID:Europe/Madrid
UID:41e6238d-5447-11e4-a832-3fe5a96f4a88
URL:http://www.upo.es/portal/impe/web/contenido/41e6238d-5447-11e4-a832-3fe5a96f4a88
LOCATION:Paraninfo
END:VEVENT
BEGIN:VEVENT
DTSTAMP:20260421T060634Z
DTSTART:20141016T100000
DTEND:20141018T140000
SUMMARY:Noveno Congreso Europeo sobre Biogerontología
TZID:Europe/Madrid
UID:76838eeb-5444-11e4-a832-3fe5a96f4a88
URL:http://www.upo.es/portal/impe/web/contenido/76838eeb-5444-11e4-a832-3fe5a96f4a88
LOCATION:CABD
END:VEVENT
BEGIN:VEVENT
DTSTAMP:20260421T060634Z
DTSTART:20141017T093000
DTEND:20141017T123000
SUMMARY:Taller 'Actívate: becas\, prácticas y movilidad internacional'
TZID:Europe/Madrid
UID:cb9482b6-4fb5-11e4-bb82-3fe5a96f4a88
URL:http://www.upo.es/portal/impe/web/contenido/cb9482b6-4fb5-11e4-bb82-3fe5a96f4a88
LOCATION:Edificio Alexander von Humboldt
END:VEVENT
BEGIN:VEVENT
DTSTAMP:20260421T060634Z
DTSTART:20141017T190000
DTEND:20141017T203000
SUMMARY:Encuentro con el cantaor 'José EL TREMENDO'
TZID:Europe/Madrid
UID:3a6065a5-5381-11e4-9b8a-3fe5a96f4a88
URL:http://www.upo.es/portal/impe/web/contenido/3a6065a5-5381-11e4-9b8a-3fe5a96f4a88
LOCATION:Espacio Cultural 'Antigua Guardería'
END:VEVENT
BEGIN:VEVENT
DTSTAMP:20260421T060634Z
DTSTART:20141019T123000
DTEND:20141019T140000
SUMMARY:ORQUESTA BÉTICA FILARMÓNICA DE SEVILLA
TZID:Europe/Madrid
UID:3243bdb0-60fd-11e4-814e-3fe5a96f4a88
URL:http://www.upo.es/portal/impe/web/contenido/3243bdb0-60fd-11e4-814e-3fe5a96f4a88
LOCATION:Sala Joaquín Turina
END:VEVENT
BEGIN:VEVENT
DTSTAMP:20260421T060634Z
DTSTART:20141020T124500
DTEND:20141020T140000
SUMMARY:Lección Primera de la Facultad de Humanidades a cargo de Concha Caballero
TZID:Europe/Madrid
UID:bb30eeaa-560c-11e4-bd84-3fe5a96f4a88
URL:http://www.upo.es/portal/impe/web/contenido/bb30eeaa-560c-11e4-bd84-3fe5a96f4a88
LOCATION:Edificio 7\, sala de grados
END:VEVENT
BEGIN:VEVENT
DTSTAMP:20260421T060634Z
DTSTART:20141020T100000
DTEND:20141023T140000
SUMMARY:Formación en Grandes Catástrofes
TZID:Europe/Madrid
UID:0b67e353-380f-11e4-9ad3-3fe5a96f4a88
URL:http://www.upo.es/portal/impe/web/contenido/0b67e353-380f-11e4-9ad3-3fe5a96f4a88
LOCATION:Paraninfo. UPO / Estación de Santa Justa
END:VEVENT
BEGIN:VEVENT
DTSTAMP:20260421T060634Z
DTSTART:20141020T100000
DTEND:20141026T180000
SUMMARY:Semana Internacional del Acceso Abierto 2014: Generación Abierta
TZID:Europe/Madrid
UID:4b8c9481-58fa-11e4-93ac-3fe5a96f4a88
URL:http://www.upo.es/portal/impe/web/contenido/4b8c9481-58fa-11e4-93ac-3fe5a96f4a88
LOCATION:UPO
END:VEVENT
BEGIN:VEVENT
DTSTAMP:20260421T060634Z
DTSTART:20141022T093000
DTEND:20141022T123000
SUMMARY:Taller 'Crea oportunidades profesionales'
TZID:Europe/Madrid
UID:3191fa3a-4fb6-11e4-bb82-3fe5a96f4a88
URL:http://www.upo.es/portal/impe/web/contenido/3191fa3a-4fb6-11e4-bb82-3fe5a96f4a88
LOCATION:Edificio Alexander von Humboldt
END:VEVENT
BEGIN:VEVENT
DTSTAMP:20260421T060634Z
DTSTART:20141022T100000
DTEND:20141024T140000
SUMMARY:Gestión y Educación Ambiental sobre los residuos y el reciclaje
TZID:Europe/Madrid
UID:45274250-4ec2-11e4-bc70-3fe5a96f4a88
URL:http://www.upo.es/portal/impe/web/contenido/45274250-4ec2-11e4-bc70-3fe5a96f4a88
LOCATION:UPO
END:VEVENT
BEGIN:VEVENT
DTSTAMP:20260421T060634Z
DTSTART:20141023T093000
DTEND:20141023T123000
SUMMARY:Taller 'Elevator Pitch: emprender con competencias y marca personal'
TZID:Europe/Madrid
UID:01575eae-4fb7-11e4-bb82-3fe5a96f4a88
URL:http://www.upo.es/portal/impe/web/contenido/01575eae-4fb7-11e4-bb82-3fe5a96f4a88
LOCATION:Edificio Alexander von Humboldt
END:VEVENT
BEGIN:VEVENT
DTSTAMP:20260421T060634Z
DTSTART:20141023T100000
DTEND:20141023T143000
SUMMARY:Jornadas CEI CamBio sobre Biodiversidad y Socio-ecosistemas
TZID:Europe/Madrid
UID:64981957-544a-11e4-a832-3fe5a96f4a88
URL:http://www.upo.es/portal/impe/web/contenido/64981957-544a-11e4-a832-3fe5a96f4a88
LOCATION:Edificio 7\, sala de grados
END:VEVENT
BEGIN:VEVENT
DTSTAMP:20260421T060634Z
DTSTART:20141023T103000
DTEND:20141024T183000
SUMMARY:I Encuentro en el Aula
TZID:Europe/Madrid
UID:ce61f0ff-59c2-11e4-a0e4-3fe5a96f4a88
URL:http://www.upo.es/portal/impe/web/contenido/ce61f0ff-59c2-11e4-a0e4-3fe5a96f4a88
LOCATION:Casa Palacio de los Briones. C/ Ramón y Cajal\, 15. Carmona
END:VEVENT
BEGIN:VEVENT
DTSTAMP:20260421T060634Z
DTSTART:20141023T090000
DTEND:20141024T141500
SUMMARY:XV Iberian-Italian Congress of Financial and Actuarial Mathematics
TZID:Europe/Madrid
UID:1c5e8924-59ce-11e4-a0e4-3fe5a96f4a88
URL:http://www.upo.es/portal/impe/web/contenido/1c5e8924-59ce-11e4-a0e4-3fe5a96f4a88
LOCATION:Consulado de Portugal en Sevilla
END:VEVENT
BEGIN:VEVENT
DTSTAMP:20260421T060634Z
DTSTART:20141024T100000
DTEND:20141024T140000
SUMMARY:II Seminario sobre Competencias en las Prácticas Curriculares del Grado de Sociología
TZID:Europe/Madrid
UID:c27d4a5f-58f5-11e4-93ac-3fe5a96f4a88
URL:http://www.upo.es/portal/impe/web/contenido/c27d4a5f-58f5-11e4-93ac-3fe5a96f4a88
LOCATION:CABD\, sala de grados
END:VEVENT
BEGIN:VEVENT
DTSTAMP:20260421T060634Z
DTSTART:20141024T123000
DTEND:20141024T133000
SUMMARY:'Un filtro de frecuencia regula la interacción entre el hipocampo y el neocortex'
TZID:Europe/Madrid
UID:b4db0869-58f6-11e4-93ac-3fe5a96f4a88
URL:http://www.upo.es/portal/impe/web/contenido/b4db0869-58f6-11e4-93ac-3fe5a96f4a88
LOCATION:Biblioteca\, sala de grados
END:VEVENT
BEGIN:VEVENT
DTSTAMP:20260421T060634Z
DTSTART:20141024T190000
DTEND:20141024T203000
SUMMARY:La copla andaluza
TZID:Europe/Madrid
UID:db2c43d6-59c8-11e4-a0e4-3fe5a96f4a88
URL:http://www.upo.es/portal/impe/web/contenido/db2c43d6-59c8-11e4-a0e4-3fe5a96f4a88
LOCATION:Espacio Cultural 'Antigua Guardería'
END:VEVENT
BEGIN:VEVENT
DTSTAMP:20260421T060634Z
DTSTART:20141024T100000
DTEND:20141025T140000
SUMMARY:I Jornadas Doctorales de Biotecnología\, Ingeniería y Tecnología Química de la UPO
TZID:Europe/Madrid
UID:0afba2b0-59c5-11e4-a0e4-3fe5a96f4a88
URL:http://www.upo.es/portal/impe/web/contenido/0afba2b0-59c5-11e4-a0e4-3fe5a96f4a88
LOCATION:Casa Palacio de los Briones. Carmona
END:VEVENT
BEGIN:VEVENT
DTSTAMP:20260421T060634Z
DTSTART:20141024T093000
DTEND:20141024T123000
SUMMARY:Taller 'Anímate a emprender'
TZID:Europe/Madrid
UID:eff43c3c-59de-11e4-a0e4-3fe5a96f4a88
URL:http://www.upo.es/portal/impe/web/contenido/eff43c3c-59de-11e4-a0e4-3fe5a96f4a88
LOCATION:Edificio Alexander von Humboldt
END:VEVENT
BEGIN:VEVENT
DTSTAMP:20260421T060634Z
DTSTART:20141024T111500
DTEND:20141024T130000
SUMMARY:Encuentro Internacional de la Universidad Pablo de Olavide y el Cuerpo Consular de Sevilla
TZID:Europe/Madrid
UID:1eddcc27-5ab5-11e4-a0b1-3fe5a96f4a88
URL:http://www.upo.es/portal/impe/web/contenido/1eddcc27-5ab5-11e4-a0b1-3fe5a96f4a88
LOCATION:Rectorado\, sala de juntas
END:VEVENT
BEGIN:VEVENT
DTSTAMP:20260421T060634Z
DTSTART:20141024T091500
DTEND:20141024T133000
SUMMARY:Salidas Profesionales en Ciencias del Deporte
TZID:Europe/Madrid
UID:00e3f8ee-5ab8-11e4-a0b1-3fe5a96f4a88
URL:http://www.upo.es/portal/impe/web/contenido/00e3f8ee-5ab8-11e4-a0b1-3fe5a96f4a88
LOCATION:Aula 4 del edificio 14
END:VEVENT
BEGIN:VEVENT
DTSTAMP:20260421T060634Z
DTSTART:20141027T093000
DTEND:20141029T183000
SUMMARY:VII Simposio de Interculturalidad y Traducción
TZID:Europe/Madrid
UID:9e19831c-59cc-11e4-a0e4-3fe5a96f4a88
URL:http://www.upo.es/portal/impe/web/contenido/9e19831c-59cc-11e4-a0e4-3fe5a96f4a88
LOCATION:Edificio 7\, sala de grados / Edif. 6\, sala de juntas
END:VEVENT
BEGIN:VEVENT
DTSTAMP:20260421T060634Z
DTSTART:20141028T100000
DTEND:20141028T143000
SUMMARY:Jornada de CEI CamBio sobre Producción Ecológica
TZID:Europe/Madrid
UID:2fdc28f8-3756-11e4-9911-3fe5a96f4a88
URL:http://www.upo.es/portal/impe/web/contenido/2fdc28f8-3756-11e4-9911-3fe5a96f4a88
LOCATION:Biblioteca\, sala de grados
END:VEVENT
BEGIN:VEVENT
DTSTAMP:20260421T060634Z
DTSTART:20141030T160000
DTEND:20141030T193000
SUMMARY:'Recogymkha'
TZID:Europe/Madrid
UID:2f12bd0d-5e96-11e4-ba35-3fe5a96f4a88
URL:http://www.upo.es/portal/impe/web/contenido/2f12bd0d-5e96-11e4-ba35-3fe5a96f4a88
LOCATION:Centro Cívico el Esqueleto
END:VEVENT
BEGIN:VEVENT
DTSTAMP:20260421T060634Z
DTSTART:20141030T160000
DTEND:20141031T210000
SUMMARY:IX International Workshop on Human Resource Management
TZID:Europe/Madrid
UID:3d39fdd9-3ff7-11e4-b4c8-3fe5a96f4a88
URL:http://www.upo.es/portal/impe/web/contenido/3d39fdd9-3ff7-11e4-b4c8-3fe5a96f4a88
LOCATION:UPO
END:VEVENT
END:VCALENDAR
