BEGIN:VCALENDAR
PRODID:-//Ben Fortuna//iCal4j 0.9.20//ES
VERSION:2.0
CALSCALE:GREGORIAN
BEGIN:VEVENT
DTSTAMP:20260421T001005Z
DTSTART:20150112T160000
DTEND:20150112T173000
SUMMARY:Inauguración del Máster Conocimiento Actual de las Enfermedades Raras
TZID:Europe/Madrid
UID:baab9bd3-9803-11e4-8645-3fe5a96f4a88
URL:http://www.upo.es/portal/impe/web/contenido/baab9bd3-9803-11e4-8645-3fe5a96f4a88
LOCATION:CABD\, salón de actos
END:VEVENT
BEGIN:VEVENT
DTSTAMP:20260421T001005Z
DTSTART:20150115T093000
DTEND:20150115T140000
SUMMARY:Jornada informativa 'Sociedades Inclusivas\, Innovadoras y Reflexivas' de Horizonte 2020
TZID:Europe/Madrid
UID:74af3407-97ed-11e4-8645-3fe5a96f4a88
URL:http://www.upo.es/portal/impe/web/contenido/74af3407-97ed-11e4-8645-3fe5a96f4a88
LOCATION:CABD\, salón de actos
END:VEVENT
BEGIN:VEVENT
DTSTAMP:20260421T001005Z
DTSTART:20150115T160000
DTEND:20150115T183000
SUMMARY:X Ciclo de Conferencias 'Métodos\, teorías y nuevas líneas de investigación histórica' - Tercera sesión
TZID:Europe/Madrid
UID:6556d756-9bc5-11e4-ab03-3fe5a96f4a88
URL:http://www.upo.es/portal/impe/web/contenido/6556d756-9bc5-11e4-ab03-3fe5a96f4a88
LOCATION:Escuela de Estudios Hispano-Americanos\, sala Calderón Quijano
END:VEVENT
BEGIN:VEVENT
DTSTAMP:20260421T001005Z
DTSTART:20150115T190000
DTEND:20150115T203000
SUMMARY:'La propiedad intelectual y la imitación sistemática de los competidores en Internet'
TZID:Europe/Madrid
UID:c1a28ae7-9c96-11e4-8cf8-3fe5a96f4a88
URL:http://www.upo.es/portal/impe/web/contenido/c1a28ae7-9c96-11e4-8cf8-3fe5a96f4a88
LOCATION:Edificio 3\, sala de juntas
END:VEVENT
BEGIN:VEVENT
DTSTAMP:20260421T001005Z
DTSTART:20150116T160000
DTEND:20150116T183000
SUMMARY:X Ciclo de Conferencias 'Métodos\, teorías y nuevas líneas de investigación histórica' - Cuarta sesión
TZID:Europe/Madrid
UID:5d5af7cc-9bc6-11e4-ab03-3fe5a96f4a88
URL:http://www.upo.es/portal/impe/web/contenido/5d5af7cc-9bc6-11e4-ab03-3fe5a96f4a88
LOCATION:Escuela de Estudios Hispano-Americanos\, sala Calderón Quijano
END:VEVENT
BEGIN:VEVENT
DTSTAMP:20260421T001005Z
DTSTART:20150119T120000
DTEND:20150120T145900
SUMMARY:Seminario Estatal de Investigación en Resiliencia
TZID:Europe/Madrid
UID:cc83c39a-9643-11e4-b443-3fe5a96f4a88
URL:http://www.upo.es/portal/impe/web/contenido/cc83c39a-9643-11e4-b443-3fe5a96f4a88
LOCATION:Edificio 6\, sala de grados
END:VEVENT
BEGIN:VEVENT
DTSTAMP:20260421T001005Z
DTSTART:20150120T180000
DTEND:20150120T200000
SUMMARY:Mesa Redonda sobre Enfermedades Raras
TZID:Europe/Madrid
UID:feaa30f7-8503-11e4-b501-3fe5a96f4a88
URL:http://www.upo.es/portal/impe/web/contenido/feaa30f7-8503-11e4-b501-3fe5a96f4a88
LOCATION:Real e Ilustre Colegio de Farmacéuticos de Sevilla\, salón de actos (C/ Alfonso XII\, 51) 
END:VEVENT
BEGIN:VEVENT
DTSTAMP:20260421T001005Z
DTSTART:20150120T190000
DTEND:20150120T204500
SUMMARY:20 años de CEPES-Andalucía
TZID:Europe/Madrid
UID:cd6d5de3-9bda-11e4-ab03-3fe5a96f4a88
URL:http://www.upo.es/portal/impe/web/contenido/cd6d5de3-9bda-11e4-ab03-3fe5a96f4a88
LOCATION:Biblioteca
END:VEVENT
BEGIN:VEVENT
DTSTAMP:20260421T001005Z
DTSTART:20150120T100000
DTEND:20150130T180000
SUMMARY:IV Seminario Iberoamérica: Arte y Ciudad
TZID:Europe/Madrid
UID:4d18efd9-a0b2-11e4-be97-3fe5a96f4a88
URL:http://www.upo.es/portal/impe/web/contenido/4d18efd9-a0b2-11e4-be97-3fe5a96f4a88
LOCATION:Sala Calderón Quijano (EEHA) / Edificio 6\, sala de grados (UPO)
END:VEVENT
BEGIN:VEVENT
DTSTAMP:20260421T001005Z
DTSTART:20150122T200000
DTEND:20150122T214500
SUMMARY:Presentación de la revista 'Americanía'
TZID:Europe/Madrid
UID:70078a63-a0b3-11e4-be97-3fe5a96f4a88
URL:http://www.upo.es/portal/impe/web/contenido/70078a63-a0b3-11e4-be97-3fe5a96f4a88
LOCATION:Escuela de Estudios Hispano Americanos  (Calle Alfonso XII\, 16)
END:VEVENT
BEGIN:VEVENT
DTSTAMP:20260421T001005Z
DTSTART:20150126T130000
DTEND:20150126T150000
SUMMARY:Acto Público de Tomas de Posesión
TZID:Europe/Madrid
UID:a7015c12-a14f-11e4-8cc4-3fe5a96f4a88
URL:http://www.upo.es/portal/impe/web/contenido/a7015c12-a14f-11e4-8cc4-3fe5a96f4a88
LOCATION:Edificio 7\, sala de grados
END:VEVENT
BEGIN:VEVENT
DTSTAMP:20260421T001005Z
DTSTART:20150126T090000
DTEND:20150129T200000
SUMMARY:Semana de orientación profesional de la Facultad de Ciencias Experimentales
TZID:Europe/Madrid
UID:7b4917db-a0b5-11e4-be97-3fe5a96f4a88
URL:http://www.upo.es/portal/impe/web/contenido/7b4917db-a0b5-11e4-be97-3fe5a96f4a88
LOCATION:Biblioteca\, sala de grados
END:VEVENT
BEGIN:VEVENT
DTSTAMP:20260421T001005Z
DTSTART:20150126T160000
DTEND:20150129T200000
SUMMARY:'Marcas de la Memoria\, Brasil-España'
TZID:Europe/Madrid
UID:04eca7e9-a163-11e4-8cc4-3fe5a96f4a88
URL:http://www.upo.es/portal/impe/web/contenido/04eca7e9-a163-11e4-8cc4-3fe5a96f4a88
LOCATION:Paraninfo
END:VEVENT
BEGIN:VEVENT
DTSTAMP:20260421T001005Z
DTSTART:20150127T170000
DTEND:20150127T193000
SUMMARY:Acto de bienvenida a estudiantes del CUI
TZID:Europe/Madrid
UID:b1555aed-a538-11e4-b42f-3fe5a96f4a88
URL:http://www.upo.es/portal/impe/web/contenido/b1555aed-a538-11e4-b42f-3fe5a96f4a88
LOCATION:Paraninfo
END:VEVENT
BEGIN:VEVENT
DTSTAMP:20260421T001005Z
DTSTART:20150127T163000
DTEND:20150127T181500
SUMMARY:Comunicaciones comerciales electrónicas
TZID:Europe/Madrid
UID:ef0acd73-a565-11e4-b42f-3fe5a96f4a88
URL:http://www.upo.es/portal/impe/web/contenido/ef0acd73-a565-11e4-b42f-3fe5a96f4a88
LOCATION:Edificio 3\, sala de juntas
END:VEVENT
BEGIN:VEVENT
DTSTAMP:20260421T001005Z
DTSTART:20150128T110000
DTEND:20150130T140000
SUMMARY:Workshop on Chemical Engineering and Industrial Biology
TZID:Europe/Madrid
UID:e92cce73-a154-11e4-8cc4-3fe5a96f4a88
URL:http://www.upo.es/portal/impe/web/contenido/e92cce73-a154-11e4-8cc4-3fe5a96f4a88
LOCATION:Biblioteca\, sala de grados
END:VEVENT
BEGIN:VEVENT
DTSTAMP:20260421T001005Z
DTSTART:20150130T120000
DTEND:20150130T133000
SUMMARY:Conferencia de Jorge Klainman\, superviviente del Holocausto
TZID:Europe/Madrid
UID:456461a7-a53a-11e4-b42f-3fe5a96f4a88
URL:http://www.upo.es/portal/impe/web/contenido/456461a7-a53a-11e4-b42f-3fe5a96f4a88
LOCATION:Edificio 7\, sala de grados
END:VEVENT
BEGIN:VEVENT
DTSTAMP:20260421T001005Z
DTSTART:20150130T100000
DTEND:20150130T113000
SUMMARY:Presentación de la campaña #TwitterEvasor
TZID:Europe/Madrid
UID:f0523baa-a6e5-11e4-8bd2-3fe5a96f4a88
URL:http://www.upo.es/portal/impe/web/contenido/f0523baa-a6e5-11e4-8bd2-3fe5a96f4a88
LOCATION:Edificio 7\, sala de grados
END:VEVENT
END:VCALENDAR
