BEGIN:VCALENDAR
PRODID:-//Ben Fortuna//iCal4j 0.9.20//ES
VERSION:2.0
CALSCALE:GREGORIAN
BEGIN:VEVENT
DTSTAMP:20260420T191520Z
DTSTART:20150203T100000
DTEND:20150203T140000
SUMMARY:Seminario sobre Pobreza y Exclusión Social en Andalucía. Una aproximación del Informe FOESSA
TZID:Europe/Madrid
UID:dd6d809d-9fb7-11e4-ad6e-3fe5a96f4a88
URL:http://www.upo.es/portal/impe/web/contenido/dd6d809d-9fb7-11e4-ad6e-3fe5a96f4a88
LOCATION:Edificio 7\, sala de grados
END:VEVENT
BEGIN:VEVENT
DTSTAMP:20260420T191520Z
DTSTART:20150203T103000
DTEND:20150203T133000
SUMMARY:Claustro Universitario
TZID:Europe/Madrid
UID:95541530-a6e3-11e4-8bd2-3fe5a96f4a88
URL:http://www.upo.es/portal/impe/web/contenido/95541530-a6e3-11e4-8bd2-3fe5a96f4a88
LOCATION:Paraninfo
END:VEVENT
BEGIN:VEVENT
DTSTAMP:20260420T191520Z
DTSTART:20150203T100000
DTEND:20150203T140000
SUMMARY:Taller 'Elevator Pitch'
TZID:Europe/Madrid
UID:b0930e83-a868-11e4-8a4c-3fe5a96f4a88
URL:http://www.upo.es/portal/impe/web/contenido/b0930e83-a868-11e4-8a4c-3fe5a96f4a88
LOCATION:Edificio Alexander von Humboldt\, aula B02
END:VEVENT
BEGIN:VEVENT
DTSTAMP:20260420T191520Z
DTSTART:20150203T173000
DTEND:20150203T191300
SUMMARY:'La sociología en México'
TZID:Europe/Madrid
UID:1d62f1eb-a893-11e4-8a4c-3fe5a96f4a88
URL:http://www.upo.es/portal/impe/web/contenido/1d62f1eb-a893-11e4-8a4c-3fe5a96f4a88
LOCATION:Edificio 6\, sala de grados
END:VEVENT
BEGIN:VEVENT
DTSTAMP:20260420T191520Z
DTSTART:20150203T110000
DTEND:20150203T123000
SUMMARY:'Estructura y función del estado incaico. La fiesta de Qollur Ritti'
TZID:Europe/Madrid
UID:56566b70-aaee-11e4-94d2-3fe5a96f4a88
URL:http://www.upo.es/portal/impe/web/contenido/56566b70-aaee-11e4-94d2-3fe5a96f4a88
LOCATION:Edificio 6\, sala de grados
END:VEVENT
BEGIN:VEVENT
DTSTAMP:20260420T191520Z
DTSTART:20150203T180000
DTEND:20150203T193000
SUMMARY:'Comunicación Empresarial y Relaciones Humanas en los Negocios'
TZID:Europe/Madrid
UID:141af80d-aae2-11e4-94d2-3fe5a96f4a88
URL:http://www.upo.es/portal/impe/web/contenido/141af80d-aae2-11e4-94d2-3fe5a96f4a88
LOCATION:Edificio Alexander von Humboldt\, aula 1.08
END:VEVENT
BEGIN:VEVENT
DTSTAMP:20260420T191520Z
DTSTART:20150204T160000
DTEND:20150206T200000
SUMMARY:'El impacto del capitalismo sobre el estado constitucional'
TZID:Europe/Madrid
UID:81cd0b76-ac4f-11e4-a607-3fe5a96f4a88
URL:http://www.upo.es/portal/impe/web/contenido/81cd0b76-ac4f-11e4-a607-3fe5a96f4a88
LOCATION:Biblioteca\, sala de grados
END:VEVENT
BEGIN:VEVENT
DTSTAMP:20260420T191520Z
DTSTART:20150204T170000
DTEND:20150208T200000
SUMMARY:Laten en nuestra piel
TZID:Europe/Madrid
UID:9a890a58-ab90-11e4-93b4-3fe5a96f4a88
URL:http://www.upo.es/portal/impe/web/contenido/9a890a58-ab90-11e4-93b4-3fe5a96f4a88
LOCATION:PALACIO DE LOS MARQUESES DE LA ALGABA / ECAG UPO / LIBRERÍA RELATORAS
END:VEVENT
BEGIN:VEVENT
DTSTAMP:20260420T191520Z
DTSTART:20150205T140000
DTEND:20150205T153000
SUMMARY:Excavaciones en Villa Adriana: sesión informativa
TZID:Europe/Madrid
UID:ffbb65f0-ac50-11e4-a607-3fe5a96f4a88
URL:http://www.upo.es/portal/impe/web/contenido/ffbb65f0-ac50-11e4-a607-3fe5a96f4a88
LOCATION:Edificio 44 (Josefa Amar)\, B.7
END:VEVENT
BEGIN:VEVENT
DTSTAMP:20260420T191520Z
DTSTART:20150205T160000
DTEND:20150205T200000
SUMMARY:'Invertir con criterio en Bolsa'
TZID:Europe/Madrid
UID:5fc7e904-ac52-11e4-a607-3fe5a96f4a88
URL:http://www.upo.es/portal/impe/web/contenido/5fc7e904-ac52-11e4-a607-3fe5a96f4a88
LOCATION:Edificio 6\, aula 1
END:VEVENT
BEGIN:VEVENT
DTSTAMP:20260420T191520Z
DTSTART:20150205T113000
DTEND:20150205T130000
SUMMARY:'U Pardojasil u maaya kaajil Popolà (Yucatàn)'
TZID:Europe/Madrid
UID:ddd2f351-ac53-11e4-a607-3fe5a96f4a88
URL:http://www.upo.es/portal/impe/web/contenido/ddd2f351-ac53-11e4-a607-3fe5a96f4a88
LOCATION:Edificio Alexander von Humboldt\, aula B.05
END:VEVENT
BEGIN:VEVENT
DTSTAMP:20260420T191520Z
DTSTART:20150205T100000
DTEND:20150206T143000
SUMMARY:'Comunicación política en el mundo romano: transmisión e intercambio'
TZID:Europe/Madrid
UID:7bc3bede-ac4e-11e4-a607-3fe5a96f4a88
URL:http://www.upo.es/portal/impe/web/contenido/7bc3bede-ac4e-11e4-a607-3fe5a96f4a88
LOCATION:Escuela de Estudios Hispano-Americanos\, sala Calderón Quijano
END:VEVENT
BEGIN:VEVENT
DTSTAMP:20260420T191520Z
DTSTART:20150205T100000
DTEND:20150206T140000
SUMMARY:Envejecimiento Activo y Solidaridad Intergeneracional
TZID:Europe/Madrid
UID:c3e643c1-ac56-11e4-a607-3fe5a96f4a88
URL:http://www.upo.es/portal/impe/web/contenido/c3e643c1-ac56-11e4-a607-3fe5a96f4a88
LOCATION:Edificios 5\, 10 y 16
END:VEVENT
BEGIN:VEVENT
DTSTAMP:20260420T191520Z
DTSTART:20150205T093000
DTEND:20150207T200000
SUMMARY:Move.net &#8211\; Congreso sobre movimientos sociales y TIC
TZID:Europe/Madrid
UID:2b09bbd3-a16e-11e4-8cc4-3fe5a96f4a88
URL:http://www.upo.es/portal/impe/web/contenido/2b09bbd3-a16e-11e4-8cc4-3fe5a96f4a88
LOCATION:Paraninfo 
END:VEVENT
BEGIN:VEVENT
DTSTAMP:20260420T191520Z
DTSTART:20150206T113000
DTEND:20150206T130000
SUMMARY:Seminario informativo sobre el Servicio de Voluntariado Europeo
TZID:Europe/Madrid
UID:aecc171a-abad-11e4-93b4-3fe5a96f4a88
URL:http://www.upo.es/portal/impe/web/contenido/aecc171a-abad-11e4-93b4-3fe5a96f4a88
LOCATION:Edificio13\, aula 3.
END:VEVENT
BEGIN:VEVENT
DTSTAMP:20260420T191520Z
DTSTART:20150206T160000
DTEND:20150206T200000
SUMMARY:X Ciclo 'Métodos\, Teorías y Nuevas Líneas de Investigación Histórica'
TZID:Europe/Madrid
UID:9ce29000-ad2b-11e4-bddd-3fe5a96f4a88
URL:http://www.upo.es/portal/impe/web/contenido/9ce29000-ad2b-11e4-bddd-3fe5a96f4a88
LOCATION:EEHA (C/Alfonso XII\, 16)
END:VEVENT
BEGIN:VEVENT
DTSTAMP:20260420T191520Z
DTSTART:20150207T090000
DTEND:20150207T183000
SUMMARY:Visita guiada al Paraje Natural Brazo del Este
TZID:Europe/Madrid
UID:fddf458e-ab87-11e4-93b4-3fe5a96f4a88
URL:http://www.upo.es/portal/impe/web/contenido/fddf458e-ab87-11e4-93b4-3fe5a96f4a88
LOCATION:Salida desde Prado de San Sebastián
END:VEVENT
BEGIN:VEVENT
DTSTAMP:20260420T191520Z
DTSTART:20150210T163000
DTEND:20150210T081500
SUMMARY:Subastas electrónicas: teoría y práctica
TZID:Europe/Madrid
UID:0d6b6ceb-add9-11e4-86b6-3fe5a96f4a88
URL:http://www.upo.es/portal/impe/web/contenido/0d6b6ceb-add9-11e4-86b6-3fe5a96f4a88
LOCATION:Edificio 3\, sala de juntas
END:VEVENT
BEGIN:VEVENT
DTSTAMP:20260420T191520Z
DTSTART:20150210T120000
DTEND:20150210T133000
SUMMARY:'Pompeya: vida\, muerte y resurrección'
TZID:Europe/Madrid
UID:f5fe653b-b066-11e4-89e5-3fe5a96f4a88
URL:http://www.upo.es/portal/impe/web/contenido/f5fe653b-b066-11e4-89e5-3fe5a96f4a88
LOCATION:Edificio 29\, aula B03
END:VEVENT
BEGIN:VEVENT
DTSTAMP:20260420T191520Z
DTSTART:20150210T090000
DTEND:20150211T143000
SUMMARY:Encuentros para el Empleo
TZID:Europe/Madrid
UID:98d7ef1d-a891-11e4-8a4c-3fe5a96f4a88
URL:http://www.upo.es/portal/impe/web/contenido/98d7ef1d-a891-11e4-8a4c-3fe5a96f4a88
LOCATION:Edificio 7\, sala de grados
END:VEVENT
BEGIN:VEVENT
DTSTAMP:20260420T191520Z
DTSTART:20150211T093000
DTEND:20150212T180000
SUMMARY:TRANSFIERE 2015
TZID:Europe/Madrid
UID:1f04dc9c-a152-11e4-8cc4-3fe5a96f4a88
URL:http://www.upo.es/portal/impe/web/contenido/1f04dc9c-a152-11e4-8cc4-3fe5a96f4a88
LOCATION:Palacio de Ferias y Congresos de Málaga
END:VEVENT
BEGIN:VEVENT
DTSTAMP:20260420T191520Z
DTSTART:20150211T160000
DTEND:20150212T200000
SUMMARY:I Jornada de sensibilización e investigación en TDAH
TZID:Europe/Madrid
UID:ad2c095e-b128-11e4-aab4-3fe5a96f4a88
URL:http://www.upo.es/portal/impe/web/contenido/ad2c095e-b128-11e4-aab4-3fe5a96f4a88
LOCATION:Edificio 7\, sala de grados
END:VEVENT
BEGIN:VEVENT
DTSTAMP:20260420T191520Z
DTSTART:20150212T180000
DTEND:20150212T193000
SUMMARY:'Flamenco y poder. Un estudio desde la sociología del arte'
TZID:Europe/Madrid
UID:4cac38d5-b068-11e4-89e5-3fe5a96f4a88
URL:http://www.upo.es/portal/impe/web/contenido/4cac38d5-b068-11e4-89e5-3fe5a96f4a88
LOCATION:ECAG - Espacio Cultural 'Antigua Guardería'
END:VEVENT
BEGIN:VEVENT
DTSTAMP:20260420T191520Z
DTSTART:20150213T123000
DTEND:20150213T140000
SUMMARY:Some aspects of development high performance mesoporous electrodes and design of tandem DSSC
TZID:Europe/Madrid
UID:33985554-b1d1-11e4-8026-3fe5a96f4a88
URL:http://www.upo.es/portal/impe/web/contenido/33985554-b1d1-11e4-8026-3fe5a96f4a88
LOCATION:Edificio 47\,  segunda planta. Laboratorio Nautilus
END:VEVENT
BEGIN:VEVENT
DTSTAMP:20260420T191520Z
DTSTART:20150217T130000
DTEND:20150217T150000
SUMMARY:Seminarios Internos del Departamento de Economía Financiera y Contabilidad
TZID:Europe/Madrid
UID:57ff8874-b5c0-11e4-b131-3fe5a96f4a88
URL:http://www.upo.es/portal/impe/web/contenido/57ff8874-b5c0-11e4-b131-3fe5a96f4a88
LOCATION:Sala de Juntas (4ª planta) Edificio 7
END:VEVENT
BEGIN:VEVENT
DTSTAMP:20260420T191520Z
DTSTART:20150218T120000
DTEND:20150218T140000
SUMMARY:Presentación del Banco del Tiempo de la UPO
TZID:Europe/Madrid
UID:12de7e14-b1dc-11e4-8026-3fe5a96f4a88
URL:http://www.upo.es/portal/impe/web/contenido/12de7e14-b1dc-11e4-8026-3fe5a96f4a88
LOCATION:Edificio 11\, seminario 5
END:VEVENT
BEGIN:VEVENT
DTSTAMP:20260420T191520Z
DTSTART:20150218T170000
DTEND:20150218T200000
SUMMARY:Bootcamps en la UPO: Internet de las Cosas
TZID:Europe/Madrid
UID:6c257962-b6ad-11e4-8332-3fe5a96f4a88
URL:http://www.upo.es/portal/impe/web/contenido/6c257962-b6ad-11e4-8332-3fe5a96f4a88
LOCATION:Edificio 8\, aula 6
END:VEVENT
BEGIN:VEVENT
DTSTAMP:20260420T191520Z
DTSTART:20150218T083000
DTEND:20150218T210000
SUMMARY:Exposición CONTEMPORARTE 2014
TZID:Europe/Madrid
UID:3139285e-b1d4-11e4-8026-3fe5a96f4a88
URL:http://www.upo.es/portal/impe/web/contenido/3139285e-b1d4-11e4-8026-3fe5a96f4a88
LOCATION:Biblioteca\, sala de exposiciones
END:VEVENT
BEGIN:VEVENT
DTSTAMP:20260420T191520Z
DTSTART:20150219T170000
DTEND:20150219T200000
SUMMARY:Bootcamps en la UPO: Comercio Electrónico
TZID:Europe/Madrid
UID:147bcdea-b6ae-11e4-8332-3fe5a96f4a88
URL:http://www.upo.es/portal/impe/web/contenido/147bcdea-b6ae-11e4-8332-3fe5a96f4a88
LOCATION:Edificio Alexander von Humboldt\, aula 1.09
END:VEVENT
BEGIN:VEVENT
DTSTAMP:20260420T191520Z
DTSTART:20150219T100000
DTEND:20150219T140000
SUMMARY:Workshop 'Educar sobre Internet'
TZID:Europe/Madrid
UID:7d9041b5-b750-11e4-877f-3fe5a96f4a88
URL:http://www.upo.es/portal/impe/web/contenido/7d9041b5-b750-11e4-877f-3fe5a96f4a88
LOCATION:Edificio 6\, sala de grados
END:VEVENT
BEGIN:VEVENT
DTSTAMP:20260420T191520Z
DTSTART:20150220T160000
DTEND:20150220T200000
SUMMARY:Investigación Histórica - 7ª sesión
TZID:Europe/Madrid
UID:4a1d579a-b749-11e4-877f-3fe5a96f4a88
URL:http://www.upo.es/portal/impe/web/contenido/4a1d579a-b749-11e4-877f-3fe5a96f4a88
LOCATION:EEHA\, sala Calderón Quijano
END:VEVENT
BEGIN:VEVENT
DTSTAMP:20260420T191520Z
DTSTART:20150220T160000
DTEND:20150220T173000
SUMMARY:La modernización de la liquidación de valores en España y Europa
TZID:Europe/Madrid
UID:f5ac1125-b762-11e4-877f-3fe5a96f4a88
URL:http://www.upo.es/portal/impe/web/contenido/f5ac1125-b762-11e4-877f-3fe5a96f4a88
LOCATION:Edificio 3\, sala de juntas 1ª planta
END:VEVENT
BEGIN:VEVENT
DTSTAMP:20260420T191520Z
DTSTART:20150220T120000
DTEND:20150220T130000
SUMMARY:Presentación de EDPR UNIVERSITY CHALLENGE 2015
TZID:Europe/Madrid
UID:ac52236f-b753-11e4-877f-3fe5a96f4a88
URL:http://www.upo.es/portal/impe/web/contenido/ac52236f-b753-11e4-877f-3fe5a96f4a88
LOCATION:Biblioteca\, sala de grados
END:VEVENT
BEGIN:VEVENT
DTSTAMP:20260420T191520Z
DTSTART:20150221T090000
DTEND:20150221T170000
SUMMARY:Senderismo: De Cabra a Zuheros
TZID:Europe/Madrid
UID:515ab868-a146-11e4-8cc4-3fe5a96f4a88
URL:http://www.upo.es/portal/impe/web/contenido/515ab868-a146-11e4-8cc4-3fe5a96f4a88
END:VEVENT
BEGIN:VEVENT
DTSTAMP:20260420T191520Z
DTSTART:20150221T090000
DTEND:20150221T183300
SUMMARY:Reforestación para la mejora de hábitats de anfibios en la Sierra Norte
TZID:Europe/Madrid
UID:54a66cfa-b1d9-11e4-8026-3fe5a96f4a88
URL:http://www.upo.es/portal/impe/web/contenido/54a66cfa-b1d9-11e4-8026-3fe5a96f4a88
LOCATION:La Atalaya en Cazalla de la Sierra
END:VEVENT
BEGIN:VEVENT
DTSTAMP:20260420T191520Z
DTSTART:20150224T093000
DTEND:20150224T180000
SUMMARY:II Jornadas de Emprendimiento Social en la UPO
TZID:Europe/Madrid
UID:74223491-b751-11e4-877f-3fe5a96f4a88
URL:http://www.upo.es/portal/impe/web/contenido/74223491-b751-11e4-877f-3fe5a96f4a88
LOCATION:Biblioteca\, sala de grados
END:VEVENT
BEGIN:VEVENT
DTSTAMP:20260420T191520Z
DTSTART:20150224T110000
DTEND:20150224T123000
SUMMARY:Seminario informativo sobre el Servicio de Voluntariado Europeo
TZID:Europe/Madrid
UID:131b04bb-b772-11e4-877f-3fe5a96f4a88
URL:http://www.upo.es/portal/impe/web/contenido/131b04bb-b772-11e4-877f-3fe5a96f4a88
LOCATION:edificio13\, aula 3
END:VEVENT
BEGIN:VEVENT
DTSTAMP:20260420T191520Z
DTSTART:20150225T170000
DTEND:20150225T200000
SUMMARY:Bootcamps en la UPO: Desarrollo de clientes
TZID:Europe/Madrid
UID:73fd43c2-b74d-11e4-877f-3fe5a96f4a88
URL:http://www.upo.es/portal/impe/web/contenido/73fd43c2-b74d-11e4-877f-3fe5a96f4a88
LOCATION:Edificio Alexander von Humboldt\, aula 1.11
END:VEVENT
BEGIN:VEVENT
DTSTAMP:20260420T191520Z
DTSTART:20150226T100000
DTEND:20150226T140000
SUMMARY:Juventud\, Voluntariado y TIC: Competencias en Positivo
TZID:Europe/Madrid
UID:246df6dc-b1e9-11e4-8026-3fe5a96f4a88
URL:http://www.upo.es/portal/impe/web/contenido/246df6dc-b1e9-11e4-8026-3fe5a96f4a88
LOCATION:Biblioteca\, sala de grados
END:VEVENT
BEGIN:VEVENT
DTSTAMP:20260420T191520Z
DTSTART:20150226T170000
DTEND:20150226T200000
SUMMARY:Bootcamps en la UPO: Prototipado
TZID:Europe/Madrid
UID:34e6aeae-b74f-11e4-877f-3fe5a96f4a88
URL:http://www.upo.es/portal/impe/web/contenido/34e6aeae-b74f-11e4-877f-3fe5a96f4a88
LOCATION:Edificio Alexander von Humboldt\, aula 1.11
END:VEVENT
BEGIN:VEVENT
DTSTAMP:20260420T191520Z
DTSTART:20150226T094500
DTEND:20150226T141500
SUMMARY:Jornadas de investigación sobre Empresas Familiares
TZID:Europe/Madrid
UID:e34fbd77-bcd4-11e4-9a9d-3fe5a96f4a88
URL:http://www.upo.es/portal/impe/web/contenido/e34fbd77-bcd4-11e4-9a9d-3fe5a96f4a88
LOCATION:Edificio 7\, sala de grados
END:VEVENT
BEGIN:VEVENT
DTSTAMP:20260420T191520Z
DTSTART:20150226T163000
DTEND:20150226T180000
SUMMARY:'La nueva ejecución hipotecaria a debate'
TZID:Europe/Madrid
UID:780d81cb-b821-11e4-821b-3fe5a96f4a88
URL:http://www.upo.es/portal/impe/web/contenido/780d81cb-b821-11e4-821b-3fe5a96f4a88
LOCATION:Biblioteca\, sala de grados
END:VEVENT
BEGIN:VEVENT
DTSTAMP:20260420T191520Z
DTSTART:20150226T113000
DTEND:20150226T130000
SUMMARY:La tributación sobre sucesiones y donaciones en Bélgica
TZID:Europe/Madrid
UID:4f876699-bcdf-11e4-9a9d-3fe5a96f4a88
URL:http://www.upo.es/portal/impe/web/contenido/4f876699-bcdf-11e4-9a9d-3fe5a96f4a88
LOCATION:Edificio 6\, sala de grados
END:VEVENT
BEGIN:VEVENT
DTSTAMP:20260420T191520Z
DTSTART:20150223T103000
DTEND:20150223T130000
SUMMARY:Claustro Universitario - Sesión extraordinaria
TZID:Europe/Madrid
UID:6b2c3b1a-b8f0-11e4-a71a-3fe5a96f4a88
URL:http://www.upo.es/portal/impe/web/contenido/6b2c3b1a-b8f0-11e4-a71a-3fe5a96f4a88
LOCATION:Paraninfo
END:VEVENT
END:VCALENDAR
