BEGIN:VCALENDAR
PRODID:-//Ben Fortuna//iCal4j 0.9.20//ES
VERSION:2.0
CALSCALE:GREGORIAN
BEGIN:VEVENT
DTSTAMP:20260420T161749Z
DTSTART:20150302T163000
DTEND:20150302T180000
SUMMARY:La investigación con embriones humanos: límites a la patentabilidad
TZID:Europe/Madrid
UID:19616af7-be85-11e4-8750-3fe5a96f4a88
URL:http://www.upo.es/portal/impe/web/contenido/19616af7-be85-11e4-8750-3fe5a96f4a88
LOCATION:Edificio 29\, aula 205
END:VEVENT
BEGIN:VEVENT
DTSTAMP:20260420T161749Z
DTSTART:20150303T170000
DTEND:20150303T183000
SUMMARY:Democracia Incompleta vs. Democracia Interrumpida
TZID:Europe/Madrid
UID:4d522fd1-bce2-11e4-9a9d-3fe5a96f4a88
URL:http://www.upo.es/portal/impe/web/contenido/4d522fd1-bce2-11e4-9a9d-3fe5a96f4a88
LOCATION:Biblioteca\, sala de grados
END:VEVENT
BEGIN:VEVENT
DTSTAMP:20260420T161749Z
DTSTART:20150303T180000
DTEND:20150303T203000
SUMMARY:'De historias y otros recuerdos'
TZID:Europe/Madrid
UID:0c5029df-c0d3-11e4-b61a-3fe5a96f4a88
URL:http://www.upo.es/portal/impe/web/contenido/0c5029df-c0d3-11e4-b61a-3fe5a96f4a88
LOCATION:ECAG - Espacio Cultural Antigua Guardería
END:VEVENT
BEGIN:VEVENT
DTSTAMP:20260420T161749Z
DTSTART:20150303T123000
DTEND:20150303T140000
SUMMARY:Taller del BdT de la UPO
TZID:Europe/Madrid
UID:4134d971-c0df-11e4-b61a-3fe5a96f4a88
URL:http://www.upo.es/portal/impe/web/contenido/4134d971-c0df-11e4-b61a-3fe5a96f4a88
LOCATION:UPO
END:VEVENT
BEGIN:VEVENT
DTSTAMP:20260420T161749Z
DTSTART:20150304T180000
DTEND:20150304T193000
SUMMARY:El Derecho penal y sus enemigos
TZID:Europe/Madrid
UID:83a4b1f1-be74-11e4-8750-3fe5a96f4a88
URL:http://www.upo.es/portal/impe/web/contenido/83a4b1f1-be74-11e4-8750-3fe5a96f4a88
LOCATION:Biblioteca\, sala de grados
END:VEVENT
BEGIN:VEVENT
DTSTAMP:20260420T161749Z
DTSTART:20150304T173000
DTEND:20150304T193000
SUMMARY:Andalucía a Debate
TZID:Europe/Madrid
UID:8434d329-c0dc-11e4-b61a-3fe5a96f4a88
URL:http://www.upo.es/portal/impe/web/contenido/8434d329-c0dc-11e4-b61a-3fe5a96f4a88
LOCATION:Paraninfo
END:VEVENT
BEGIN:VEVENT
DTSTAMP:20260420T161749Z
DTSTART:20150305T100000
DTEND:20150305T140000
SUMMARY:III Jornada de Puertas Abiertas de Estudios de Postgrado de la UPO
TZID:Europe/Madrid
UID:cb18b485-b8db-11e4-a71a-3fe5a96f4a88
URL:http://www.upo.es/portal/impe/web/contenido/cb18b485-b8db-11e4-a71a-3fe5a96f4a88
LOCATION:Edificio Alexander von Humboldt
END:VEVENT
BEGIN:VEVENT
DTSTAMP:20260420T161749Z
DTSTART:20150305T093000
DTEND:20150307T140000
SUMMARY:La criminología en el proceso de la investigación criminal
TZID:Europe/Madrid
UID:d2d19a86-bd07-11e4-9a9d-3fe5a96f4a88
URL:http://www.upo.es/portal/impe/web/contenido/d2d19a86-bd07-11e4-9a9d-3fe5a96f4a88
LOCATION:UPO
END:VEVENT
BEGIN:VEVENT
DTSTAMP:20260420T161749Z
DTSTART:20150305T100000
DTEND:20150305T183000
SUMMARY:Implicaciones éticas y políticas de la revolución biotecnológica
TZID:Europe/Madrid
UID:e68dadff-be85-11e4-8750-3fe5a96f4a88
URL:http://www.upo.es/portal/impe/web/contenido/e68dadff-be85-11e4-8750-3fe5a96f4a88
LOCATION:Edficio 7\, sala de grados
END:VEVENT
BEGIN:VEVENT
DTSTAMP:20260420T161749Z
DTSTART:20150305T100000
DTEND:20150305T133000
SUMMARY:Curriculum Creativo
TZID:Europe/Madrid
UID:dbe76ef9-be86-11e4-8750-3fe5a96f4a88
URL:http://www.upo.es/portal/impe/web/contenido/dbe76ef9-be86-11e4-8750-3fe5a96f4a88
LOCATION:Edificio Alexander von Humboldt\, aula B.08
END:VEVENT
BEGIN:VEVENT
DTSTAMP:20260420T161749Z
DTSTART:20150305T160000
DTEND:20150305T173000
SUMMARY:'Interpréter pour les institutions européennes'
TZID:Europe/Madrid
UID:58655bb3-c24f-11e4-ac11-3fe5a96f4a88
URL:http://www.upo.es/portal/impe/web/contenido/58655bb3-c24f-11e4-ac11-3fe5a96f4a88
LOCATION:Biblioteca\, sala de grados
END:VEVENT
BEGIN:VEVENT
DTSTAMP:20260420T161749Z
DTSTART:20150306T093000
DTEND:20150306T133000
SUMMARY:Proceso de selección
TZID:Europe/Madrid
UID:c2d60ef5-be8a-11e4-8750-3fe5a96f4a88
URL:http://www.upo.es/portal/impe/web/contenido/c2d60ef5-be8a-11e4-8750-3fe5a96f4a88
LOCATION:Edificio Alexander von Humboldt\, aula B.08
END:VEVENT
BEGIN:VEVENT
DTSTAMP:20260420T161749Z
DTSTART:20150306T120000
DTEND:20150306T140000
SUMMARY:Taller 'Micromachismos'
TZID:Europe/Madrid
UID:48edfa2b-c0d5-11e4-b61a-3fe5a96f4a88
URL:http://www.upo.es/portal/impe/web/contenido/48edfa2b-c0d5-11e4-b61a-3fe5a96f4a88
LOCATION:R.U. Flora Tristán. Sala Usos Múltiples
END:VEVENT
BEGIN:VEVENT
DTSTAMP:20260420T161749Z
DTSTART:20150306T103000
DTEND:20150306T140000
SUMMARY:'Café con Ciencia. Mujeres andaluzas en la ciencia'
TZID:Europe/Madrid
UID:516301eb-c251-11e4-ac11-3fe5a96f4a88
URL:http://www.upo.es/portal/impe/web/contenido/516301eb-c251-11e4-ac11-3fe5a96f4a88
LOCATION:Estación Experimental del Zaidín del CSIC. Granada
END:VEVENT
BEGIN:VEVENT
DTSTAMP:20260420T161749Z
DTSTART:20150306T090000
DTEND:20150306T170000
SUMMARY:IV Jornada de Biotecnología de los másteres de la UPO
TZID:Europe/Madrid
UID:ea9a3205-c255-11e4-ac11-3fe5a96f4a88
URL:http://www.upo.es/portal/impe/web/contenido/ea9a3205-c255-11e4-ac11-3fe5a96f4a88
LOCATION:Edificio Alexander von Humboldt\, aula B.11
END:VEVENT
BEGIN:VEVENT
DTSTAMP:20260420T161749Z
DTSTART:20150306T100000
DTEND:20150306T120000
SUMMARY:'ZnO nanostructures - the synthesis and characterization'
TZID:Europe/Madrid
UID:5dc3fb64-c337-11e4-964d-3fe5a96f4a88
URL:http://www.upo.es/portal/impe/web/contenido/5dc3fb64-c337-11e4-964d-3fe5a96f4a88
LOCATION:Edificio 22\, tercera planta. Laboratorio 3
END:VEVENT
BEGIN:VEVENT
DTSTAMP:20260420T161749Z
DTSTART:20150309T120000
DTEND:20150309T140000
SUMMARY:Stand informativo: 'Construir igualdad con las palabras'
TZID:Europe/Madrid
UID:332a6caf-c0d6-11e4-b61a-3fe5a96f4a88
URL:http://www.upo.es/portal/impe/web/contenido/332a6caf-c0d6-11e4-b61a-3fe5a96f4a88
LOCATION:Edificio Celestino Mutis
END:VEVENT
BEGIN:VEVENT
DTSTAMP:20260420T161749Z
DTSTART:20150309T100000
DTEND:20150315T190000
SUMMARY:Fiesta de la Historia
TZID:Europe/Madrid
UID:64589188-b8d8-11e4-a71a-3fe5a96f4a88
URL:http://www.upo.es/portal/impe/web/contenido/64589188-b8d8-11e4-a71a-3fe5a96f4a88
LOCATION:Sevilla / UPO
END:VEVENT
BEGIN:VEVENT
DTSTAMP:20260420T161749Z
DTSTART:20150309T203000
DTEND:20150309T220000
SUMMARY:El impacto de la crisis en las mujeres. Una mirada desde la economía feminista
TZID:Europe/Madrid
UID:1aecde85-c0d7-11e4-b61a-3fe5a96f4a88
URL:http://www.upo.es/portal/impe/web/contenido/1aecde85-c0d7-11e4-b61a-3fe5a96f4a88
LOCATION:R.U. Flora Tristán
END:VEVENT
BEGIN:VEVENT
DTSTAMP:20260420T161749Z
DTSTART:20150310T173000
DTEND:20150310T190000
SUMMARY:La desigualdad y sus consecuencias
TZID:Europe/Madrid
UID:53ce5ed1-c19c-11e4-851c-3fe5a96f4a88
URL:http://www.upo.es/portal/impe/web/contenido/53ce5ed1-c19c-11e4-851c-3fe5a96f4a88
LOCATION:Edificio Alexander von Humboldt\, aula B.04
END:VEVENT
BEGIN:VEVENT
DTSTAMP:20260420T161749Z
DTSTART:20150311T163000
DTEND:20150311T183000
SUMMARY:Taller 'No me quieras tanto\, quiéreme mejor'
TZID:Europe/Madrid
UID:a53e7405-c0d8-11e4-b61a-3fe5a96f4a88
URL:http://www.upo.es/portal/impe/web/contenido/a53e7405-c0d8-11e4-b61a-3fe5a96f4a88
LOCATION:UPO
END:VEVENT
BEGIN:VEVENT
DTSTAMP:20260420T161749Z
DTSTART:20150311T130000
DTEND:20150311T143000
SUMMARY:Asamblea: UPO frente al 3+2
TZID:Europe/Madrid
UID:57be8e2c-c7c8-11e4-92e1-3fe5a96f4a88
URL:http://www.upo.es/portal/impe/web/contenido/57be8e2c-c7c8-11e4-92e1-3fe5a96f4a88
LOCATION:Edificio 7\, sala de grados
END:VEVENT
BEGIN:VEVENT
DTSTAMP:20260420T161749Z
DTSTART:20150312T093000
DTEND:20150312T123000
SUMMARY:Prácticas y Becas
TZID:Europe/Madrid
UID:0c17e3d1-c0c5-11e4-b61a-3fe5a96f4a88
URL:http://www.upo.es/portal/impe/web/contenido/0c17e3d1-c0c5-11e4-b61a-3fe5a96f4a88
LOCATION:Edificio Alexander von Humboldt\, primera planta\, despacho 67
END:VEVENT
BEGIN:VEVENT
DTSTAMP:20260420T161749Z
DTSTART:20150312T100000
DTEND:20150312T130000
SUMMARY:Elaboración de Plan de Empresa y Modelo Canvas (CADE)
TZID:Europe/Madrid
UID:09e44597-c0c6-11e4-b61a-3fe5a96f4a88
URL:http://www.upo.es/portal/impe/web/contenido/09e44597-c0c6-11e4-b61a-3fe5a96f4a88
LOCATION:Edificio Alexander von Humboldt\, primera planta\, despacho 67
END:VEVENT
BEGIN:VEVENT
DTSTAMP:20260420T161749Z
DTSTART:20150312T110000
DTEND:20150312T130000
SUMMARY:I Raid Multi-Aventura Mujeres y Hombres
TZID:Europe/Madrid
UID:b1e97201-c0d9-11e4-b61a-3fe5a96f4a88
URL:http://www.upo.es/portal/impe/web/contenido/b1e97201-c0d9-11e4-b61a-3fe5a96f4a88
LOCATION:Plaza de América de la UPO
END:VEVENT
BEGIN:VEVENT
DTSTAMP:20260420T161749Z
DTSTART:20150312T123000
DTEND:20150312T140000
SUMMARY:Seminario 'Toxicología asociada con los microorganismos responsables de Mareas rojas'
TZID:Europe/Madrid
UID:217ab41c-c7cd-11e4-92e1-3fe5a96f4a88
URL:http://www.upo.es/portal/impe/web/contenido/217ab41c-c7cd-11e4-92e1-3fe5a96f4a88
LOCATION:Edificio 29\,  aula B06
END:VEVENT
BEGIN:VEVENT
DTSTAMP:20260420T161749Z
DTSTART:20150312T120000
DTEND:20150312T133000
SUMMARY:'El Cartaginés'\, Plauto
TZID:Europe/Madrid
UID:bf53c746-c7c9-11e4-92e1-3fe5a96f4a88
URL:http://www.upo.es/portal/impe/web/contenido/bf53c746-c7c9-11e4-92e1-3fe5a96f4a88
LOCATION:Paraninfo
END:VEVENT
BEGIN:VEVENT
DTSTAMP:20260420T161749Z
DTSTART:20150312T090000
DTEND:20150312T210000
SUMMARY:Exposición 'El cambio climático en Andalucía'
TZID:Europe/Madrid
UID:6982e8f0-c7e6-11e4-92e1-3fe5a96f4a88
URL:http://www.upo.es/portal/impe/web/contenido/6982e8f0-c7e6-11e4-92e1-3fe5a96f4a88
LOCATION:Área de Exposiciones de la Biblioteca
END:VEVENT
BEGIN:VEVENT
DTSTAMP:20260420T161749Z
DTSTART:20150312T120000
DTEND:20150312T180000
SUMMARY:Elecciones a juntas de centro de Experimentales y Ciencias Sociales
TZID:Europe/Madrid
UID:ff57e0e2-c7fd-11e4-92e1-3fe5a96f4a88
URL:http://www.upo.es/portal/impe/web/contenido/ff57e0e2-c7fd-11e4-92e1-3fe5a96f4a88
LOCATION:Rectorado\, planta baja
END:VEVENT
BEGIN:VEVENT
DTSTAMP:20260420T161749Z
DTSTART:20150313T093000
DTEND:20150313T133000
SUMMARY:Redes sociales profesionales para el empleo
TZID:Europe/Madrid
UID:86209fbd-c0c6-11e4-b61a-3fe5a96f4a88
URL:http://www.upo.es/portal/impe/web/contenido/86209fbd-c0c6-11e4-b61a-3fe5a96f4a88
LOCATION:Edificio Alexander von Humboldt\, primera planta\, despacho 67
END:VEVENT
BEGIN:VEVENT
DTSTAMP:20260420T161749Z
DTSTART:20150313T130000
DTEND:20150313T133000
SUMMARY:Rotulación de la 'Sede Olavide en Carmona Rectora Rosario Valpuesta'
TZID:Europe/Madrid
UID:2e123140-c7cb-11e4-92e1-3fe5a96f4a88
URL:http://www.upo.es/portal/impe/web/contenido/2e123140-c7cb-11e4-92e1-3fe5a96f4a88
LOCATION:Casa Palacio Los Briones. C/ Ramón y Cajal\, 15. Carmona
END:VEVENT
BEGIN:VEVENT
DTSTAMP:20260420T161749Z
DTSTART:20150313T170000
DTEND:20150314T123000
SUMMARY:'Adriano y Grecia'
TZID:Europe/Madrid
UID:be0ccb35-c188-11e4-851c-3fe5a96f4a88
URL:http://www.upo.es/portal/impe/web/contenido/be0ccb35-c188-11e4-851c-3fe5a96f4a88
LOCATION:Museo Arqueológico de Sevilla. Plaza de América s/n
END:VEVENT
BEGIN:VEVENT
DTSTAMP:20260420T161749Z
DTSTART:20150314T090000
DTEND:20150314T183000
SUMMARY:Jornada de Voluntariado en el Corredor Verde del Guadiamar
TZID:Europe/Madrid
UID:208aaef6-c310-11e4-964d-3fe5a96f4a88
URL:http://www.upo.es/portal/impe/web/contenido/208aaef6-c310-11e4-964d-3fe5a96f4a88
LOCATION:Salida desde el Pabellón de Portugal
END:VEVENT
BEGIN:VEVENT
DTSTAMP:20260420T161749Z
DTSTART:20150316T100000
DTEND:20150320T123000
SUMMARY:IV Seminario 'Transformaciones en la esclavitud en el mundo hispánico'
TZID:Europe/Madrid
UID:d70c24ae-cd5c-11e4-9b0e-3fe5a96f4a88
URL:http://www.upo.es/portal/impe/web/contenido/d70c24ae-cd5c-11e4-9b0e-3fe5a96f4a88
LOCATION:EEHA\, sala Calderón Quijano
END:VEVENT
BEGIN:VEVENT
DTSTAMP:20260420T161749Z
DTSTART:20150318T120000
DTEND:20150318T140000
SUMMARY:'The Partido Andalucista and Democratization in Spain'
TZID:Europe/Madrid
UID:acb0e191-cca9-11e4-bfbe-3fe5a96f4a88
URL:http://www.upo.es/portal/impe/web/contenido/acb0e191-cca9-11e4-bfbe-3fe5a96f4a88
LOCATION:Edificio 14\, aula 
END:VEVENT
BEGIN:VEVENT
DTSTAMP:20260420T161749Z
DTSTART:20150318T123000
DTEND:20150318T140000
SUMMARY:'Cómo afrontar un proceso de selección'
TZID:Europe/Madrid
UID:ec14a849-ccae-11e4-bfbe-3fe5a96f4a88
URL:http://www.upo.es/portal/impe/web/contenido/ec14a849-ccae-11e4-bfbe-3fe5a96f4a88
LOCATION:Biblioteca\, sala de grados
END:VEVENT
BEGIN:VEVENT
DTSTAMP:20260420T161749Z
DTSTART:20150318T093000
DTEND:20150319T203000
SUMMARY:Derecho y fiscalidad de las sucesiones
TZID:Europe/Madrid
UID:4e01df81-b8e3-11e4-a71a-3fe5a96f4a88
URL:http://www.upo.es/portal/impe/web/contenido/4e01df81-b8e3-11e4-a71a-3fe5a96f4a88
LOCATION:Edificio 7\, sala de grados
END:VEVENT
BEGIN:VEVENT
DTSTAMP:20260420T161749Z
DTSTART:20150318T163000
DTEND:20150318T180000
SUMMARY:'Introducción a los Riesgos Financieros y su Gestión'
TZID:Europe/Madrid
UID:9006088c-cd5b-11e4-9b0e-3fe5a96f4a88
URL:http://www.upo.es/portal/impe/web/contenido/9006088c-cd5b-11e4-9b0e-3fe5a96f4a88
LOCATION:Edificio Alexander von Humboldt\, aula 1.08
END:VEVENT
BEGIN:VEVENT
DTSTAMP:20260420T161749Z
DTSTART:20150317T100000
DTEND:20150318T143000
SUMMARY:Curso 'Auditores Internos de Sistemas de Garantía de Calidad'
TZID:Europe/Madrid
UID:40e09bd6-cd5a-11e4-9b0e-3fe5a96f4a88
URL:http://www.upo.es/portal/impe/web/contenido/40e09bd6-cd5a-11e4-9b0e-3fe5a96f4a88
LOCATION:UPO
END:VEVENT
BEGIN:VEVENT
DTSTAMP:20260420T161749Z
DTSTART:20150319T130000
DTEND:20150319T144500
SUMMARY:'La globalización y el Trabajo Social: cruzando fronteras\, el caso de México y Arizona'
TZID:Europe/Madrid
UID:6e745334-cd5c-11e4-9b0e-3fe5a96f4a88
URL:http://www.upo.es/portal/impe/web/contenido/6e745334-cd5c-11e4-9b0e-3fe5a96f4a88
LOCATION:Edificio 8\, Aula 7
END:VEVENT
BEGIN:VEVENT
DTSTAMP:20260420T161749Z
DTSTART:20150319T190000
DTEND:20150319T203000
SUMMARY:Venta ambulante y cante: los pregones flamencos
TZID:Europe/Madrid
UID:47b250a2-c981-11e4-83e6-3fe5a96f4a88
URL:http://www.upo.es/portal/impe/web/contenido/47b250a2-c981-11e4-83e6-3fe5a96f4a88
LOCATION:ECAG - Espacio Cultural Antigua Guardería
END:VEVENT
BEGIN:VEVENT
DTSTAMP:20260420T161749Z
DTSTART:20150319T120000
DTEND:20150319T140000
SUMMARY:Conferencia 'Elecciones en Andalucía. La cocina electoral: del campo a la mesa'
TZID:Europe/Madrid
UID:188d54ab-cd5f-11e4-9b0e-3fe5a96f4a88
URL:http://www.upo.es/portal/impe/web/contenido/188d54ab-cd5f-11e4-9b0e-3fe5a96f4a88
LOCATION:Biblioteca\, sala de grados
END:VEVENT
BEGIN:VEVENT
DTSTAMP:20260420T161749Z
DTSTART:20150320T183000
DTEND:20150320T200000
SUMMARY:'El Cartaginés'\, de Plauto
TZID:Europe/Madrid
UID:ebd5ec75-cd5f-11e4-9b0e-3fe5a96f4a88
URL:http://www.upo.es/portal/impe/web/contenido/ebd5ec75-cd5f-11e4-9b0e-3fe5a96f4a88
LOCATION:Paraninfo
END:VEVENT
BEGIN:VEVENT
DTSTAMP:20260420T161749Z
DTSTART:20150320T090000
DTEND:20150320T110000
SUMMARY:Taller 'Observación del eclipse parcial de Sol del 20 de marzo'
TZID:Europe/Madrid
UID:d5404901-cd5d-11e4-9b0e-3fe5a96f4a88
URL:http://www.upo.es/portal/impe/web/contenido/d5404901-cd5d-11e4-9b0e-3fe5a96f4a88
LOCATION:Jardines del complejo Fausto Elhuyar 
END:VEVENT
BEGIN:VEVENT
DTSTAMP:20260420T161749Z
DTSTART:20150320T160000
DTEND:20150320T190000
SUMMARY:Conferencias de investigación histórica
TZID:Europe/Madrid
UID:d1d06f8f-cd60-11e4-9b0e-3fe5a96f4a88
URL:http://www.upo.es/portal/impe/web/contenido/d1d06f8f-cd60-11e4-9b0e-3fe5a96f4a88
LOCATION:EEHA\, sala Calderón Quijano
END:VEVENT
BEGIN:VEVENT
DTSTAMP:20260420T161749Z
DTSTART:20150320T123000
DTEND:20150320T140000
SUMMARY:'International Equity Portfolio Risk Modeling'
TZID:Europe/Madrid
UID:a4aa6b40-ce43-11e4-82af-3fe5a96f4a88
URL:http://www.upo.es/portal/impe/web/contenido/a4aa6b40-ce43-11e4-82af-3fe5a96f4a88
LOCATION:Edificio 7\, sala de juntas 4ª planta
END:VEVENT
BEGIN:VEVENT
DTSTAMP:20260420T161749Z
DTSTART:20150320T203000
DTEND:20150320T223000
SUMMARY:Coro de la UPO: Concierto de Pascua
TZID:Europe/Madrid
UID:74e28a7f-cd62-11e4-9b0e-3fe5a96f4a88
URL:http://www.upo.es/portal/impe/web/contenido/74e28a7f-cd62-11e4-9b0e-3fe5a96f4a88
LOCATION: Iglesia del Santo Angel (C/Rioja)
END:VEVENT
BEGIN:VEVENT
DTSTAMP:20260420T161749Z
DTSTART:20150322T090000
DTEND:20150322T173000
SUMMARY:Bautismo de Escalada: Cerro del Hierro
TZID:Europe/Madrid
UID:3283e801-a148-11e4-8cc4-3fe5a96f4a88
URL:http://www.upo.es/portal/impe/web/contenido/3283e801-a148-11e4-8cc4-3fe5a96f4a88
LOCATION:Cerro del Hierro
END:VEVENT
BEGIN:VEVENT
DTSTAMP:20260420T161749Z
DTSTART:20150323T160000
DTEND:20150323T190000
SUMMARY:Conferencias de investigación histórica
TZID:Europe/Madrid
UID:92e4b077-cd61-11e4-9b0e-3fe5a96f4a88
URL:http://www.upo.es/portal/impe/web/contenido/92e4b077-cd61-11e4-9b0e-3fe5a96f4a88
LOCATION:EEHA\, sala Calderón Quijano
END:VEVENT
BEGIN:VEVENT
DTSTAMP:20260420T161749Z
DTSTART:20150323T103000
DTEND:20150323T160000
SUMMARY:TRANSFERTS
TZID:Europe/Madrid
UID:d777da64-cd63-11e4-9b0e-3fe5a96f4a88
URL:http://www.upo.es/portal/impe/web/contenido/d777da64-cd63-11e4-9b0e-3fe5a96f4a88
LOCATION:Edificio 7\, sala de grados
END:VEVENT
BEGIN:VEVENT
DTSTAMP:20260420T161749Z
DTSTART:20150323T160000
DTEND:20150326T203000
SUMMARY:Campaña de Donación de Sangre
TZID:Europe/Madrid
UID:537d51eb-c961-11e4-83e6-3fe5a96f4a88
URL:http://www.upo.es/portal/impe/web/contenido/537d51eb-c961-11e4-83e6-3fe5a96f4a88
LOCATION:Rectorado\, sala de usos múltiples
END:VEVENT
BEGIN:VEVENT
DTSTAMP:20260420T161749Z
DTSTART:20150323T190000
DTEND:20150323T203000
SUMMARY:'La contratación pública electrónica'
TZID:Europe/Madrid
UID:dde1852f-cf13-11e4-9f20-3fe5a96f4a88
URL:http://www.upo.es/portal/impe/web/contenido/dde1852f-cf13-11e4-9f20-3fe5a96f4a88
LOCATION:Edificio 3\, Sala de Juntas. 1ª Planta
END:VEVENT
BEGIN:VEVENT
DTSTAMP:20260420T161749Z
DTSTART:20150325T120000
DTEND:20150325T143000
SUMMARY:III Seminario de Análisis Electoral
TZID:Europe/Madrid
UID:c775d78c-cd64-11e4-9b0e-3fe5a96f4a88
URL:http://www.upo.es/portal/impe/web/contenido/c775d78c-cd64-11e4-9b0e-3fe5a96f4a88
LOCATION:Edificio 7\, sala de grados
END:VEVENT
BEGIN:VEVENT
DTSTAMP:20260420T161749Z
DTSTART:20150325T120000
DTEND:20150325T133000
SUMMARY:Talentum Startups
TZID:Europe/Madrid
UID:7c77c64b-cd66-11e4-9b0e-3fe5a96f4a88
URL:http://www.upo.es/portal/impe/web/contenido/7c77c64b-cd66-11e4-9b0e-3fe5a96f4a88
LOCATION:Biblioteca\, sala de grados
END:VEVENT
BEGIN:VEVENT
DTSTAMP:20260420T161749Z
DTSTART:20150326T113000
DTEND:20150326T130000
SUMMARY:'La evolución del control de gestión y de la empresa familiar: 1975-2015'
TZID:Europe/Madrid
UID:8a7a2897-d2e6-11e4-8e52-3fe5a96f4a88
URL:http://www.upo.es/portal/impe/web/contenido/8a7a2897-d2e6-11e4-8e52-3fe5a96f4a88
LOCATION:Edificio 10\, Sala de Juntas 
END:VEVENT
BEGIN:VEVENT
DTSTAMP:20260420T161749Z
DTSTART:20150326T173000
DTEND:20150326T190000
SUMMARY:'Derechos sociales por la dignidad'
TZID:Europe/Madrid
UID:ce81a594-d2f9-11e4-8e52-3fe5a96f4a88
URL:http://www.upo.es/portal/impe/web/contenido/ce81a594-d2f9-11e4-8e52-3fe5a96f4a88
LOCATION:Biblioteca\, sala de grados
END:VEVENT
BEGIN:VEVENT
DTSTAMP:20260420T161749Z
DTSTART:20150326T180000
DTEND:20150326T193000
SUMMARY:Minería en la Nueva Granada
TZID:Europe/Madrid
UID:470ccd6c-d390-11e4-a500-3fe5a96f4a88
URL:http://www.upo.es/portal/impe/web/contenido/470ccd6c-d390-11e4-a500-3fe5a96f4a88
LOCATION:Consulado de Colombia en Sevilla
END:VEVENT
BEGIN:VEVENT
DTSTAMP:20260420T161749Z
DTSTART:20150327T120000
DTEND:20150327T143000
SUMMARY:Día Mundial del Teatro
TZID:Europe/Madrid
UID:2a38efc0-d2dc-11e4-8e52-3fe5a96f4a88
URL:http://www.upo.es/portal/impe/web/contenido/2a38efc0-d2dc-11e4-8e52-3fe5a96f4a88
LOCATION:UPO
END:VEVENT
BEGIN:VEVENT
DTSTAMP:20260420T161749Z
DTSTART:20150327T163000
DTEND:20150327T181500
SUMMARY:'La responsabilidad del transportista aéreo en el transporte de mercancías'
TZID:Europe/Madrid
UID:4380e12f-d2e9-11e4-8e52-3fe5a96f4a88
URL:http://www.upo.es/portal/impe/web/contenido/4380e12f-d2e9-11e4-8e52-3fe5a96f4a88
LOCATION:Edificio 6\, sala de grados
END:VEVENT
END:VCALENDAR
