BEGIN:VCALENDAR
PRODID:-//Ben Fortuna//iCal4j 0.9.20//ES
VERSION:2.0
CALSCALE:GREGORIAN
BEGIN:VEVENT
DTSTAMP:20260420T143539Z
DTSTART:20150406T093000
DTEND:20150407T140000
SUMMARY:'Derecho de contratos: nuevos escenarios y nuevas propuestas'
TZID:Europe/Madrid
UID:347445c3-d861-11e4-a743-3fe5a96f4a88
URL:http://www.upo.es/portal/impe/web/contenido/347445c3-d861-11e4-a743-3fe5a96f4a88
LOCATION:US / UPO / Col. Notarial de Sevilla
END:VEVENT
BEGIN:VEVENT
DTSTAMP:20260420T143539Z
DTSTART:20150407T100000
DTEND:20150407T140000
SUMMARY:IV Olimpiada de Economía
TZID:Europe/Madrid
UID:b87cbbd6-d86b-11e4-a743-3fe5a96f4a88
URL:http://www.upo.es/portal/impe/web/contenido/b87cbbd6-d86b-11e4-a743-3fe5a96f4a88
LOCATION:Paraninfo
END:VEVENT
BEGIN:VEVENT
DTSTAMP:20260420T143539Z
DTSTART:20150407T200000
DTEND:20150407T210000
SUMMARY:Taller 'Micromachismos y nuevas masculinidades'
TZID:Europe/Madrid
UID:5e69565a-dc55-11e4-ae70-3fe5a96f4a88
URL:http://www.upo.es/portal/impe/web/contenido/5e69565a-dc55-11e4-ae70-3fe5a96f4a88
LOCATION:R.U. Flora Tristán\, salón de actos
END:VEVENT
BEGIN:VEVENT
DTSTAMP:20260420T143539Z
DTSTART:20150408T160000
DTEND:20150408T181500
SUMMARY:'Enfermedad y Discriminación en la Jurisprudencia Comunitaria'
TZID:Europe/Madrid
UID:f1f31cc5-d85c-11e4-a743-3fe5a96f4a88
URL:http://www.upo.es/portal/impe/web/contenido/f1f31cc5-d85c-11e4-a743-3fe5a96f4a88
LOCATION:Edificio 7\, sala de grados
END:VEVENT
BEGIN:VEVENT
DTSTAMP:20260420T143539Z
DTSTART:20150411T083000
DTEND:20150411T180000
SUMMARY:Sendero Los Molinos - Castillo de Cortegana
TZID:Europe/Madrid
UID:a04d8248-dd25-11e4-b79e-3fe5a96f4a88
URL:http://www.upo.es/portal/impe/web/contenido/a04d8248-dd25-11e4-b79e-3fe5a96f4a88
LOCATION:Cortegana
END:VEVENT
BEGIN:VEVENT
DTSTAMP:20260420T143539Z
DTSTART:20150408T103000
DTEND:20150411T183000
SUMMARY:Semana Verde 2015
TZID:Europe/Madrid
UID:4fbb10aa-d86a-11e4-a743-3fe5a96f4a88
URL:http://www.upo.es/portal/impe/web/contenido/4fbb10aa-d86a-11e4-a743-3fe5a96f4a88
LOCATION:UPO
END:VEVENT
BEGIN:VEVENT
DTSTAMP:20260420T143539Z
DTSTART:20150409T093000
DTEND:20150409T123000
SUMMARY:Taller 'Prácticas y Becas'
TZID:Europe/Madrid
UID:25755afb-d862-11e4-a743-3fe5a96f4a88
URL:http://www.upo.es/portal/impe/web/contenido/25755afb-d862-11e4-a743-3fe5a96f4a88
LOCATION:Edificio Alexander von Humboldt\, despacho 73
END:VEVENT
BEGIN:VEVENT
DTSTAMP:20260420T143539Z
DTSTART:20150410T170000
DTEND:20150410T200000
SUMMARY:'La guerra de castas en la conformación del imaginario yucateco'
TZID:Europe/Madrid
UID:066bffba-ddce-11e4-9f60-3fe5a96f4a88
URL:http://www.upo.es/portal/impe/web/contenido/066bffba-ddce-11e4-9f60-3fe5a96f4a88
LOCATION:EEHA. C/ Alfonso XII\, 16
END:VEVENT
BEGIN:VEVENT
DTSTAMP:20260420T143539Z
DTSTART:20150409T163000
DTEND:20150409T183000
SUMMARY:'Cuestiones jurídicas en torno a las redes sociales'
TZID:Europe/Madrid
UID:3d670a20-ddcb-11e4-9f60-3fe5a96f4a88
URL:http://www.upo.es/portal/impe/web/contenido/3d670a20-ddcb-11e4-9f60-3fe5a96f4a88
LOCATION:UPO
END:VEVENT
BEGIN:VEVENT
DTSTAMP:20260420T143539Z
DTSTART:20150409T160000
DTEND:20150410T153000
SUMMARY:III Congreso de Estudiantes de la Facultad de Derecho
TZID:Europe/Madrid
UID:6f4d16a5-c70e-11e4-8b93-3fe5a96f4a88
URL:http://www.upo.es/portal/impe/web/contenido/6f4d16a5-c70e-11e4-8b93-3fe5a96f4a88
LOCATION:Paraninfo
END:VEVENT
BEGIN:VEVENT
DTSTAMP:20260420T143539Z
DTSTART:20150409T150000
DTEND:20150410T183000
SUMMARY:Renovación de la Acreditación de los grados en ADE\, Finanzas y Contabilidad y el Máster en Dirección de Empresas
TZID:Europe/Madrid
UID:791cbd34-deb9-11e4-82b2-3fe5a96f4a88
URL:http://www.upo.es/portal/impe/web/contenido/791cbd34-deb9-11e4-82b2-3fe5a96f4a88
LOCATION:UPO
END:VEVENT
BEGIN:VEVENT
DTSTAMP:20260420T143539Z
DTSTART:20150410T093000
DTEND:20150410T200000
SUMMARY:VIII Seminario Internacional de Psicología del Deporte
TZID:Europe/Madrid
UID:50e159ec-cef6-11e4-9f20-3fe5a96f4a88
URL:http://www.upo.es/portal/impe/web/contenido/50e159ec-cef6-11e4-9f20-3fe5a96f4a88
LOCATION:Edificio 10\, aula 1
END:VEVENT
BEGIN:VEVENT
DTSTAMP:20260420T143539Z
DTSTART:20150410T093000
DTEND:20150410T132900
SUMMARY:Taller 'Búsqueda de empleo en el sector social'
TZID:Europe/Madrid
UID:3045f3ad-d863-11e4-a743-3fe5a96f4a88
URL:http://www.upo.es/portal/impe/web/contenido/3045f3ad-d863-11e4-a743-3fe5a96f4a88
LOCATION:Edificio Alexander von Humboldt\, despacho 73
END:VEVENT
BEGIN:VEVENT
DTSTAMP:20260420T143539Z
DTSTART:20150410T093000
DTEND:20150410T133400
SUMMARY:Taller 'Búsqueda activa de empleo en el sector empresa'
TZID:Europe/Madrid
UID:f5bb1dc4-d863-11e4-a743-3fe5a96f4a88
URL:http://www.upo.es/portal/impe/web/contenido/f5bb1dc4-d863-11e4-a743-3fe5a96f4a88
LOCATION:Edificio Alexander von Humboldt\, despacho 73
END:VEVENT
BEGIN:VEVENT
DTSTAMP:20260420T143539Z
DTSTART:20150410T093000
DTEND:20150410T110000
SUMMARY:'Usar la música como herramienta de enseñanza en las clases de español'
TZID:Europe/Madrid
UID:048a83be-deb9-11e4-82b2-3fe5a96f4a88
URL:http://www.upo.es/portal/impe/web/contenido/048a83be-deb9-11e4-82b2-3fe5a96f4a88
LOCATION:Edificio 29\, aula 106
END:VEVENT
BEGIN:VEVENT
DTSTAMP:20260420T143539Z
DTSTART:20150411T090000
DTEND:20150411T180000
SUMMARY:Senderismo: Cerro del Hierro
TZID:Europe/Madrid
UID:884e79eb-d85d-11e4-a743-3fe5a96f4a88
URL:http://www.upo.es/portal/impe/web/contenido/884e79eb-d85d-11e4-a743-3fe5a96f4a88
LOCATION:Salida desde el Prado de San Sebastián
END:VEVENT
BEGIN:VEVENT
DTSTAMP:20260420T143539Z
DTSTART:20150413T180000
DTEND:20150413T193000
SUMMARY:'Internationalization\, Translation\, Literature'
TZID:Europe/Madrid
UID:cd6f190d-e1c3-11e4-a6ed-3fe5a96f4a88
URL:http://www.upo.es/portal/impe/web/contenido/cd6f190d-e1c3-11e4-a6ed-3fe5a96f4a88
LOCATION:Edificio 6\, sala de grados
END:VEVENT
BEGIN:VEVENT
DTSTAMP:20260420T143539Z
DTSTART:20150414T203000
DTEND:20150414T221500
SUMMARY:'Democracia es igualdad: Una conquista del feminismo'
TZID:Europe/Madrid
UID:f1278bf7-df61-11e4-9f1c-3fe5a96f4a88
URL:http://www.upo.es/portal/impe/web/contenido/f1278bf7-df61-11e4-9f1c-3fe5a96f4a88
LOCATION:Diputación de Sevilla. Salón de Plenos
END:VEVENT
BEGIN:VEVENT
DTSTAMP:20260420T143539Z
DTSTART:20150415T100000
DTEND:20150415T130000
SUMMARY:Taller 'Motivación para emprender (CADE)'
TZID:Europe/Madrid
UID:46af4c7a-d864-11e4-a743-3fe5a96f4a88
URL:http://www.upo.es/portal/impe/web/contenido/46af4c7a-d864-11e4-a743-3fe5a96f4a88
LOCATION:Edificio Alexander von Humboldt\, despacho 73
END:VEVENT
BEGIN:VEVENT
DTSTAMP:20260420T143539Z
DTSTART:20150415T170000
DTEND:20150415T190000
SUMMARY:'Crisis política y cambio constitucional'
TZID:Europe/Madrid
UID:a06a412b-df60-11e4-9f1c-3fe5a96f4a88
URL:http://www.upo.es/portal/impe/web/contenido/a06a412b-df60-11e4-9f1c-3fe5a96f4a88
LOCATION:Edificio Alexander von Humboldt\, aula B.11
END:VEVENT
BEGIN:VEVENT
DTSTAMP:20260420T143539Z
DTSTART:20150415T123000
DTEND:20150415T140000
SUMMARY:'¿Qué puede aportar el flamenco al Trabajo Social y la Educación Social?'
TZID:Europe/Madrid
UID:7d236819-e1b5-11e4-a6ed-3fe5a96f4a88
URL:http://www.upo.es/portal/impe/web/contenido/7d236819-e1b5-11e4-a6ed-3fe5a96f4a88
LOCATION:Paraninfo
END:VEVENT
BEGIN:VEVENT
DTSTAMP:20260420T143539Z
DTSTART:20150415T083000
DTEND:20150415T210000
SUMMARY:Exposición 'Más Meninas'
TZID:Europe/Madrid
UID:1210ca93-e370-11e4-8df2-3fe5a96f4a88
URL:http://www.upo.es/portal/impe/web/contenido/1210ca93-e370-11e4-8df2-3fe5a96f4a88
LOCATION:Biblioteca-CRAI\, área de exposiciones
END:VEVENT
BEGIN:VEVENT
DTSTAMP:20260420T143539Z
DTSTART:20150415T193000
DTEND:20150415T213000
SUMMARY:Jornadas 'Derechos Fundamentales y Cine'
TZID:Europe/Madrid
UID:3da41354-e371-11e4-8df2-3fe5a96f4a88
URL:http://www.upo.es/portal/impe/web/contenido/3da41354-e371-11e4-8df2-3fe5a96f4a88
LOCATION:Edificio 7\, sala de grados
END:VEVENT
BEGIN:VEVENT
DTSTAMP:20260420T143539Z
DTSTART:20150416T093000
DTEND:20150416T140000
SUMMARY:XV Jornadas de Escuela Cultura de Paz
TZID:Europe/Madrid
UID:1da84c9a-d492-11e4-9a68-3fe5a96f4a88
URL:http://www.upo.es/portal/impe/web/contenido/1da84c9a-d492-11e4-9a68-3fe5a96f4a88
LOCATION:UPO
END:VEVENT
BEGIN:VEVENT
DTSTAMP:20260420T143539Z
DTSTART:20150416T093000
DTEND:20150416T133000
SUMMARY:Taller 'Búsqueda activa de empleo ambiental'
TZID:Europe/Madrid
UID:937cbf70-d865-11e4-a743-3fe5a96f4a88
URL:http://www.upo.es/portal/impe/web/contenido/937cbf70-d865-11e4-a743-3fe5a96f4a88
LOCATION:Edificio Alexander von Humboldt\, despacho 73
END:VEVENT
BEGIN:VEVENT
DTSTAMP:20260420T143539Z
DTSTART:20150416T111500
DTEND:20150416T111500
SUMMARY:Estudiar en Australia: sesión informativa
TZID:Europe/Madrid
UID:f2ebb733-e1bd-11e4-a6ed-3fe5a96f4a88
URL:http://www.upo.es/portal/impe/web/contenido/f2ebb733-e1bd-11e4-a6ed-3fe5a96f4a88
LOCATION:Edificio 6\, sala de grados
END:VEVENT
BEGIN:VEVENT
DTSTAMP:20260420T143539Z
DTSTART:20150416T090000
DTEND:20150416T200000
SUMMARY:Jorn. Rendimiento Físico y Deportivo
TZID:Europe/Madrid
UID:6b3bc256-e373-11e4-8df2-3fe5a96f4a88
URL:http://www.upo.es/portal/impe/web/contenido/6b3bc256-e373-11e4-8df2-3fe5a96f4a88
LOCATION:Instituto de la Grasa\, salón de actos
END:VEVENT
BEGIN:VEVENT
DTSTAMP:20260420T143539Z
DTSTART:20150416T160000
DTEND:20150416T190000
SUMMARY:Budismo
TZID:Europe/Madrid
UID:e9603552-e376-11e4-8df2-3fe5a96f4a88
URL:http://www.upo.es/portal/impe/web/contenido/e9603552-e376-11e4-8df2-3fe5a96f4a88
LOCATION:Edificio 2\, sala de juntas 2.
END:VEVENT
BEGIN:VEVENT
DTSTAMP:20260420T143539Z
DTSTART:20150417T093000
DTEND:20150417T133000
SUMMARY:Taller 'Recursos para la mejora del inglés'
TZID:Europe/Madrid
UID:f3c2bd86-d865-11e4-a743-3fe5a96f4a88
URL:http://www.upo.es/portal/impe/web/contenido/f3c2bd86-d865-11e4-a743-3fe5a96f4a88
LOCATION:Edificio Alexander von Humboldt\, despacho 73
END:VEVENT
BEGIN:VEVENT
DTSTAMP:20260420T143539Z
DTSTART:20150417T090000
DTEND:20150417T120000
SUMMARY:Curso práctico de identificación de cantos de aves
TZID:Europe/Madrid
UID:712b029e-d868-11e4-a743-3fe5a96f4a88
URL:http://www.upo.es/portal/impe/web/contenido/712b029e-d868-11e4-a743-3fe5a96f4a88
LOCATION:Biblioteca\, Sala de Grados 2. UPO
END:VEVENT
BEGIN:VEVENT
DTSTAMP:20260420T143539Z
DTSTART:20150417T100000
DTEND:20150417T140000
SUMMARY:Jornada de Puertas Abiertas de la Facultad de Ciencias del Deporte
TZID:Europe/Madrid
UID:80b6cdf0-e375-11e4-8df2-3fe5a96f4a88
URL:http://www.upo.es/portal/impe/web/contenido/80b6cdf0-e375-11e4-8df2-3fe5a96f4a88
LOCATION:UPO
END:VEVENT
BEGIN:VEVENT
DTSTAMP:20260420T143539Z
DTSTART:20150418T110000
DTEND:20150418T140000
SUMMARY:I Carrera Popular UPO
TZID:Europe/Madrid
UID:5dceb0a5-dd31-11e4-b79e-3fe5a96f4a88
URL:http://www.upo.es/portal/impe/web/contenido/5dceb0a5-dd31-11e4-b79e-3fe5a96f4a88
LOCATION:Campus de la UPO
END:VEVENT
BEGIN:VEVENT
DTSTAMP:20260420T143539Z
DTSTART:20150422T200000
DTEND:20150422T214500
SUMMARY:Concierto homenaje a María del Carmen Arroyo
TZID:Europe/Madrid
UID:c0effd00-e341-11e4-8663-3fe5a96f4a88
URL:http://www.upo.es/portal/impe/web/contenido/c0effd00-e341-11e4-8663-3fe5a96f4a88
LOCATION:Universidad de Granada. Rectorado
END:VEVENT
BEGIN:VEVENT
DTSTAMP:20260420T143539Z
DTSTART:20150428T093000
DTEND:20150428T113000
SUMMARY:Taller 'Búsqueda activa de empleo y marca personal'
TZID:Europe/Madrid
UID:0f4be5cb-e1c0-11e4-a6ed-3fe5a96f4a88
URL:http://www.upo.es/portal/impe/web/contenido/0f4be5cb-e1c0-11e4-a6ed-3fe5a96f4a88
LOCATION:Edificio Alexander von Humboldt\, despacho 73.
END:VEVENT
BEGIN:VEVENT
DTSTAMP:20260420T143539Z
DTSTART:20150429T093000
DTEND:20150429T113000
SUMMARY:Taller 'Empleo público'
TZID:Europe/Madrid
UID:8acc42f1-e1c0-11e4-a6ed-3fe5a96f4a88
URL:http://www.upo.es/portal/impe/web/contenido/8acc42f1-e1c0-11e4-a6ed-3fe5a96f4a88
LOCATION:Edificio Alexander von Humboldt\, despacho 73
END:VEVENT
BEGIN:VEVENT
DTSTAMP:20260420T143539Z
DTSTART:20150429T170000
DTEND:20150429T190000
SUMMARY:'El federalismo en España. Recorridos históricos'
TZID:Europe/Madrid
UID:d5057614-ece8-11e4-ae9a-3fe5a96f4a88
URL:http://www.upo.es/portal/impe/web/contenido/d5057614-ece8-11e4-ae9a-3fe5a96f4a88
LOCATION:Edificio Alexander von Humboldt\, aula B.04
END:VEVENT
BEGIN:VEVENT
DTSTAMP:20260420T143539Z
DTSTART:20150429T130000
DTEND:20150429T150000
SUMMARY:Día de la Danza
TZID:Europe/Madrid
UID:885d7079-eda1-11e4-b751-3fe5a96f4a88
URL:http://www.upo.es/portal/impe/web/contenido/885d7079-eda1-11e4-b751-3fe5a96f4a88
LOCATION:Campus de la UPO
END:VEVENT
BEGIN:VEVENT
DTSTAMP:20260420T143539Z
DTSTART:20150430T093000
DTEND:20150430T123000
SUMMARY:Taller 'Prácticas y Becas'
TZID:Europe/Madrid
UID:5a411667-e1c1-11e4-a6ed-3fe5a96f4a88
URL:http://www.upo.es/portal/impe/web/contenido/5a411667-e1c1-11e4-a6ed-3fe5a96f4a88
LOCATION:Edificio Alexander von Humboldt\, despacho 73
END:VEVENT
END:VCALENDAR
