BEGIN:VCALENDAR
PRODID:-//Ben Fortuna//iCal4j 0.9.20//ES
VERSION:2.0
CALSCALE:GREGORIAN
BEGIN:VEVENT
DTSTAMP:20260424T144746Z
DTSTART:20260520T090000
DTEND:20260522T193000
SUMMARY:The Conference
TZID:Europe/Madrid
UID:137585
URL:http://www.upo.es/portal/impe/web/contenido/137585
LOCATION:Universidad Pablo de Olavide\, Carretera de Utrera\, Sevilla\, España
END:VEVENT
END:VCALENDAR
